BEGIN:VCALENDAR
VERSION:2.0
PRODID:-//Vancouver Vikings - ECPv6.15.20//NONSGML v1.0//EN
CALSCALE:GREGORIAN
METHOD:PUBLISH
X-ORIGINAL-URL:https://vancouvervikings.ca
X-WR-CALDESC:Events for Vancouver Vikings
REFRESH-INTERVAL;VALUE=DURATION:PT1H
X-Robots-Tag:noindex
X-PUBLISHED-TTL:PT1H
BEGIN:VTIMEZONE
TZID:America/Vancouver
BEGIN:DAYLIGHT
TZOFFSETFROM:-0800
TZOFFSETTO:-0700
TZNAME:PDT
DTSTART:20240310T100000
END:DAYLIGHT
BEGIN:STANDARD
TZOFFSETFROM:-0700
TZOFFSETTO:-0800
TZNAME:PST
DTSTART:20241103T090000
END:STANDARD
BEGIN:DAYLIGHT
TZOFFSETFROM:-0800
TZOFFSETTO:-0700
TZNAME:PDT
DTSTART:20250309T100000
END:DAYLIGHT
BEGIN:STANDARD
TZOFFSETFROM:-0700
TZOFFSETTO:-0800
TZNAME:PST
DTSTART:20251102T090000
END:STANDARD
BEGIN:DAYLIGHT
TZOFFSETFROM:-0800
TZOFFSETTO:-0700
TZNAME:PDT
DTSTART:20260308T100000
END:DAYLIGHT
BEGIN:STANDARD
TZOFFSETFROM:-0700
TZOFFSETTO:-0800
TZNAME:PST
DTSTART:20261101T090000
END:STANDARD
END:VTIMEZONE
BEGIN:VEVENT
DTSTART;TZID=America/Vancouver:20250619T190000
DTEND;TZID=America/Vancouver:20250619T200000
DTSTAMP:20260424T104148
CREATED:20250503T184021Z
LAST-MODIFIED:20250509T042549Z
UID:10006109-1750359600-1750363200@vancouvervikings.ca
SUMMARY:SR2 - UBC
DESCRIPTION:
URL:https://vancouvervikings.ca/event/sr2-ubc-22/
LOCATION:UBC Aquatic Centre\, 6121 University Blvd\, Vancouver\, BC\, V6T 1Z1\, Canada
CATEGORIES:SNR 2
END:VEVENT
BEGIN:VEVENT
DTSTART;TZID=America/Vancouver:20250619T190000
DTEND;TZID=America/Vancouver:20250619T200000
DTSTAMP:20260424T104148
CREATED:20250503T184021Z
LAST-MODIFIED:20250509T042549Z
UID:10006110-1750359600-1750363200@vancouvervikings.ca
SUMMARY:INT1 - UBC
DESCRIPTION:
URL:https://vancouvervikings.ca/event/int1-ubc/
LOCATION:UBC Aquatic Centre\, 6121 University Blvd\, Vancouver\, BC\, V6T 1Z1\, Canada
CATEGORIES:INT 1
END:VEVENT
BEGIN:VEVENT
DTSTART;TZID=America/Vancouver:20250618T190000
DTEND;TZID=America/Vancouver:20250618T200000
DTSTAMP:20260424T104148
CREATED:20250503T183805Z
LAST-MODIFIED:20250509T042549Z
UID:10006103-1750273200-1750276800@vancouvervikings.ca
SUMMARY:SR1 - UBC
DESCRIPTION:
URL:https://vancouvervikings.ca/event/sr1-ubc-34/
LOCATION:UBC Aquatic Centre\, 6121 University Blvd\, Vancouver\, BC\, V6T 1Z1\, Canada
CATEGORIES:SNR 1
END:VEVENT
BEGIN:VEVENT
DTSTART;TZID=America/Vancouver:20250617T190000
DTEND;TZID=America/Vancouver:20250617T200000
DTSTAMP:20260424T104148
CREATED:20250503T183722Z
LAST-MODIFIED:20250509T042549Z
UID:10006096-1750186800-1750190400@vancouvervikings.ca
SUMMARY:SR2 - UBC
DESCRIPTION:
URL:https://vancouvervikings.ca/event/sr2-ubc-21/
LOCATION:UBC Aquatic Centre\, 6121 University Blvd\, Vancouver\, BC\, V6T 1Z1\, Canada
CATEGORIES:SNR 2
END:VEVENT
BEGIN:VEVENT
DTSTART;TZID=America/Vancouver:20250617T190000
DTEND;TZID=America/Vancouver:20250617T200000
DTSTAMP:20260424T104148
CREATED:20250503T183721Z
LAST-MODIFIED:20250509T042549Z
UID:10006095-1750186800-1750190400@vancouvervikings.ca
SUMMARY:SR1 - UBC
DESCRIPTION:
URL:https://vancouvervikings.ca/event/sr1-ubc-33/
LOCATION:UBC Aquatic Centre\, 6121 University Blvd\, Vancouver\, BC\, V6T 1Z1\, Canada
CATEGORIES:SNR 1
END:VEVENT
BEGIN:VEVENT
DTSTART;TZID=America/Vancouver:20250616T190000
DTEND;TZID=America/Vancouver:20250616T200000
DTSTAMP:20260424T104148
CREATED:20250503T183652Z
LAST-MODIFIED:20250509T042610Z
UID:10006088-1750100400-1750104000@vancouvervikings.ca
SUMMARY:SR1 - UBC
DESCRIPTION:
URL:https://vancouvervikings.ca/event/sr1-ubc-32/
LOCATION:UBC Aquatic Centre\, 6121 University Blvd\, Vancouver\, BC\, V6T 1Z1\, Canada
CATEGORIES:SNR 1
END:VEVENT
BEGIN:VEVENT
DTSTART;TZID=America/Vancouver:20250612T190000
DTEND;TZID=America/Vancouver:20250612T200000
DTSTAMP:20260424T104148
CREATED:20250503T183621Z
LAST-MODIFIED:20250509T042611Z
UID:10006074-1749754800-1749758400@vancouvervikings.ca
SUMMARY:SR2 - UBC
DESCRIPTION:
URL:https://vancouvervikings.ca/event/sr2-ubc-20/
LOCATION:UBC Aquatic Centre\, 6121 University Blvd\, Vancouver\, BC\, V6T 1Z1\, Canada
CATEGORIES:SNR 2
END:VEVENT
BEGIN:VEVENT
DTSTART;TZID=America/Vancouver:20250612T190000
DTEND;TZID=America/Vancouver:20250612T200000
DTSTAMP:20260424T104148
CREATED:20250503T183607Z
LAST-MODIFIED:20250509T042625Z
UID:10006073-1749754800-1749758400@vancouvervikings.ca
SUMMARY:SR1 - UBC
DESCRIPTION:
URL:https://vancouvervikings.ca/event/sr1-ubc-31/
LOCATION:UBC Aquatic Centre\, 6121 University Blvd\, Vancouver\, BC\, V6T 1Z1\, Canada
CATEGORIES:SNR 1
END:VEVENT
BEGIN:VEVENT
DTSTART;TZID=America/Vancouver:20250611T190000
DTEND;TZID=America/Vancouver:20250611T200000
DTSTAMP:20260424T104148
CREATED:20250503T183552Z
LAST-MODIFIED:20250509T042625Z
UID:10006067-1749668400-1749672000@vancouvervikings.ca
SUMMARY:SR1 - UBC
DESCRIPTION:
URL:https://vancouvervikings.ca/event/sr1-ubc-30/
LOCATION:UBC Aquatic Centre\, 6121 University Blvd\, Vancouver\, BC\, V6T 1Z1\, Canada
CATEGORIES:SNR 1
END:VEVENT
BEGIN:VEVENT
DTSTART;TZID=America/Vancouver:20250610T190000
DTEND;TZID=America/Vancouver:20250610T200000
DTSTAMP:20260424T104148
CREATED:20250503T183536Z
LAST-MODIFIED:20250509T042625Z
UID:10006059-1749582000-1749585600@vancouvervikings.ca
SUMMARY:SR1 - UBC
DESCRIPTION:
URL:https://vancouvervikings.ca/event/sr1-ubc-29/
LOCATION:UBC Aquatic Centre\, 6121 University Blvd\, Vancouver\, BC\, V6T 1Z1\, Canada
CATEGORIES:SNR 1
END:VEVENT
BEGIN:VEVENT
DTSTART;TZID=America/Vancouver:20250610T190000
DTEND;TZID=America/Vancouver:20250610T200000
DTSTAMP:20260424T104148
CREATED:20250503T183536Z
LAST-MODIFIED:20250509T042625Z
UID:10006060-1749582000-1749585600@vancouvervikings.ca
SUMMARY:SR2 - UBC
DESCRIPTION:
URL:https://vancouvervikings.ca/event/sr2-ubc-19/
LOCATION:UBC Aquatic Centre\, 6121 University Blvd\, Vancouver\, BC\, V6T 1Z1\, Canada
CATEGORIES:SNR 2
END:VEVENT
BEGIN:VEVENT
DTSTART;TZID=America/Vancouver:20250609T190000
DTEND;TZID=America/Vancouver:20250609T200000
DTSTAMP:20260424T104148
CREATED:20250503T183507Z
LAST-MODIFIED:20250509T042647Z
UID:10006052-1749495600-1749499200@vancouvervikings.ca
SUMMARY:SR1 - UBC
DESCRIPTION:
URL:https://vancouvervikings.ca/event/sr1-ubc-28/
LOCATION:UBC Aquatic Centre\, 6121 University Blvd\, Vancouver\, BC\, V6T 1Z1\, Canada
CATEGORIES:SNR 1
END:VEVENT
BEGIN:VEVENT
DTSTART;TZID=America/Vancouver:20250605T190000
DTEND;TZID=America/Vancouver:20250605T200000
DTSTAMP:20260424T104148
CREATED:20250503T183307Z
LAST-MODIFIED:20250509T042255Z
UID:10006038-1749150000-1749153600@vancouvervikings.ca
SUMMARY:SR2 - UBC
DESCRIPTION:
URL:https://vancouvervikings.ca/event/sr2-ubc-18/
LOCATION:UBC Aquatic Centre\, 6121 University Blvd\, Vancouver\, BC\, V6T 1Z1\, Canada
CATEGORIES:SNR 2
END:VEVENT
BEGIN:VEVENT
DTSTART;TZID=America/Vancouver:20250604T190000
DTEND;TZID=America/Vancouver:20250604T200000
DTSTAMP:20260424T104148
CREATED:20250503T183127Z
LAST-MODIFIED:20250509T042255Z
UID:10006030-1749063600-1749067200@vancouvervikings.ca
SUMMARY:SR1 - UBC
DESCRIPTION:
URL:https://vancouvervikings.ca/event/sr1-ubc-27/
LOCATION:UBC Aquatic Centre\, 6121 University Blvd\, Vancouver\, BC\, V6T 1Z1\, Canada
CATEGORIES:SNR 1
END:VEVENT
BEGIN:VEVENT
DTSTART;TZID=America/Vancouver:20250603T190000
DTEND;TZID=America/Vancouver:20250603T200000
DTSTAMP:20260424T104148
CREATED:20250503T183033Z
LAST-MODIFIED:20250509T042254Z
UID:10006022-1748977200-1748980800@vancouvervikings.ca
SUMMARY:SR1 - UBC
DESCRIPTION:
URL:https://vancouvervikings.ca/event/sr1-ubc-26/
LOCATION:UBC Aquatic Centre\, 6121 University Blvd\, Vancouver\, BC\, V6T 1Z1\, Canada
CATEGORIES:SNR 1
END:VEVENT
BEGIN:VEVENT
DTSTART;TZID=America/Vancouver:20250603T190000
DTEND;TZID=America/Vancouver:20250603T200000
DTSTAMP:20260424T104148
CREATED:20250503T183033Z
LAST-MODIFIED:20250509T042254Z
UID:10006023-1748977200-1748980800@vancouvervikings.ca
SUMMARY:SR2 - UBC
DESCRIPTION:
URL:https://vancouvervikings.ca/event/sr2-ubc-17/
LOCATION:UBC Aquatic Centre\, 6121 University Blvd\, Vancouver\, BC\, V6T 1Z1\, Canada
CATEGORIES:SNR 2
END:VEVENT
BEGIN:VEVENT
DTSTART;TZID=America/Vancouver:20250602T190000
DTEND;TZID=America/Vancouver:20250602T200000
DTSTAMP:20260424T104148
CREATED:20250503T182832Z
LAST-MODIFIED:20250509T041441Z
UID:10006015-1748890800-1748894400@vancouvervikings.ca
SUMMARY:SR1 - UBC
DESCRIPTION:
URL:https://vancouvervikings.ca/event/sr1-ubc-25/
LOCATION:UBC Aquatic Centre\, 6121 University Blvd\, Vancouver\, BC\, V6T 1Z1\, Canada
CATEGORIES:SNR 1
END:VEVENT
BEGIN:VEVENT
DTSTART;TZID=America/Vancouver:20250529T190000
DTEND;TZID=America/Vancouver:20250529T200000
DTSTAMP:20260424T104148
CREATED:20250503T181659Z
LAST-MODIFIED:20250509T041440Z
UID:10006000-1748545200-1748548800@vancouvervikings.ca
SUMMARY:SR1 - UBC
DESCRIPTION:
URL:https://vancouvervikings.ca/event/sr1-ubc-24/
LOCATION:UBC Aquatic Centre\, 6121 University Blvd\, Vancouver\, BC\, V6T 1Z1\, Canada
CATEGORIES:SNR 1
END:VEVENT
BEGIN:VEVENT
DTSTART;TZID=America/Vancouver:20250529T190000
DTEND;TZID=America/Vancouver:20250529T200000
DTSTAMP:20260424T104148
CREATED:20250503T181659Z
LAST-MODIFIED:20250509T041025Z
UID:10005999-1748545200-1748548800@vancouvervikings.ca
SUMMARY:SR2 - UBC
DESCRIPTION:
URL:https://vancouvervikings.ca/event/sr2-ubc-16/
LOCATION:UBC Aquatic Centre\, 6121 University Blvd\, Vancouver\, BC\, V6T 1Z1\, Canada
CATEGORIES:SNR 2
END:VEVENT
BEGIN:VEVENT
DTSTART;TZID=America/Vancouver:20250528T190000
DTEND;TZID=America/Vancouver:20250528T200000
DTSTAMP:20260424T104148
CREATED:20250503T181457Z
LAST-MODIFIED:20250509T041025Z
UID:10005993-1748458800-1748462400@vancouvervikings.ca
SUMMARY:SR1 - UBC
DESCRIPTION:
URL:https://vancouvervikings.ca/event/sr1-ubc-23/
LOCATION:UBC Aquatic Centre\, 6121 University Blvd\, Vancouver\, BC\, V6T 1Z1\, Canada
CATEGORIES:SNR 1
END:VEVENT
BEGIN:VEVENT
DTSTART;TZID=America/Vancouver:20250527T190000
DTEND;TZID=America/Vancouver:20250527T200000
DTSTAMP:20260424T104148
CREATED:20250503T181427Z
LAST-MODIFIED:20250509T041025Z
UID:10005986-1748372400-1748376000@vancouvervikings.ca
SUMMARY:SR2 - UBC
DESCRIPTION:
URL:https://vancouvervikings.ca/event/sr2-ubc-15/
LOCATION:UBC Aquatic Centre\, 6121 University Blvd\, Vancouver\, BC\, V6T 1Z1\, Canada
CATEGORIES:SNR 2
END:VEVENT
BEGIN:VEVENT
DTSTART;TZID=America/Vancouver:20250527T190000
DTEND;TZID=America/Vancouver:20250527T200000
DTSTAMP:20260424T104148
CREATED:20250503T181427Z
LAST-MODIFIED:20250509T041025Z
UID:10005985-1748372400-1748376000@vancouvervikings.ca
SUMMARY:SR1 - UBC
DESCRIPTION:
URL:https://vancouvervikings.ca/event/sr1-ubc-22/
LOCATION:UBC Aquatic Centre\, 6121 University Blvd\, Vancouver\, BC\, V6T 1Z1\, Canada
CATEGORIES:SNR 1
END:VEVENT
BEGIN:VEVENT
DTSTART;TZID=America/Vancouver:20250526T190000
DTEND;TZID=America/Vancouver:20250526T200000
DTSTAMP:20260424T104148
CREATED:20250503T051052Z
LAST-MODIFIED:20250509T041006Z
UID:10005842-1748286000-1748289600@vancouvervikings.ca
SUMMARY:SR1 - UBC
DESCRIPTION:
URL:https://vancouvervikings.ca/event/sr1-ubc-12/
LOCATION:UBC Aquatic Centre\, 6121 University Blvd\, Vancouver\, BC\, V6T 1Z1\, Canada
CATEGORIES:SNR 1
END:VEVENT
BEGIN:VEVENT
DTSTART;TZID=America/Vancouver:20250522T190000
DTEND;TZID=America/Vancouver:20250522T200000
DTSTAMP:20260424T104149
CREATED:20250503T181013Z
LAST-MODIFIED:20250509T040937Z
UID:10005941-1747940400-1747944000@vancouvervikings.ca
SUMMARY:SR2 - UBC
DESCRIPTION:
URL:https://vancouvervikings.ca/event/sr2-ubc-13/
LOCATION:UBC Aquatic Centre\, 6121 University Blvd\, Vancouver\, BC\, V6T 1Z1\, Canada
CATEGORIES:SNR 2
END:VEVENT
BEGIN:VEVENT
DTSTART;TZID=America/Vancouver:20250521T190000
DTEND;TZID=America/Vancouver:20250521T200000
DTSTAMP:20260424T104149
CREATED:20250503T180958Z
LAST-MODIFIED:20250509T040937Z
UID:10005935-1747854000-1747857600@vancouvervikings.ca
SUMMARY:SR1 - UBC
DESCRIPTION:
URL:https://vancouvervikings.ca/event/sr1-ubc-20/
LOCATION:UBC Aquatic Centre\, 6121 University Blvd\, Vancouver\, BC\, V6T 1Z1\, Canada
CATEGORIES:SNR 1
END:VEVENT
BEGIN:VEVENT
DTSTART;TZID=America/Vancouver:20250520T190000
DTEND;TZID=America/Vancouver:20250520T200000
DTSTAMP:20260424T104149
CREATED:20250503T180911Z
LAST-MODIFIED:20250509T040937Z
UID:10005928-1747767600-1747771200@vancouvervikings.ca
SUMMARY:SR2 - UBC
DESCRIPTION:
URL:https://vancouvervikings.ca/event/sr2-ubc-12/
LOCATION:UBC Aquatic Centre\, 6121 University Blvd\, Vancouver\, BC\, V6T 1Z1\, Canada
CATEGORIES:SNR 2
END:VEVENT
BEGIN:VEVENT
DTSTART;TZID=America/Vancouver:20250520T190000
DTEND;TZID=America/Vancouver:20250520T200000
DTSTAMP:20260424T104149
CREATED:20250503T180910Z
LAST-MODIFIED:20250509T040937Z
UID:10005927-1747767600-1747771200@vancouvervikings.ca
SUMMARY:SR1 - UBC
DESCRIPTION:
URL:https://vancouvervikings.ca/event/sr1-ubc-19/
LOCATION:UBC Aquatic Centre\, 6121 University Blvd\, Vancouver\, BC\, V6T 1Z1\, Canada
CATEGORIES:SNR 1
END:VEVENT
BEGIN:VEVENT
DTSTART;TZID=America/Vancouver:20250514T190000
DTEND;TZID=America/Vancouver:20250514T200000
DTSTAMP:20260424T104149
CREATED:20250503T180137Z
LAST-MODIFIED:20250507T041847Z
UID:10005863-1747249200-1747252800@vancouvervikings.ca
SUMMARY:SR1 - UBC
DESCRIPTION:
URL:https://vancouvervikings.ca/event/sr1-ubc-14/
LOCATION:UBC Aquatic Centre\, 6121 University Blvd\, Vancouver\, BC\, V6T 1Z1\, Canada
CATEGORIES:SNR 1
END:VEVENT
BEGIN:VEVENT
DTSTART;TZID=America/Vancouver:20250513T190000
DTEND;TZID=America/Vancouver:20250513T200000
DTSTAMP:20260424T104149
CREATED:20250503T180122Z
LAST-MODIFIED:20250509T034526Z
UID:10005855-1747162800-1747166400@vancouvervikings.ca
SUMMARY:SR1 - UBC
DESCRIPTION:
URL:https://vancouvervikings.ca/event/sr1-ubc-13/
LOCATION:UBC Aquatic Centre\, 6121 University Blvd\, Vancouver\, BC\, V6T 1Z1\, Canada
CATEGORIES:SNR 1
END:VEVENT
BEGIN:VEVENT
DTSTART;TZID=America/Vancouver:20250513T190000
DTEND;TZID=America/Vancouver:20250513T200000
DTSTAMP:20260424T104149
CREATED:20250503T180122Z
LAST-MODIFIED:20250509T033645Z
UID:10005856-1747162800-1747166400@vancouvervikings.ca
SUMMARY:SR2 - UBC
DESCRIPTION:
URL:https://vancouvervikings.ca/event/sr2-ubc-9/
LOCATION:UBC Aquatic Centre\, 6121 University Blvd\, Vancouver\, BC\, V6T 1Z1\, Canada
CATEGORIES:SNR 2
END:VEVENT
END:VCALENDAR