BEGIN:VCALENDAR
VERSION:2.0
PRODID:-//Vancouver Vikings - ECPv6.15.20//NONSGML v1.0//EN
CALSCALE:GREGORIAN
METHOD:PUBLISH
X-WR-CALNAME:Vancouver Vikings
X-ORIGINAL-URL:https://vancouvervikings.ca
X-WR-CALDESC:Events for Vancouver Vikings
REFRESH-INTERVAL;VALUE=DURATION:PT1H
X-Robots-Tag:noindex
X-PUBLISHED-TTL:PT1H
BEGIN:VTIMEZONE
TZID:America/Vancouver
BEGIN:DAYLIGHT
TZOFFSETFROM:-0800
TZOFFSETTO:-0700
TZNAME:PDT
DTSTART:20240310T100000
END:DAYLIGHT
BEGIN:STANDARD
TZOFFSETFROM:-0700
TZOFFSETTO:-0800
TZNAME:PST
DTSTART:20241103T090000
END:STANDARD
BEGIN:DAYLIGHT
TZOFFSETFROM:-0800
TZOFFSETTO:-0700
TZNAME:PDT
DTSTART:20250309T100000
END:DAYLIGHT
BEGIN:STANDARD
TZOFFSETFROM:-0700
TZOFFSETTO:-0800
TZNAME:PST
DTSTART:20251102T090000
END:STANDARD
BEGIN:DAYLIGHT
TZOFFSETFROM:-0800
TZOFFSETTO:-0700
TZNAME:PDT
DTSTART:20260308T100000
END:DAYLIGHT
BEGIN:STANDARD
TZOFFSETFROM:-0700
TZOFFSETTO:-0800
TZNAME:PST
DTSTART:20261101T090000
END:STANDARD
END:VTIMEZONE
BEGIN:VEVENT
DTSTART;TZID=America/Vancouver:20250807T190000
DTEND;TZID=America/Vancouver:20250807T200000
DTSTAMP:20260424T060328
CREATED:20250722T190250Z
LAST-MODIFIED:20250722T200432Z
UID:10006439-1754593200-1754596800@vancouvervikings.ca
SUMMARY:SR1-UBC
DESCRIPTION:
URL:https://vancouvervikings.ca/event/sr1-ubc-8/
LOCATION:UBC Aquatic Centre\, 6121 University Blvd\, Vancouver\, BC\, V6T 1Z1\, Canada
CATEGORIES:SNR 1
END:VEVENT
BEGIN:VEVENT
DTSTART;TZID=America/Vancouver:20250806T190000
DTEND;TZID=America/Vancouver:20250806T200000
DTSTAMP:20260424T060328
CREATED:20250722T190049Z
LAST-MODIFIED:20250722T200432Z
UID:10006437-1754506800-1754510400@vancouvervikings.ca
SUMMARY:SR1-UBC
DESCRIPTION:
URL:https://vancouvervikings.ca/event/sr1-ubc-7/
LOCATION:UBC Aquatic Centre\, 6121 University Blvd\, Vancouver\, BC\, V6T 1Z1\, Canada
CATEGORIES:SNR 1
END:VEVENT
BEGIN:VEVENT
DTSTART;TZID=America/Vancouver:20250805T190000
DTEND;TZID=America/Vancouver:20250805T200000
DTSTAMP:20260424T060328
CREATED:20250722T190625Z
LAST-MODIFIED:20250722T200518Z
UID:10006450-1754420400-1754424000@vancouvervikings.ca
SUMMARY:SR2-UBC
DESCRIPTION:
URL:https://vancouvervikings.ca/event/sr2-ubc-4/
LOCATION:UBC Aquatic Centre\, 6121 University Blvd\, Vancouver\, BC\, V6T 1Z1\, Canada
CATEGORIES:SNR 2
END:VEVENT
BEGIN:VEVENT
DTSTART;TZID=America/Vancouver:20250805T190000
DTEND;TZID=America/Vancouver:20250805T190000
DTSTAMP:20260424T060328
CREATED:20250722T190049Z
LAST-MODIFIED:20250722T200432Z
UID:10006436-1754420400-1754420400@vancouvervikings.ca
SUMMARY:SR1-UBC
DESCRIPTION:
URL:https://vancouvervikings.ca/event/sr1-ubc-6/
LOCATION:UBC Aquatic Centre\, 6121 University Blvd\, Vancouver\, BC\, V6T 1Z1\, Canada
CATEGORIES:SNR 1
END:VEVENT
BEGIN:VEVENT
DTSTART;TZID=America/Vancouver:20250731T190000
DTEND;TZID=America/Vancouver:20250731T200000
DTSTAMP:20260424T060328
CREATED:20250722T190033Z
LAST-MODIFIED:20250722T200426Z
UID:10006433-1753988400-1753992000@vancouvervikings.ca
SUMMARY:SR1-UBC
DESCRIPTION:
URL:https://vancouvervikings.ca/event/sr1-ubc-5/
LOCATION:UBC Aquatic Centre\, 6121 University Blvd\, Vancouver\, BC\, V6T 1Z1\, Canada
CATEGORIES:SNR 1
END:VEVENT
BEGIN:VEVENT
DTSTART;TZID=America/Vancouver:20250730T190000
DTEND;TZID=America/Vancouver:20250730T200000
DTSTAMP:20260424T060328
CREATED:20250722T190033Z
LAST-MODIFIED:20250722T200426Z
UID:10006431-1753902000-1753905600@vancouvervikings.ca
SUMMARY:SR1-UBC
DESCRIPTION:
URL:https://vancouvervikings.ca/event/sr1-ubc-4/
LOCATION:UBC Aquatic Centre\, 6121 University Blvd\, Vancouver\, BC\, V6T 1Z1\, Canada
CATEGORIES:SNR 1
END:VEVENT
BEGIN:VEVENT
DTSTART;TZID=America/Vancouver:20250729T190000
DTEND;TZID=America/Vancouver:20250729T200000
DTSTAMP:20260424T060328
CREATED:20250722T190451Z
LAST-MODIFIED:20250722T200511Z
UID:10006444-1753815600-1753819200@vancouvervikings.ca
SUMMARY:SR2-UBC
DESCRIPTION:
URL:https://vancouvervikings.ca/event/sr2-ubc-3/
LOCATION:UBC Aquatic Centre\, 6121 University Blvd\, Vancouver\, BC\, V6T 1Z1\, Canada
CATEGORIES:SNR 2
END:VEVENT
BEGIN:VEVENT
DTSTART;TZID=America/Vancouver:20250729T190000
DTEND;TZID=America/Vancouver:20250729T200000
DTSTAMP:20260424T060328
CREATED:20250722T190033Z
LAST-MODIFIED:20250722T200426Z
UID:10006430-1753815600-1753819200@vancouvervikings.ca
SUMMARY:SR1-UBC
DESCRIPTION:
URL:https://vancouvervikings.ca/event/sr1-ubc-3/
LOCATION:UBC Aquatic Centre\, 6121 University Blvd\, Vancouver\, BC\, V6T 1Z1\, Canada
CATEGORIES:SNR 1
END:VEVENT
BEGIN:VEVENT
DTSTART;TZID=America/Vancouver:20250728T190000
DTEND;TZID=America/Vancouver:20250728T200000
DTSTAMP:20260424T060328
CREATED:20250722T185939Z
LAST-MODIFIED:20250722T200426Z
UID:10006428-1753729200-1753732800@vancouvervikings.ca
SUMMARY:SR1-UBC
DESCRIPTION:
URL:https://vancouvervikings.ca/event/sr1-ubc-2/
LOCATION:UBC Aquatic Centre\, 6121 University Blvd\, Vancouver\, BC\, V6T 1Z1\, Canada
CATEGORIES:SNR 1
END:VEVENT
BEGIN:VEVENT
DTSTART;TZID=America/Vancouver:20250724T190000
DTEND;TZID=America/Vancouver:20250724T200000
DTSTAMP:20260424T060328
CREATED:20250623T031053Z
LAST-MODIFIED:20250623T051428Z
UID:10006340-1753383600-1753387200@vancouvervikings.ca
SUMMARY:SR1 - UBC
DESCRIPTION:
URL:https://vancouvervikings.ca/event/snr-1-ubc-21/
LOCATION:UBC Aquatic Centre\, 6121 University Blvd\, Vancouver\, BC\, V6T 1Z1\, Canada
CATEGORIES:SNR 1
END:VEVENT
BEGIN:VEVENT
DTSTART;TZID=America/Vancouver:20250723T190000
DTEND;TZID=America/Vancouver:20250723T200000
DTSTAMP:20260424T060328
CREATED:20250623T031008Z
LAST-MODIFIED:20250623T051428Z
UID:10006330-1753297200-1753300800@vancouvervikings.ca
SUMMARY:SR1 - UBC
DESCRIPTION:
URL:https://vancouvervikings.ca/event/snr-1-ubc-20/
LOCATION:UBC Aquatic Centre\, 6121 University Blvd\, Vancouver\, BC\, V6T 1Z1\, Canada
CATEGORIES:SNR 1
END:VEVENT
BEGIN:VEVENT
DTSTART;TZID=America/Vancouver:20250722T190000
DTEND;TZID=America/Vancouver:20250722T200000
DTSTAMP:20260424T060328
CREATED:20250629T060730Z
LAST-MODIFIED:20250629T060730Z
UID:10006364-1753210800-1753214400@vancouvervikings.ca
SUMMARY:SR2 - UBC
DESCRIPTION:
URL:https://vancouvervikings.ca/event/sr2-ubc-2/
LOCATION:UBC Aquatic Centre\, 6121 University Blvd\, Vancouver\, BC\, V6T 1Z1\, Canada
CATEGORIES:SNR 2
END:VEVENT
BEGIN:VEVENT
DTSTART;TZID=America/Vancouver:20250722T190000
DTEND;TZID=America/Vancouver:20250722T200000
DTSTAMP:20260424T060328
CREATED:20250623T030938Z
LAST-MODIFIED:20250623T051428Z
UID:10006320-1753210800-1753214400@vancouvervikings.ca
SUMMARY:SR1 - UBC
DESCRIPTION:
URL:https://vancouvervikings.ca/event/snr-1-ubc-19/
LOCATION:UBC Aquatic Centre\, 6121 University Blvd\, Vancouver\, BC\, V6T 1Z1\, Canada
CATEGORIES:SNR 1
END:VEVENT
BEGIN:VEVENT
DTSTART;TZID=America/Vancouver:20250721T190000
DTEND;TZID=America/Vancouver:20250721T200000
DTSTAMP:20260424T060328
CREATED:20250623T030153Z
LAST-MODIFIED:20250623T051422Z
UID:10006310-1753124400-1753128000@vancouvervikings.ca
SUMMARY:SR1 - UBC
DESCRIPTION:
URL:https://vancouvervikings.ca/event/snr-1-ubc-18/
LOCATION:UBC Aquatic Centre\, 6121 University Blvd\, Vancouver\, BC\, V6T 1Z1\, Canada
CATEGORIES:SNR 1
END:VEVENT
BEGIN:VEVENT
DTSTART;TZID=America/Vancouver:20250715T190000
DTEND;TZID=America/Vancouver:20250715T200000
DTSTAMP:20260424T060328
CREATED:20250629T053705Z
LAST-MODIFIED:20250629T053705Z
UID:10006359-1752606000-1752609600@vancouvervikings.ca
SUMMARY:SR2 - UBC
DESCRIPTION:
URL:https://vancouvervikings.ca/event/sr2-ubc/
LOCATION:UBC Aquatic Centre\, 6121 University Blvd\, Vancouver\, BC\, V6T 1Z1\, Canada
CATEGORIES:SNR 2
END:VEVENT
BEGIN:VEVENT
DTSTART;TZID=America/Vancouver:20250715T190000
DTEND;TZID=America/Vancouver:20250715T200000
DTSTAMP:20260424T060328
CREATED:20250623T025952Z
LAST-MODIFIED:20250623T051422Z
UID:10006276-1752606000-1752609600@vancouvervikings.ca
SUMMARY:SR1 - UBC
DESCRIPTION:
URL:https://vancouvervikings.ca/event/snr-1-ubc-15/
LOCATION:UBC Aquatic Centre\, 6121 University Blvd\, Vancouver\, BC\, V6T 1Z1\, Canada
CATEGORIES:SNR 1
END:VEVENT
BEGIN:VEVENT
DTSTART;TZID=America/Vancouver:20250714T190000
DTEND;TZID=America/Vancouver:20250714T200000
DTSTAMP:20260424T060328
CREATED:20250623T025922Z
LAST-MODIFIED:20250623T051415Z
UID:10006267-1752519600-1752523200@vancouvervikings.ca
SUMMARY:SR1 - UBC
DESCRIPTION:
URL:https://vancouvervikings.ca/event/snr-1-ubc-14/
LOCATION:UBC Aquatic Centre\, 6121 University Blvd\, Vancouver\, BC\, V6T 1Z1\, Canada
CATEGORIES:SNR 1
END:VEVENT
BEGIN:VEVENT
DTSTART;TZID=America/Vancouver:20250710T190000
DTEND;TZID=America/Vancouver:20250710T200000
DTSTAMP:20260424T060328
CREATED:20250623T025822Z
LAST-MODIFIED:20250623T051415Z
UID:10006249-1752174000-1752177600@vancouvervikings.ca
SUMMARY:SR1 - UBC
DESCRIPTION:
URL:https://vancouvervikings.ca/event/snr-1-ubc-13/
LOCATION:UBC Aquatic Centre\, 6121 University Blvd\, Vancouver\, BC\, V6T 1Z1\, Canada
CATEGORIES:SNR 1
END:VEVENT
BEGIN:VEVENT
DTSTART;TZID=America/Vancouver:20250709T190000
DTEND;TZID=America/Vancouver:20250709T200000
DTSTAMP:20260424T060328
CREATED:20250623T025752Z
LAST-MODIFIED:20250623T051415Z
UID:10006240-1752087600-1752091200@vancouvervikings.ca
SUMMARY:SR1 - UBC
DESCRIPTION:
URL:https://vancouvervikings.ca/event/snr-1-ubc-12/
LOCATION:UBC Aquatic Centre\, 6121 University Blvd\, Vancouver\, BC\, V6T 1Z1\, Canada
CATEGORIES:SNR 1
END:VEVENT
BEGIN:VEVENT
DTSTART;TZID=America/Vancouver:20250708T190000
DTEND;TZID=America/Vancouver:20250708T200000
DTSTAMP:20260424T060328
CREATED:20250623T025722Z
LAST-MODIFIED:20250623T051415Z
UID:10006230-1752001200-1752004800@vancouvervikings.ca
SUMMARY:SR1 - UBC
DESCRIPTION:
URL:https://vancouvervikings.ca/event/snr-1-ubc-11/
LOCATION:UBC Aquatic Centre\, 6121 University Blvd\, Vancouver\, BC\, V6T 1Z1\, Canada
CATEGORIES:SNR 1
END:VEVENT
BEGIN:VEVENT
DTSTART;TZID=America/Vancouver:20250708T190000
DTEND;TZID=America/Vancouver:20250708T200000
DTSTAMP:20260424T060328
CREATED:20250623T025637Z
LAST-MODIFIED:20250629T051552Z
UID:10006216-1752001200-1752004800@vancouvervikings.ca
SUMMARY:SR2 - UBC
DESCRIPTION:
URL:https://vancouvervikings.ca/event/snr-2-sgs-7/
LOCATION:UBC Aquatic Centre\, 6121 University Blvd\, Vancouver\, BC\, V6T 1Z1\, Canada
CATEGORIES:SNR 2
END:VEVENT
BEGIN:VEVENT
DTSTART;TZID=America/Vancouver:20250707T190000
DTEND;TZID=America/Vancouver:20250707T200000
DTSTAMP:20260424T060328
CREATED:20250623T025652Z
LAST-MODIFIED:20250623T051415Z
UID:10006220-1751914800-1751918400@vancouvervikings.ca
SUMMARY:SR1 - UBC
DESCRIPTION:
URL:https://vancouvervikings.ca/event/snr-1-ubc-10/
LOCATION:UBC Aquatic Centre\, 6121 University Blvd\, Vancouver\, BC\, V6T 1Z1\, Canada
CATEGORIES:SNR 1
END:VEVENT
BEGIN:VEVENT
DTSTART;TZID=America/Vancouver:20250703T190000
DTEND;TZID=America/Vancouver:20250703T200000
DTSTAMP:20260424T060328
CREATED:20250623T025552Z
LAST-MODIFIED:20250623T051408Z
UID:10006201-1751569200-1751572800@vancouvervikings.ca
SUMMARY:SR1 - UBC
DESCRIPTION:
URL:https://vancouvervikings.ca/event/snr-1-ubc-9/
LOCATION:UBC Aquatic Centre\, 6121 University Blvd\, Vancouver\, BC\, V6T 1Z1\, Canada
CATEGORIES:SNR 1
END:VEVENT
BEGIN:VEVENT
DTSTART;TZID=America/Vancouver:20250702T190000
DTEND;TZID=America/Vancouver:20250702T200000
DTSTAMP:20260424T060328
CREATED:20250623T025515Z
LAST-MODIFIED:20250623T051408Z
UID:10006191-1751482800-1751486400@vancouvervikings.ca
SUMMARY:SR1 - UBC
DESCRIPTION:
URL:https://vancouvervikings.ca/event/snr-1-ubc-8/
LOCATION:UBC Aquatic Centre\, 6121 University Blvd\, Vancouver\, BC\, V6T 1Z1\, Canada
CATEGORIES:SNR 1
END:VEVENT
BEGIN:VEVENT
DTSTART;TZID=America/Vancouver:20250630T190000
DTEND;TZID=America/Vancouver:20250630T200000
DTSTAMP:20260424T060328
CREATED:20250623T025159Z
LAST-MODIFIED:20250623T051408Z
UID:10006181-1751310000-1751313600@vancouvervikings.ca
SUMMARY:SR1 - UBC
DESCRIPTION:
URL:https://vancouvervikings.ca/event/snr-1-ubc-7/
LOCATION:UBC Aquatic Centre\, 6121 University Blvd\, Vancouver\, BC\, V6T 1Z1\, Canada
CATEGORIES:SNR 1
END:VEVENT
BEGIN:VEVENT
DTSTART;TZID=America/Vancouver:20250627T190000
DTEND;TZID=America/Vancouver:20250627T200000
DTSTAMP:20260424T060328
CREATED:20250623T025112Z
LAST-MODIFIED:20250623T051408Z
UID:10006163-1751050800-1751054400@vancouvervikings.ca
SUMMARY:SR1 - UBC
DESCRIPTION:
URL:https://vancouvervikings.ca/event/snr-1-ubc-5/
LOCATION:UBC Aquatic Centre\, 6121 University Blvd\, Vancouver\, BC\, V6T 1Z1\, Canada
CATEGORIES:SNR 1
END:VEVENT
BEGIN:VEVENT
DTSTART;TZID=America/Vancouver:20250626T190000
DTEND;TZID=America/Vancouver:20250626T200000
DTSTAMP:20260424T060328
CREATED:20250623T025057Z
LAST-MODIFIED:20250623T051401Z
UID:10006157-1750964400-1750968000@vancouvervikings.ca
SUMMARY:SR1 - UBC
DESCRIPTION:
URL:https://vancouvervikings.ca/event/snr-1-ubc-4/
LOCATION:UBC Aquatic Centre\, 6121 University Blvd\, Vancouver\, BC\, V6T 1Z1\, Canada
CATEGORIES:SNR 1
END:VEVENT
BEGIN:VEVENT
DTSTART;TZID=America/Vancouver:20250625T190000
DTEND;TZID=America/Vancouver:20250625T200000
DTSTAMP:20260424T060328
CREATED:20250623T025027Z
LAST-MODIFIED:20250623T051401Z
UID:10006151-1750878000-1750881600@vancouvervikings.ca
SUMMARY:SR1 - UBC
DESCRIPTION:
URL:https://vancouvervikings.ca/event/snr-1-ubc-3/
LOCATION:UBC Aquatic Centre\, 6121 University Blvd\, Vancouver\, BC\, V6T 1Z1\, Canada
CATEGORIES:SNR 1
END:VEVENT
BEGIN:VEVENT
DTSTART;TZID=America/Vancouver:20250624T190000
DTEND;TZID=America/Vancouver:20250624T200000
DTSTAMP:20260424T060328
CREATED:20250623T025012Z
LAST-MODIFIED:20250623T051401Z
UID:10006143-1750791600-1750795200@vancouvervikings.ca
SUMMARY:SR1 - UBC
DESCRIPTION:
URL:https://vancouvervikings.ca/event/snr-1-ubc-2/
LOCATION:UBC Aquatic Centre\, 6121 University Blvd\, Vancouver\, BC\, V6T 1Z1\, Canada
CATEGORIES:SNR 1
END:VEVENT
BEGIN:VEVENT
DTSTART;TZID=America/Vancouver:20250623T190000
DTEND;TZID=America/Vancouver:20250623T200000
DTSTAMP:20260424T060328
CREATED:20250623T024942Z
LAST-MODIFIED:20250623T051401Z
UID:10006135-1750705200-1750708800@vancouvervikings.ca
SUMMARY:SR1 - UBC
DESCRIPTION:
URL:https://vancouvervikings.ca/event/snr-1-ubc/
LOCATION:UBC Aquatic Centre\, 6121 University Blvd\, Vancouver\, BC\, V6T 1Z1\, Canada
CATEGORIES:SNR 1
END:VEVENT
END:VCALENDAR