BEGIN:VCALENDAR
VERSION:2.0
PRODID:-//Vancouver Vikings - ECPv6.15.20//NONSGML v1.0//EN
CALSCALE:GREGORIAN
METHOD:PUBLISH
X-WR-CALNAME:Vancouver Vikings
X-ORIGINAL-URL:https://vancouvervikings.ca
X-WR-CALDESC:Events for Vancouver Vikings
REFRESH-INTERVAL;VALUE=DURATION:PT1H
X-Robots-Tag:noindex
X-PUBLISHED-TTL:PT1H
BEGIN:VTIMEZONE
TZID:America/Vancouver
BEGIN:DAYLIGHT
TZOFFSETFROM:-0800
TZOFFSETTO:-0700
TZNAME:PDT
DTSTART:20220313T100000
END:DAYLIGHT
BEGIN:STANDARD
TZOFFSETFROM:-0700
TZOFFSETTO:-0800
TZNAME:PST
DTSTART:20221106T090000
END:STANDARD
BEGIN:DAYLIGHT
TZOFFSETFROM:-0800
TZOFFSETTO:-0700
TZNAME:PDT
DTSTART:20230312T100000
END:DAYLIGHT
BEGIN:STANDARD
TZOFFSETFROM:-0700
TZOFFSETTO:-0800
TZNAME:PST
DTSTART:20231105T090000
END:STANDARD
BEGIN:DAYLIGHT
TZOFFSETFROM:-0800
TZOFFSETTO:-0700
TZNAME:PDT
DTSTART:20240310T100000
END:DAYLIGHT
BEGIN:STANDARD
TZOFFSETFROM:-0700
TZOFFSETTO:-0800
TZNAME:PST
DTSTART:20241103T090000
END:STANDARD
BEGIN:DAYLIGHT
TZOFFSETFROM:-0800
TZOFFSETTO:-0700
TZNAME:PDT
DTSTART:20250309T100000
END:DAYLIGHT
BEGIN:STANDARD
TZOFFSETFROM:-0700
TZOFFSETTO:-0800
TZNAME:PST
DTSTART:20251102T090000
END:STANDARD
BEGIN:DAYLIGHT
TZOFFSETFROM:-0800
TZOFFSETTO:-0700
TZNAME:PDT
DTSTART:20260308T100000
END:DAYLIGHT
BEGIN:STANDARD
TZOFFSETFROM:-0700
TZOFFSETTO:-0800
TZNAME:PST
DTSTART:20261101T090000
END:STANDARD
END:VTIMEZONE
BEGIN:VEVENT
DTSTART;VALUE=DATE:20250621
DTEND;VALUE=DATE:20250623
DTSTAMP:20260420T221721
CREATED:20250530T045745Z
LAST-MODIFIED:20250530T045745Z
UID:10006121-1750464000-1750636799@vancouvervikings.ca
SUMMARY:NSWC MEET
DESCRIPTION:
URL:https://vancouvervikings.ca/event/nswc-meet-4/
LOCATION:North Shore Winter Club\, 1325 E. Keith Road\, North Vancouver\, BC\, V7J 1J3\, Canada
CATEGORIES:Meets
END:VEVENT
BEGIN:VEVENT
DTSTART;VALUE=DATE:20240804
DTEND;VALUE=DATE:20240805
DTSTAMP:20260420T221721
CREATED:20240428T002823Z
LAST-MODIFIED:20240723T004756Z
UID:10001032-1722729600-1722815999@vancouvervikings.ca
SUMMARY:V&D Regionals
DESCRIPTION:2024 VDSSA Regional Meet Package
URL:https://vancouvervikings.ca/event/vd-regionals/2024-08-04/
LOCATION:North Shore Winter Club\, 1325 E. Keith Road\, North Vancouver\, BC\, V7J 1J3\, Canada
CATEGORIES:Meets
END:VEVENT
BEGIN:VEVENT
DTSTART;VALUE=DATE:20240803
DTEND;VALUE=DATE:20240804
DTSTAMP:20260420T221721
CREATED:20240428T002823Z
LAST-MODIFIED:20240723T004756Z
UID:10001031-1722643200-1722729599@vancouvervikings.ca
SUMMARY:V&D Regionals
DESCRIPTION:2024 VDSSA Regional Meet Package
URL:https://vancouvervikings.ca/event/vd-regionals/2024-08-03/
LOCATION:North Shore Winter Club\, 1325 E. Keith Road\, North Vancouver\, BC\, V7J 1J3\, Canada
CATEGORIES:Meets
END:VEVENT
BEGIN:VEVENT
DTSTART;VALUE=DATE:20240623
DTEND;VALUE=DATE:20240624
DTSTAMP:20260420T221721
CREATED:20240605T195443Z
LAST-MODIFIED:20240605T195443Z
UID:10001024-1719100800-1719187199@vancouvervikings.ca
SUMMARY:NSWC Meet
DESCRIPTION:2024 NSWC Marlins AB Meet Package
URL:https://vancouvervikings.ca/event/nswc-meet-3/
LOCATION:North Shore Winter Club\, 1325 E. Keith Road\, North Vancouver\, BC\, V7J 1J3\, Canada
CATEGORIES:Meets
END:VEVENT
BEGIN:VEVENT
DTSTART;VALUE=DATE:20240622
DTEND;VALUE=DATE:20240623
DTSTAMP:20260420T221721
CREATED:20240605T195000Z
LAST-MODIFIED:20240605T195009Z
UID:10001023-1719014400-1719100799@vancouvervikings.ca
SUMMARY:NSWC Meet
DESCRIPTION:2024 NSWC Marlins AB Meet Package
URL:https://vancouvervikings.ca/event/nswc-meet-2/
LOCATION:North Shore Winter Club\, 1325 E. Keith Road\, North Vancouver\, BC\, V7J 1J3\, Canada
CATEGORIES:Meets
END:VEVENT
BEGIN:VEVENT
DTSTART;VALUE=DATE:20240612
DTEND;VALUE=DATE:20240613
DTSTAMP:20260420T221721
CREATED:20240605T195935Z
LAST-MODIFIED:20240605T200015Z
UID:10004425-1718150400-1718236799@vancouvervikings.ca
SUMMARY:NSWC Marlins Development Meet
DESCRIPTION:NSWC Marlins 2024 Development meet package (1)
URL:https://vancouvervikings.ca/event/nswc-marlins-development-meet/
LOCATION:North Shore Winter Club\, 1325 E. Keith Road\, North Vancouver\, BC\, V7J 1J3\, Canada
CATEGORIES:Meets
END:VEVENT
BEGIN:VEVENT
DTSTART;VALUE=DATE:20230805
DTEND;VALUE=DATE:20230807
DTSTAMP:20260420T221721
CREATED:20230409T002507Z
LAST-MODIFIED:20230722T001718Z
UID:10000068-1691193600-1691366399@vancouvervikings.ca
SUMMARY:V&D Regionals Meet
DESCRIPTION:Meet Package
URL:https://vancouvervikings.ca/event/vd-regionals-meet/
LOCATION:North Shore Winter Club\, 1325 E. Keith Road\, North Vancouver\, BC\, V7J 1J3\, Canada
CATEGORIES:Meets
END:VEVENT
END:VCALENDAR