BEGIN:VCALENDAR
VERSION:2.0
PRODID:-//Vancouver Vikings - ECPv6.15.20//NONSGML v1.0//EN
CALSCALE:GREGORIAN
METHOD:PUBLISH
X-WR-CALNAME:Vancouver Vikings
X-ORIGINAL-URL:https://vancouvervikings.ca
X-WR-CALDESC:Events for Vancouver Vikings
REFRESH-INTERVAL;VALUE=DURATION:PT1H
X-Robots-Tag:noindex
X-PUBLISHED-TTL:PT1H
BEGIN:VTIMEZONE
TZID:America/Vancouver
BEGIN:DAYLIGHT
TZOFFSETFROM:-0800
TZOFFSETTO:-0700
TZNAME:PDT
DTSTART:20240310T100000
END:DAYLIGHT
BEGIN:STANDARD
TZOFFSETFROM:-0700
TZOFFSETTO:-0800
TZNAME:PST
DTSTART:20241103T090000
END:STANDARD
BEGIN:DAYLIGHT
TZOFFSETFROM:-0800
TZOFFSETTO:-0700
TZNAME:PDT
DTSTART:20250309T100000
END:DAYLIGHT
BEGIN:STANDARD
TZOFFSETFROM:-0700
TZOFFSETTO:-0800
TZNAME:PST
DTSTART:20251102T090000
END:STANDARD
BEGIN:DAYLIGHT
TZOFFSETFROM:-0800
TZOFFSETTO:-0700
TZNAME:PDT
DTSTART:20260308T100000
END:DAYLIGHT
BEGIN:STANDARD
TZOFFSETFROM:-0700
TZOFFSETTO:-0800
TZNAME:PST
DTSTART:20261101T090000
END:STANDARD
END:VTIMEZONE
BEGIN:VEVENT
DTSTART;TZID=America/Vancouver:20250525T080000
DTEND;TZID=America/Vancouver:20250525T090000
DTSTAMP:20260424T102548
CREATED:20250503T181058Z
LAST-MODIFIED:20250509T041006Z
UID:10005954-1748160000-1748163600@vancouvervikings.ca
SUMMARY:Novice - KE
DESCRIPTION:
URL:https://vancouvervikings.ca/event/novice-ke-3/
LOCATION:Kerrisdale Community Centre\, 5851 West Boulevard\, Vancouver\, BC\, V6M 3W9\, Canada
CATEGORIES:NOV
END:VEVENT
BEGIN:VEVENT
DTSTART;TZID=America/Vancouver:20250525T080000
DTEND;TZID=America/Vancouver:20250525T090000
DTSTAMP:20260424T102549
CREATED:20250503T181043Z
LAST-MODIFIED:20250509T042505Z
UID:10005953-1748160000-1748163600@vancouvervikings.ca
SUMMARY:JR3 - KE
DESCRIPTION:
URL:https://vancouvervikings.ca/event/jr3-ke-3/
LOCATION:Kerrisdale Community Centre\, 5851 West Boulevard\, Vancouver\, BC\, V6M 3W9\, Canada
CATEGORIES:JNR3
END:VEVENT
BEGIN:VEVENT
DTSTART;TZID=America/Vancouver:20250525T070000
DTEND;TZID=America/Vancouver:20250525T080000
DTSTAMP:20260424T102549
CREATED:20250503T181043Z
LAST-MODIFIED:20250509T041005Z
UID:10005952-1748156400-1748160000@vancouvervikings.ca
SUMMARY:JR2 - KE
DESCRIPTION:
URL:https://vancouvervikings.ca/event/jr2-ke-3/
LOCATION:Kerrisdale Community Centre\, 5851 West Boulevard\, Vancouver\, BC\, V6M 3W9\, Canada
CATEGORIES:JNR 2
END:VEVENT
BEGIN:VEVENT
DTSTART;TZID=America/Vancouver:20250525T070000
DTEND;TZID=America/Vancouver:20250525T080000
DTSTAMP:20260424T102549
CREATED:20250503T181043Z
LAST-MODIFIED:20250509T041005Z
UID:10005951-1748156400-1748160000@vancouvervikings.ca
SUMMARY:JR1 - KE
DESCRIPTION:
URL:https://vancouvervikings.ca/event/jr1-ke-3/
LOCATION:Kerrisdale Community Centre\, 5851 West Boulevard\, Vancouver\, BC\, V6M 3W9\, Canada
CATEGORIES:JNR 1
END:VEVENT
BEGIN:VEVENT
DTSTART;TZID=America/Vancouver:20250518T080000
DTEND;TZID=America/Vancouver:20250518T090000
DTSTAMP:20260424T102549
CREATED:20250503T180430Z
LAST-MODIFIED:20250509T042458Z
UID:10005879-1747555200-1747558800@vancouvervikings.ca
SUMMARY:JR3 - KE
DESCRIPTION:
URL:https://vancouvervikings.ca/event/jr3-ke/
LOCATION:Kerrisdale Community Centre\, 5851 West Boulevard\, Vancouver\, BC\, V6M 3W9\, Canada
CATEGORIES:JNR3
END:VEVENT
BEGIN:VEVENT
DTSTART;TZID=America/Vancouver:20250518T080000
DTEND;TZID=America/Vancouver:20250518T090000
DTSTAMP:20260424T102549
CREATED:20250503T180430Z
LAST-MODIFIED:20250509T040414Z
UID:10005880-1747555200-1747558800@vancouvervikings.ca
SUMMARY:Novice - KE
DESCRIPTION:
URL:https://vancouvervikings.ca/event/novice-ke/
LOCATION:Kerrisdale Community Centre\, 5851 West Boulevard\, Vancouver\, BC\, V6M 3W9\, Canada
CATEGORIES:NOV
END:VEVENT
BEGIN:VEVENT
DTSTART;TZID=America/Vancouver:20250518T070000
DTEND;TZID=America/Vancouver:20250518T080000
DTSTAMP:20260424T102549
CREATED:20250503T180415Z
LAST-MODIFIED:20250509T040414Z
UID:10005877-1747551600-1747555200@vancouvervikings.ca
SUMMARY:JR1 - KE
DESCRIPTION:
URL:https://vancouvervikings.ca/event/jr1-ke/
LOCATION:Kerrisdale Community Centre\, 5851 West Boulevard\, Vancouver\, BC\, V6M 3W9\, Canada
CATEGORIES:JNR 1
END:VEVENT
BEGIN:VEVENT
DTSTART;TZID=America/Vancouver:20250518T070000
DTEND;TZID=America/Vancouver:20250518T080000
DTSTAMP:20260424T102549
CREATED:20250503T180415Z
LAST-MODIFIED:20250509T040414Z
UID:10005878-1747551600-1747555200@vancouvervikings.ca
SUMMARY:JR2 - KE
DESCRIPTION:
URL:https://vancouvervikings.ca/event/jr2-ke/
LOCATION:Kerrisdale Community Centre\, 5851 West Boulevard\, Vancouver\, BC\, V6M 3W9\, Canada
CATEGORIES:JNR 2
END:VEVENT
BEGIN:VEVENT
DTSTART;TZID=America/Vancouver:20250511T080000
DTEND;TZID=America/Vancouver:20250511T090000
DTSTAMP:20260424T102549
CREATED:20250503T180828Z
LAST-MODIFIED:20250509T042505Z
UID:10005916-1746950400-1746954000@vancouvervikings.ca
SUMMARY:JR3 - KE
DESCRIPTION:
URL:https://vancouvervikings.ca/event/jr3-ke-2/
LOCATION:Kerrisdale Community Centre\, 5851 West Boulevard\, Vancouver\, BC\, V6M 3W9\, Canada
CATEGORIES:JNR3
END:VEVENT
BEGIN:VEVENT
DTSTART;TZID=America/Vancouver:20250511T080000
DTEND;TZID=America/Vancouver:20250511T090000
DTSTAMP:20260424T102549
CREATED:20250503T180828Z
LAST-MODIFIED:20250509T035742Z
UID:10005917-1746950400-1746954000@vancouvervikings.ca
SUMMARY:Novice - KE
DESCRIPTION:
URL:https://vancouvervikings.ca/event/novice-ke-2/
LOCATION:Kerrisdale Community Centre\, 5851 West Boulevard\, Vancouver\, BC\, V6M 3W9\, Canada
CATEGORIES:NOV
END:VEVENT
BEGIN:VEVENT
DTSTART;TZID=America/Vancouver:20250511T070000
DTEND;TZID=America/Vancouver:20250511T080000
DTSTAMP:20260424T102549
CREATED:20250503T180828Z
LAST-MODIFIED:20250509T034825Z
UID:10005914-1746946800-1746950400@vancouvervikings.ca
SUMMARY:JR1 - KE
DESCRIPTION:
URL:https://vancouvervikings.ca/event/jr1-ke-2/
LOCATION:Kerrisdale Community Centre\, 5851 West Boulevard\, Vancouver\, BC\, V6M 3W9\, Canada
CATEGORIES:JNR 1
END:VEVENT
BEGIN:VEVENT
DTSTART;TZID=America/Vancouver:20250511T070000
DTEND;TZID=America/Vancouver:20250511T080000
DTSTAMP:20260424T102549
CREATED:20250503T180828Z
LAST-MODIFIED:20250509T035013Z
UID:10005915-1746946800-1746950400@vancouvervikings.ca
SUMMARY:JR2 - KE
DESCRIPTION:
URL:https://vancouvervikings.ca/event/jr2-ke-2/
LOCATION:Kerrisdale Community Centre\, 5851 West Boulevard\, Vancouver\, BC\, V6M 3W9\, Canada
CATEGORIES:JNR 2
END:VEVENT
END:VCALENDAR