BEGIN:VCALENDAR
VERSION:2.0
PRODID:-//Vancouver Vikings - ECPv6.15.20//NONSGML v1.0//EN
CALSCALE:GREGORIAN
METHOD:PUBLISH
X-WR-CALNAME:Vancouver Vikings
X-ORIGINAL-URL:https://vancouvervikings.ca
X-WR-CALDESC:Events for Vancouver Vikings
REFRESH-INTERVAL;VALUE=DURATION:PT1H
X-Robots-Tag:noindex
X-PUBLISHED-TTL:PT1H
BEGIN:VTIMEZONE
TZID:America/Vancouver
BEGIN:DAYLIGHT
TZOFFSETFROM:-0800
TZOFFSETTO:-0700
TZNAME:PDT
DTSTART:20230312T100000
END:DAYLIGHT
BEGIN:STANDARD
TZOFFSETFROM:-0700
TZOFFSETTO:-0800
TZNAME:PST
DTSTART:20231105T090000
END:STANDARD
BEGIN:DAYLIGHT
TZOFFSETFROM:-0800
TZOFFSETTO:-0700
TZNAME:PDT
DTSTART:20240310T100000
END:DAYLIGHT
BEGIN:STANDARD
TZOFFSETFROM:-0700
TZOFFSETTO:-0800
TZNAME:PST
DTSTART:20241103T090000
END:STANDARD
BEGIN:DAYLIGHT
TZOFFSETFROM:-0800
TZOFFSETTO:-0700
TZNAME:PDT
DTSTART:20250309T100000
END:DAYLIGHT
BEGIN:STANDARD
TZOFFSETFROM:-0700
TZOFFSETTO:-0800
TZNAME:PST
DTSTART:20251102T090000
END:STANDARD
END:VTIMEZONE
BEGIN:VEVENT
DTSTART;VALUE=DATE:20240803
DTEND;VALUE=DATE:20240804
DTSTAMP:20260421T024917
CREATED:20240428T002823Z
LAST-MODIFIED:20240723T004756Z
UID:10001031-1722643200-1722729599@vancouvervikings.ca
SUMMARY:V&D Regionals
DESCRIPTION:2024 VDSSA Regional Meet Package
URL:https://vancouvervikings.ca/event/vd-regionals/2024-08-03/
LOCATION:North Shore Winter Club\, 1325 E. Keith Road\, North Vancouver\, BC\, V7J 1J3\, Canada
CATEGORIES:Meets
END:VEVENT
BEGIN:VEVENT
DTSTART;VALUE=DATE:20240804
DTEND;VALUE=DATE:20240805
DTSTAMP:20260421T024917
CREATED:20240428T002823Z
LAST-MODIFIED:20240723T004756Z
UID:10001032-1722729600-1722815999@vancouvervikings.ca
SUMMARY:V&D Regionals
DESCRIPTION:2024 VDSSA Regional Meet Package
URL:https://vancouvervikings.ca/event/vd-regionals/2024-08-04/
LOCATION:North Shore Winter Club\, 1325 E. Keith Road\, North Vancouver\, BC\, V7J 1J3\, Canada
CATEGORIES:Meets
END:VEVENT
BEGIN:VEVENT
DTSTART;TZID=America/Vancouver:20240810T080000
DTEND;TZID=America/Vancouver:20240810T170000
DTSTAMP:20260421T024917
CREATED:20240709T221924Z
LAST-MODIFIED:20240709T222028Z
UID:10004857-1723276800-1723309200@vancouvervikings.ca
SUMMARY:Regionals Practice
DESCRIPTION:
URL:https://vancouvervikings.ca/event/regionals-practice-3/2024-08-10/
LOCATION:BC
CATEGORIES:Practice
END:VEVENT
BEGIN:VEVENT
DTSTART;TZID=America/Vancouver:20240811T080000
DTEND;TZID=America/Vancouver:20240811T170000
DTSTAMP:20260421T024917
CREATED:20240709T221924Z
LAST-MODIFIED:20240709T222028Z
UID:10004858-1723363200-1723395600@vancouvervikings.ca
SUMMARY:Regionals Practice
DESCRIPTION:
URL:https://vancouvervikings.ca/event/regionals-practice-3/2024-08-11/
LOCATION:BC
CATEGORIES:Practice
END:VEVENT
BEGIN:VEVENT
DTSTART;TZID=America/Vancouver:20240813T180000
DTEND;TZID=America/Vancouver:20240813T203000
DTSTAMP:20260421T024917
CREATED:20240809T184600Z
LAST-MODIFIED:20240809T184805Z
UID:10005767-1723572000-1723581000@vancouvervikings.ca
SUMMARY:Vikings Social
DESCRIPTION:Awards banquet and coaches pageant
URL:https://vancouvervikings.ca/event/vikings-social-2/
LOCATION:Chaldecott Park\, 4175 Wallace St\, Vancouver\, BC\, V6S 2J3\, Canada
CATEGORIES:Social
END:VEVENT
BEGIN:VEVENT
DTSTART;VALUE=DATE:20240815
DTEND;VALUE=DATE:20240816
DTSTAMP:20260421T024917
CREATED:20240809T184305Z
LAST-MODIFIED:20240809T184305Z
UID:10005766-1723680000-1723766399@vancouvervikings.ca
SUMMARY:Regionals Practice
DESCRIPTION:
URL:https://vancouvervikings.ca/event/regionals-practice-4/
LOCATION:UBC Aquatic Centre\, 6121 University Blvd\, Vancouver\, BC\, V6T 1Z1\, Canada
CATEGORIES:Meets
END:VEVENT
BEGIN:VEVENT
DTSTART;VALUE=DATE:20240816
DTEND;VALUE=DATE:20240817
DTSTAMP:20260421T024917
CREATED:20240428T003023Z
LAST-MODIFIED:20240505T172533Z
UID:10001034-1723766400-1723852799@vancouvervikings.ca
SUMMARY:Provincials
DESCRIPTION:
URL:https://vancouvervikings.ca/event/provincials/2024-08-16/
LOCATION:UBC Aquatic Centre\, 6121 University Blvd\, Vancouver\, BC\, V6T 1Z1\, Canada
CATEGORIES:Meets
END:VEVENT
BEGIN:VEVENT
DTSTART;VALUE=DATE:20240816
DTEND;VALUE=DATE:20240817
DTSTAMP:20260421T024917
CREATED:20240809T184042Z
LAST-MODIFIED:20240809T184043Z
UID:10001033-1723766400-1723852799@vancouvervikings.ca
SUMMARY:Provincials
DESCRIPTION:
URL:https://vancouvervikings.ca/event/provincials-2/
LOCATION:UBC Aquatic Centre\, 6121 University Blvd\, Vancouver\, BC\, V6T 1Z1\, Canada
CATEGORIES:Meets
END:VEVENT
BEGIN:VEVENT
DTSTART;VALUE=DATE:20240817
DTEND;VALUE=DATE:20240818
DTSTAMP:20260421T024917
CREATED:20240428T003023Z
LAST-MODIFIED:20240505T172533Z
UID:10001035-1723852800-1723939199@vancouvervikings.ca
SUMMARY:Provincials
DESCRIPTION:
URL:https://vancouvervikings.ca/event/provincials/2024-08-17/
LOCATION:UBC Aquatic Centre\, 6121 University Blvd\, Vancouver\, BC\, V6T 1Z1\, Canada
CATEGORIES:Meets
END:VEVENT
BEGIN:VEVENT
DTSTART;VALUE=DATE:20240818
DTEND;VALUE=DATE:20240819
DTSTAMP:20260421T024917
CREATED:20240428T003023Z
LAST-MODIFIED:20240505T172533Z
UID:10001036-1723939200-1724025599@vancouvervikings.ca
SUMMARY:Provincials
DESCRIPTION:
URL:https://vancouvervikings.ca/event/provincials/2024-08-18/
LOCATION:UBC Aquatic Centre\, 6121 University Blvd\, Vancouver\, BC\, V6T 1Z1\, Canada
CATEGORIES:Meets
END:VEVENT
END:VCALENDAR