BEGIN:VCALENDAR
VERSION:2.0
PRODID:-//Vancouver Vikings - ECPv6.15.20//NONSGML v1.0//EN
CALSCALE:GREGORIAN
METHOD:PUBLISH
X-WR-CALNAME:Vancouver Vikings
X-ORIGINAL-URL:https://vancouvervikings.ca
X-WR-CALDESC:Events for Vancouver Vikings
REFRESH-INTERVAL;VALUE=DURATION:PT1H
X-Robots-Tag:noindex
X-PUBLISHED-TTL:PT1H
BEGIN:VTIMEZONE
TZID:America/Vancouver
BEGIN:DAYLIGHT
TZOFFSETFROM:-0800
TZOFFSETTO:-0700
TZNAME:PDT
DTSTART:20240310T100000
END:DAYLIGHT
BEGIN:STANDARD
TZOFFSETFROM:-0700
TZOFFSETTO:-0800
TZNAME:PST
DTSTART:20241103T090000
END:STANDARD
BEGIN:DAYLIGHT
TZOFFSETFROM:-0800
TZOFFSETTO:-0700
TZNAME:PDT
DTSTART:20250309T100000
END:DAYLIGHT
BEGIN:STANDARD
TZOFFSETFROM:-0700
TZOFFSETTO:-0800
TZNAME:PST
DTSTART:20251102T090000
END:STANDARD
BEGIN:DAYLIGHT
TZOFFSETFROM:-0800
TZOFFSETTO:-0700
TZNAME:PDT
DTSTART:20260308T100000
END:DAYLIGHT
BEGIN:STANDARD
TZOFFSETFROM:-0700
TZOFFSETTO:-0800
TZNAME:PST
DTSTART:20261101T090000
END:STANDARD
END:VTIMEZONE
BEGIN:VEVENT
DTSTART;TZID=America/Vancouver:20250724T190000
DTEND;TZID=America/Vancouver:20250724T200000
DTSTAMP:20260425T135818
CREATED:20250623T031053Z
LAST-MODIFIED:20250623T051428Z
UID:10006340-1753383600-1753387200@vancouvervikings.ca
SUMMARY:SR1 - UBC
DESCRIPTION:
URL:https://vancouvervikings.ca/event/snr-1-ubc-21/
LOCATION:UBC Aquatic Centre\, 6121 University Blvd\, Vancouver\, BC\, V6T 1Z1\, Canada
CATEGORIES:SNR 1
END:VEVENT
BEGIN:VEVENT
DTSTART;TZID=America/Vancouver:20250725T073000
DTEND;TZID=America/Vancouver:20250725T090000
DTSTAMP:20260425T135818
CREATED:20250623T031009Z
LAST-MODIFIED:20250629T061145Z
UID:10006333-1753428600-1753434000@vancouvervikings.ca
SUMMARY:INT1 - SGS
DESCRIPTION:
URL:https://vancouvervikings.ca/event/int-1-sgs-29/
LOCATION:St. George’s Senior School\, 4175 W 29th Ave\, Vancouver\, BC\, V6S 1V1\, Canada
CATEGORIES:INT 1
END:VEVENT
BEGIN:VEVENT
DTSTART;TZID=America/Vancouver:20250725T073000
DTEND;TZID=America/Vancouver:20250725T090000
DTSTAMP:20260425T135818
CREATED:20250623T031053Z
LAST-MODIFIED:20250623T054214Z
UID:10006341-1753428600-1753434000@vancouvervikings.ca
SUMMARY:INT2 - LB
DESCRIPTION:
URL:https://vancouvervikings.ca/event/int-2-lb-5/
LOCATION:Lord Byng Pool\, 3990 W 14th Ave\, Vancouver\, BC\, V6R 4H2\, Canada
CATEGORIES:INT 2
END:VEVENT
BEGIN:VEVENT
DTSTART;TZID=America/Vancouver:20250725T073000
DTEND;TZID=America/Vancouver:20250725T090000
DTSTAMP:20260425T135818
CREATED:20250629T061705Z
LAST-MODIFIED:20250629T061705Z
UID:10006366-1753428600-1753434000@vancouvervikings.ca
SUMMARY:SR1 - SGS
DESCRIPTION:
URL:https://vancouvervikings.ca/event/sr1-sgs-6/
LOCATION:St. George’s Senior School\, 4175 W 29th Ave\, Vancouver\, BC\, V6S 1V1\, Canada
CATEGORIES:SNR 1
END:VEVENT
BEGIN:VEVENT
DTSTART;TZID=America/Vancouver:20250725T163000
DTEND;TZID=America/Vancouver:20250725T173000
DTSTAMP:20260425T135818
CREATED:20250629T061833Z
LAST-MODIFIED:20250629T061833Z
UID:10006367-1753461000-1753464600@vancouvervikings.ca
SUMMARY:JR3 - LB
DESCRIPTION:
URL:https://vancouvervikings.ca/event/jr3-lb/
LOCATION:Lord Byng Pool\, 3990 W 14th Ave\, Vancouver\, BC\, V6R 4H2\, Canada
CATEGORIES:JNR3
END:VEVENT
BEGIN:VEVENT
DTSTART;TZID=America/Vancouver:20250725T173000
DTEND;TZID=America/Vancouver:20250725T183000
DTSTAMP:20260425T135818
CREATED:20250623T031053Z
LAST-MODIFIED:20250629T061608Z
UID:10006343-1753464600-1753468200@vancouvervikings.ca
SUMMARY:SR2 - SGS
DESCRIPTION:
URL:https://vancouvervikings.ca/event/snr-2-sgs-18/
LOCATION:St. George’s Senior School\, 4175 W 29th Ave\, Vancouver\, BC\, V6S 1V1\, Canada
CATEGORIES:SNR 2
END:VEVENT
BEGIN:VEVENT
DTSTART;TZID=America/Vancouver:20250725T173000
DTEND;TZID=America/Vancouver:20250725T183000
DTSTAMP:20260425T135818
CREATED:20250623T031108Z
LAST-MODIFIED:20250623T045032Z
UID:10006347-1753464600-1753468200@vancouvervikings.ca
SUMMARY:NOV - LB
DESCRIPTION:
URL:https://vancouvervikings.ca/event/nov-lb-19/
LOCATION:Lord Byng Pool\, 3990 W 14th Ave\, Vancouver\, BC\, V6R 4H2\, Canada
CATEGORIES:NOV
END:VEVENT
BEGIN:VEVENT
DTSTART;TZID=America/Vancouver:20250725T173000
DTEND;TZID=America/Vancouver:20250725T183000
DTSTAMP:20260425T135818
CREATED:20250629T061935Z
LAST-MODIFIED:20250629T061935Z
UID:10006368-1753464600-1753468200@vancouvervikings.ca
SUMMARY:JR1 - SGS
DESCRIPTION:
URL:https://vancouvervikings.ca/event/jr1-sgs-7/
LOCATION:St. George’s Senior School\, 4175 W 29th Ave\, Vancouver\, BC\, V6S 1V1\, Canada
CATEGORIES:JNR 1
END:VEVENT
BEGIN:VEVENT
DTSTART;VALUE=DATE:20250726
DTEND;VALUE=DATE:20250728
DTSTAMP:20260425T135818
CREATED:20250530T190949Z
LAST-MODIFIED:20250530T190949Z
UID:10006127-1753488000-1753660799@vancouvervikings.ca
SUMMARY:NO MEET (Ready to race clinic with Brian Johns/ SGS)
DESCRIPTION:
URL:https://vancouvervikings.ca/event/no-meet-ready-to-race-clinic-with-brian-johns-sgs/
LOCATION:BC
END:VEVENT
BEGIN:VEVENT
DTSTART;TZID=America/Vancouver:20250728T073000
DTEND;TZID=America/Vancouver:20250728T090000
DTSTAMP:20260425T135818
CREATED:20250722T185337Z
LAST-MODIFIED:20250722T200046Z
UID:10006392-1753687800-1753693200@vancouvervikings.ca
SUMMARY:JR1-LB
DESCRIPTION:
URL:https://vancouvervikings.ca/event/jr1-lb-23-2/
LOCATION:Lord Byng Pool\, 3990 W 14th Ave\, Vancouver\, BC\, V6R 4H2\, Canada
CATEGORIES:JNR 1
END:VEVENT
BEGIN:VEVENT
DTSTART;TZID=America/Vancouver:20250728T163000
DTEND;TZID=America/Vancouver:20250728T173000
DTSTAMP:20260425T135818
CREATED:20250722T185707Z
LAST-MODIFIED:20250722T200009Z
UID:10006410-1753720200-1753723800@vancouvervikings.ca
SUMMARY:JR3-LB
DESCRIPTION:
URL:https://vancouvervikings.ca/event/jr3-lb-2/
LOCATION:Lord Byng Pool\, 3990 W 14th Ave\, Vancouver\, BC\, V6R 4H2\, Canada
CATEGORIES:JNR3
END:VEVENT
BEGIN:VEVENT
DTSTART;TZID=America/Vancouver:20250728T173000
DTEND;TZID=America/Vancouver:20250728T183000
DTSTAMP:20260425T135818
CREATED:20250722T185007Z
LAST-MODIFIED:20250722T193111Z
UID:10006369-1753723800-1753727400@vancouvervikings.ca
SUMMARY:INT1-SGS
DESCRIPTION:
URL:https://vancouvervikings.ca/event/int1-sgs-26/
LOCATION:St. George’s Senior School\, 4175 W 29th Ave\, Vancouver\, BC\, V6S 1V1\, Canada
CATEGORIES:INT 1
END:VEVENT
BEGIN:VEVENT
DTSTART;TZID=America/Vancouver:20250728T173000
DTEND;TZID=America/Vancouver:20250728T183000
DTSTAMP:20260425T135818
CREATED:20250722T185553Z
LAST-MODIFIED:20250722T200132Z
UID:10006401-1753723800-1753727400@vancouvervikings.ca
SUMMARY:JR2-SGS
DESCRIPTION:
URL:https://vancouvervikings.ca/event/jr2-sgs-9/
LOCATION:St. George’s Senior School\, 4175 W 29th Ave\, Vancouver\, BC\, V6S 1V1\, Canada
CATEGORIES:JNR 2
END:VEVENT
BEGIN:VEVENT
DTSTART;TZID=America/Vancouver:20250728T173000
DTEND;TZID=America/Vancouver:20250728T183000
DTSTAMP:20260425T135818
CREATED:20250722T185737Z
LAST-MODIFIED:20250722T191603Z
UID:10006419-1753723800-1753727400@vancouvervikings.ca
SUMMARY:NOV-LB
DESCRIPTION:
URL:https://vancouvervikings.ca/event/nov-lb-20/
LOCATION:Lord Byng Pool\, 3990 W 14th Ave\, Vancouver\, BC\, V6R 4H2\, Canada
CATEGORIES:NOV
END:VEVENT
BEGIN:VEVENT
DTSTART;TZID=America/Vancouver:20250728T183000
DTEND;TZID=America/Vancouver:20250728T193000
DTSTAMP:20260425T135818
CREATED:20250722T185025Z
LAST-MODIFIED:20250722T193328Z
UID:10006380-1753727400-1753731000@vancouvervikings.ca
SUMMARY:INT2-SGS
DESCRIPTION:
URL:https://vancouvervikings.ca/event/int2-sgs-13/
LOCATION:St. George’s Senior School\, 4175 W 29th Ave\, Vancouver\, BC\, V6S 1V1\, Canada
CATEGORIES:INT 2
END:VEVENT
BEGIN:VEVENT
DTSTART;TZID=America/Vancouver:20250728T183000
DTEND;TZID=America/Vancouver:20250728T193000
DTSTAMP:20260425T135818
CREATED:20250722T190250Z
LAST-MODIFIED:20250722T200511Z
UID:10006442-1753727400-1753731000@vancouvervikings.ca
SUMMARY:SR2-SGS
DESCRIPTION:
URL:https://vancouvervikings.ca/event/sr2-sgs-5/
LOCATION:St. George’s Senior School\, 4175 W 29th Ave\, Vancouver\, BC\, V6S 1V1\, Canada
CATEGORIES:SNR 2
END:VEVENT
BEGIN:VEVENT
DTSTART;TZID=America/Vancouver:20250728T190000
DTEND;TZID=America/Vancouver:20250728T200000
DTSTAMP:20260425T135818
CREATED:20250722T185939Z
LAST-MODIFIED:20250722T200426Z
UID:10006428-1753729200-1753732800@vancouvervikings.ca
SUMMARY:SR1-UBC
DESCRIPTION:
URL:https://vancouvervikings.ca/event/sr1-ubc-2/
LOCATION:UBC Aquatic Centre\, 6121 University Blvd\, Vancouver\, BC\, V6T 1Z1\, Canada
CATEGORIES:SNR 1
END:VEVENT
BEGIN:VEVENT
DTSTART;TZID=America/Vancouver:20250729T071500
DTEND;TZID=America/Vancouver:20250729T084500
DTSTAMP:20260425T135818
CREATED:20250722T190250Z
LAST-MODIFIED:20250722T200511Z
UID:10006443-1753773300-1753778700@vancouvervikings.ca
SUMMARY:SR2-HC
DESCRIPTION:
URL:https://vancouvervikings.ca/event/sr2-hc-3/
LOCATION:Hillcrest Aquatic Centre
CATEGORIES:SNR 2
END:VEVENT
BEGIN:VEVENT
DTSTART;TZID=America/Vancouver:20250729T073000
DTEND;TZID=America/Vancouver:20250729T090000
DTSTAMP:20260425T135818
CREATED:20250722T185553Z
LAST-MODIFIED:20250722T200132Z
UID:10006402-1753774200-1753779600@vancouvervikings.ca
SUMMARY:JR2-LB
DESCRIPTION:
URL:https://vancouvervikings.ca/event/jr2-lb-20/
LOCATION:Lord Byng Pool\, 3990 W 14th Ave\, Vancouver\, BC\, V6R 4H2\, Canada
CATEGORIES:JNR 2
END:VEVENT
BEGIN:VEVENT
DTSTART;TZID=America/Vancouver:20250729T073000
DTEND;TZID=America/Vancouver:20250729T090000
DTSTAMP:20260425T135818
CREATED:20250722T190033Z
LAST-MODIFIED:20250722T200426Z
UID:10006429-1753774200-1753779600@vancouvervikings.ca
SUMMARY:SR1-SGS
DESCRIPTION:
URL:https://vancouvervikings.ca/event/sr1-sgs-7/
LOCATION:St. George’s Senior School\, 4175 W 29th Ave\, Vancouver\, BC\, V6S 1V1\, Canada
CATEGORIES:SNR 1
END:VEVENT
BEGIN:VEVENT
DTSTART;TZID=America/Vancouver:20250729T163000
DTEND;TZID=America/Vancouver:20250729T173000
DTSTAMP:20260425T135818
CREATED:20250722T185707Z
LAST-MODIFIED:20250722T200009Z
UID:10006411-1753806600-1753810200@vancouvervikings.ca
SUMMARY:JR3-LB
DESCRIPTION:
URL:https://vancouvervikings.ca/event/jr3-lb-3/
LOCATION:Lord Byng Pool\, 3990 W 14th Ave\, Vancouver\, BC\, V6R 4H2\, Canada
CATEGORIES:JNR3
END:VEVENT
BEGIN:VEVENT
DTSTART;TZID=America/Vancouver:20250729T173000
DTEND;TZID=America/Vancouver:20250729T183000
DTSTAMP:20260425T135818
CREATED:20250722T185337Z
LAST-MODIFIED:20250722T200046Z
UID:10006393-1753810200-1753813800@vancouvervikings.ca
SUMMARY:JR1-SGS
DESCRIPTION:
URL:https://vancouvervikings.ca/event/jr1-sgs-8/
LOCATION:St. George’s Senior School\, 4175 W 29th Ave\, Vancouver\, BC\, V6S 1V1\, Canada
CATEGORIES:JNR 1
END:VEVENT
BEGIN:VEVENT
DTSTART;TZID=America/Vancouver:20250729T173000
DTEND;TZID=America/Vancouver:20250729T183000
DTSTAMP:20260425T135818
CREATED:20250722T185553Z
LAST-MODIFIED:20250722T200132Z
UID:10006403-1753810200-1753813800@vancouvervikings.ca
SUMMARY:JR2-SGS
DESCRIPTION:
URL:https://vancouvervikings.ca/event/jr2-sgs-10/
LOCATION:St. George’s Senior School\, 4175 W 29th Ave\, Vancouver\, BC\, V6S 1V1\, Canada
CATEGORIES:JNR 2
END:VEVENT
BEGIN:VEVENT
DTSTART;TZID=America/Vancouver:20250729T173000
DTEND;TZID=America/Vancouver:20250729T183000
DTSTAMP:20260425T135818
CREATED:20250722T185737Z
LAST-MODIFIED:20250722T191603Z
UID:10006420-1753810200-1753813800@vancouvervikings.ca
SUMMARY:NOV-LB
DESCRIPTION:
URL:https://vancouvervikings.ca/event/nov-lb-21/
LOCATION:Lord Byng Pool\, 3990 W 14th Ave\, Vancouver\, BC\, V6R 4H2\, Canada
CATEGORIES:NOV
END:VEVENT
BEGIN:VEVENT
DTSTART;TZID=America/Vancouver:20250729T183000
DTEND;TZID=America/Vancouver:20250729T193000
DTSTAMP:20260425T135818
CREATED:20250722T185007Z
LAST-MODIFIED:20250722T193111Z
UID:10006370-1753813800-1753817400@vancouvervikings.ca
SUMMARY:INT1-SGS
DESCRIPTION:
URL:https://vancouvervikings.ca/event/int1-sgs-27/
LOCATION:St. George’s Senior School\, 4175 W 29th Ave\, Vancouver\, BC\, V6S 1V1\, Canada
CATEGORIES:INT 1
END:VEVENT
BEGIN:VEVENT
DTSTART;TZID=America/Vancouver:20250729T183000
DTEND;TZID=America/Vancouver:20250729T193000
DTSTAMP:20260425T135818
CREATED:20250722T185025Z
LAST-MODIFIED:20250722T193328Z
UID:10006381-1753813800-1753817400@vancouvervikings.ca
SUMMARY:INT2-SGS
DESCRIPTION:
URL:https://vancouvervikings.ca/event/int2-sgs-22/
LOCATION:St. George’s Senior School\, 4175 W 29th Ave\, Vancouver\, BC\, V6S 1V1\, Canada
CATEGORIES:INT 2
END:VEVENT
BEGIN:VEVENT
DTSTART;TZID=America/Vancouver:20250729T190000
DTEND;TZID=America/Vancouver:20250729T200000
DTSTAMP:20260425T135818
CREATED:20250722T190033Z
LAST-MODIFIED:20250722T200426Z
UID:10006430-1753815600-1753819200@vancouvervikings.ca
SUMMARY:SR1-UBC
DESCRIPTION:
URL:https://vancouvervikings.ca/event/sr1-ubc-3/
LOCATION:UBC Aquatic Centre\, 6121 University Blvd\, Vancouver\, BC\, V6T 1Z1\, Canada
CATEGORIES:SNR 1
END:VEVENT
BEGIN:VEVENT
DTSTART;TZID=America/Vancouver:20250729T190000
DTEND;TZID=America/Vancouver:20250729T200000
DTSTAMP:20260425T135818
CREATED:20250722T190451Z
LAST-MODIFIED:20250722T200511Z
UID:10006444-1753815600-1753819200@vancouvervikings.ca
SUMMARY:SR2-UBC
DESCRIPTION:
URL:https://vancouvervikings.ca/event/sr2-ubc-3/
LOCATION:UBC Aquatic Centre\, 6121 University Blvd\, Vancouver\, BC\, V6T 1Z1\, Canada
CATEGORIES:SNR 2
END:VEVENT
BEGIN:VEVENT
DTSTART;TZID=America/Vancouver:20250730T073000
DTEND;TZID=America/Vancouver:20250730T090000
DTSTAMP:20260425T135818
CREATED:20250722T185025Z
LAST-MODIFIED:20250722T193328Z
UID:10006382-1753860600-1753866000@vancouvervikings.ca
SUMMARY:INT2-SGS
DESCRIPTION:
URL:https://vancouvervikings.ca/event/int2-sgs-23/
LOCATION:St. George’s Senior School\, 4175 W 29th Ave\, Vancouver\, BC\, V6S 1V1\, Canada
CATEGORIES:INT 2
END:VEVENT
BEGIN:VEVENT
DTSTART;TZID=America/Vancouver:20250730T073000
DTEND;TZID=America/Vancouver:20250730T090000
DTSTAMP:20260425T135818
CREATED:20250722T185352Z
LAST-MODIFIED:20250722T200046Z
UID:10006394-1753860600-1753866000@vancouvervikings.ca
SUMMARY:JR1-LB
DESCRIPTION:
URL:https://vancouvervikings.ca/event/jr1-lb-24/
LOCATION:Lord Byng Pool\, 3990 W 14th Ave\, Vancouver\, BC\, V6R 4H2\, Canada
CATEGORIES:JNR 1
END:VEVENT
END:VCALENDAR