BEGIN:VCALENDAR
VERSION:2.0
PRODID:-//Vancouver Vikings - ECPv6.15.20//NONSGML v1.0//EN
CALSCALE:GREGORIAN
METHOD:PUBLISH
X-WR-CALNAME:Vancouver Vikings
X-ORIGINAL-URL:https://vancouvervikings.ca
X-WR-CALDESC:Events for Vancouver Vikings
REFRESH-INTERVAL;VALUE=DURATION:PT1H
X-Robots-Tag:noindex
X-PUBLISHED-TTL:PT1H
BEGIN:VTIMEZONE
TZID:America/Vancouver
BEGIN:DAYLIGHT
TZOFFSETFROM:-0800
TZOFFSETTO:-0700
TZNAME:PDT
DTSTART:20250309T100000
END:DAYLIGHT
BEGIN:STANDARD
TZOFFSETFROM:-0700
TZOFFSETTO:-0800
TZNAME:PST
DTSTART:20251102T090000
END:STANDARD
BEGIN:DAYLIGHT
TZOFFSETFROM:-0800
TZOFFSETTO:-0700
TZNAME:PDT
DTSTART:20260308T100000
END:DAYLIGHT
BEGIN:STANDARD
TZOFFSETFROM:-0700
TZOFFSETTO:-0800
TZNAME:PST
DTSTART:20261101T090000
END:STANDARD
BEGIN:DAYLIGHT
TZOFFSETFROM:-0800
TZOFFSETTO:-0700
TZNAME:PDT
DTSTART:20270314T100000
END:DAYLIGHT
BEGIN:STANDARD
TZOFFSETFROM:-0700
TZOFFSETTO:-0800
TZNAME:PST
DTSTART:20271107T090000
END:STANDARD
END:VTIMEZONE
BEGIN:VEVENT
DTSTART;TZID=America/Vancouver:20260618T063000
DTEND;TZID=America/Vancouver:20260618T073000
DTSTAMP:20260425T212604
CREATED:20260424T153357Z
LAST-MODIFIED:20260424T153357Z
UID:10006716-1781764200-1781767800@vancouvervikings.ca
SUMMARY:INT 2-LB
DESCRIPTION:
URL:https://vancouvervikings.ca/event/int-2-lb-17/
LOCATION:Lord Byng Pool\, 3990 W 14th Ave\, Vancouver\, BC\, Canada
CATEGORIES:INT 2
END:VEVENT
BEGIN:VEVENT
DTSTART;TZID=America/Vancouver:20260618T063000
DTEND;TZID=America/Vancouver:20260618T073000
DTSTAMP:20260425T212604
CREATED:20260424T153357Z
LAST-MODIFIED:20260424T153357Z
UID:10006717-1781764200-1781767800@vancouvervikings.ca
SUMMARY:SR 1-HC
DESCRIPTION:
URL:https://vancouvervikings.ca/event/sr-1-hc-14/
LOCATION:Hillcrest Aquatic Centre
CATEGORIES:SR 1
END:VEVENT
BEGIN:VEVENT
DTSTART;TZID=America/Vancouver:20260618T160000
DTEND;TZID=America/Vancouver:20260618T170000
DTSTAMP:20260425T212604
CREATED:20260424T153646Z
LAST-MODIFIED:20260424T153646Z
UID:10006718-1781798400-1781802000@vancouvervikings.ca
SUMMARY:INT 1-SGS
DESCRIPTION:
URL:https://vancouvervikings.ca/event/int-1-sgs-42/
CATEGORIES:INT 1
END:VEVENT
BEGIN:VEVENT
DTSTART;TZID=America/Vancouver:20260618T160000
DTEND;TZID=America/Vancouver:20260618T170000
DTSTAMP:20260425T212604
CREATED:20260424T153646Z
LAST-MODIFIED:20260424T153646Z
UID:10006719-1781798400-1781802000@vancouvervikings.ca
SUMMARY:INT 2-SGS
DESCRIPTION:
URL:https://vancouvervikings.ca/event/int-2-sgs-43/
CATEGORIES:INT 2
END:VEVENT
BEGIN:VEVENT
DTSTART;TZID=America/Vancouver:20260618T170000
DTEND;TZID=America/Vancouver:20260618T180000
DTSTAMP:20260425T212604
CREATED:20260424T153414Z
LAST-MODIFIED:20260424T153414Z
UID:10006720-1781802000-1781805600@vancouvervikings.ca
SUMMARY:NOV-LB
DESCRIPTION:
URL:https://vancouvervikings.ca/event/nov-lb-44/
LOCATION:Lord Byng Pool\, 3990 W 14th Ave\, Vancouver\, BC\, Canada
CATEGORIES:NOV
END:VEVENT
BEGIN:VEVENT
DTSTART;TZID=America/Vancouver:20260618T170000
DTEND;TZID=America/Vancouver:20260618T180000
DTSTAMP:20260425T212604
CREATED:20260424T153414Z
LAST-MODIFIED:20260424T153414Z
UID:10006721-1781802000-1781805600@vancouvervikings.ca
SUMMARY:JR 3-LB
DESCRIPTION:
URL:https://vancouvervikings.ca/event/jr-3-lb-15/
LOCATION:Lord Byng Pool\, 3990 W 14th Ave\, Vancouver\, BC\, Canada
CATEGORIES:JR 3
END:VEVENT
BEGIN:VEVENT
DTSTART;TZID=America/Vancouver:20260618T180000
DTEND;TZID=America/Vancouver:20260618T190000
DTSTAMP:20260425T212604
CREATED:20260424T153415Z
LAST-MODIFIED:20260424T153415Z
UID:10006722-1781805600-1781809200@vancouvervikings.ca
SUMMARY:JR 1-LB
DESCRIPTION:
URL:https://vancouvervikings.ca/event/jr-1-lb-17/
LOCATION:Lord Byng Pool\, 3990 W 14th Ave\, Vancouver\, BC\, Canada
CATEGORIES:JR 1
END:VEVENT
BEGIN:VEVENT
DTSTART;TZID=America/Vancouver:20260618T180000
DTEND;TZID=America/Vancouver:20260618T190000
DTSTAMP:20260425T212604
CREATED:20260424T153415Z
LAST-MODIFIED:20260424T153415Z
UID:10006723-1781805600-1781809200@vancouvervikings.ca
SUMMARY:JR 2-JCC
DESCRIPTION:
URL:https://vancouvervikings.ca/event/jr-2-jcc-3/
LOCATION:Jewish Community Centre\, 950 West 41st Avenue\, Vancouver\, BC\, Canada
CATEGORIES:JR 2
END:VEVENT
BEGIN:VEVENT
DTSTART;TZID=America/Vancouver:20260618T190000
DTEND;TZID=America/Vancouver:20260618T200000
DTSTAMP:20260425T212604
CREATED:20260424T153415Z
LAST-MODIFIED:20260424T153415Z
UID:10006724-1781809200-1781812800@vancouvervikings.ca
SUMMARY:SR 1-UBC
DESCRIPTION:
URL:https://vancouvervikings.ca/event/sr-1-ubc-15/
LOCATION:UBC Aquatic Centre\, 6121 University Blvd\, Vancouver\, BC\, V6T 1Z1\, Canada
CATEGORIES:SR 1
END:VEVENT
BEGIN:VEVENT
DTSTART;TZID=America/Vancouver:20260618T190000
DTEND;TZID=America/Vancouver:20260618T200000
DTSTAMP:20260425T212604
CREATED:20260424T153415Z
LAST-MODIFIED:20260424T153415Z
UID:10006725-1781809200-1781812800@vancouvervikings.ca
SUMMARY:SR 2-UBC
DESCRIPTION:
URL:https://vancouvervikings.ca/event/sr-2-ubc-13/
LOCATION:UBC Aquatic Centre\, 6121 University Blvd\, Vancouver\, BC\, V6T 1Z1\, Canada
CATEGORIES:SR 2
END:VEVENT
BEGIN:VEVENT
DTSTART;TZID=America/Vancouver:20260619T065000
DTEND;TZID=America/Vancouver:20260619T075000
DTSTAMP:20260425T212604
CREATED:20260424T153647Z
LAST-MODIFIED:20260424T153647Z
UID:10006726-1781851800-1781855400@vancouvervikings.ca
SUMMARY:SR 2-SGS
DESCRIPTION:
URL:https://vancouvervikings.ca/event/sr-2-sgs-19/
CATEGORIES:SR 2
END:VEVENT
BEGIN:VEVENT
DTSTART;TZID=America/Vancouver:20260619T065000
DTEND;TZID=America/Vancouver:20260619T075000
DTSTAMP:20260425T212604
CREATED:20260424T153647Z
LAST-MODIFIED:20260424T153647Z
UID:10006727-1781851800-1781855400@vancouvervikings.ca
SUMMARY:JR 1-SGS
DESCRIPTION:
URL:https://vancouvervikings.ca/event/jr-1-sgs-7/
CATEGORIES:JR 1
END:VEVENT
BEGIN:VEVENT
DTSTART;TZID=America/Vancouver:20260620T080000
DTEND;TZID=America/Vancouver:20260620T170000
DTSTAMP:20260425T212604
CREATED:20260424T153415Z
LAST-MODIFIED:20260424T153415Z
UID:10006728-1781942400-1781974800@vancouvervikings.ca
SUMMARY:Meet-Oak Bay Orcas
DESCRIPTION:
URL:https://vancouvervikings.ca/event/meet-oak-bay-orcas/
CATEGORIES:Meet
END:VEVENT
BEGIN:VEVENT
DTSTART;TZID=America/Vancouver:20260621T080000
DTEND;TZID=America/Vancouver:20260621T170000
DTSTAMP:20260425T212604
CREATED:20260424T153415Z
LAST-MODIFIED:20260424T153415Z
UID:10006729-1782028800-1782061200@vancouvervikings.ca
SUMMARY:Meet-Oak Bay Orcas
DESCRIPTION:
URL:https://vancouvervikings.ca/event/meet-oak-bay-orcas-2/
CATEGORIES:Meet
END:VEVENT
BEGIN:VEVENT
DTSTART;TZID=America/Vancouver:20260622T065000
DTEND;TZID=America/Vancouver:20260622T075000
DTSTAMP:20260425T212604
CREATED:20260424T153647Z
LAST-MODIFIED:20260424T153647Z
UID:10006730-1782111000-1782114600@vancouvervikings.ca
SUMMARY:SR 2-SGS
DESCRIPTION:
URL:https://vancouvervikings.ca/event/sr-2-sgs-20/
CATEGORIES:SR 2
END:VEVENT
BEGIN:VEVENT
DTSTART;TZID=America/Vancouver:20260622T065000
DTEND;TZID=America/Vancouver:20260622T075000
DTSTAMP:20260425T212604
CREATED:20260424T153712Z
LAST-MODIFIED:20260424T153712Z
UID:10006731-1782111000-1782114600@vancouvervikings.ca
SUMMARY:INT 2-SGS
DESCRIPTION:
URL:https://vancouvervikings.ca/event/int-2-sgs-44/
CATEGORIES:INT 2
END:VEVENT
BEGIN:VEVENT
DTSTART;TZID=America/Vancouver:20260622T160000
DTEND;TZID=America/Vancouver:20260622T170000
DTSTAMP:20260425T212604
CREATED:20260424T153713Z
LAST-MODIFIED:20260424T153713Z
UID:10006732-1782144000-1782147600@vancouvervikings.ca
SUMMARY:NOV-SGS
DESCRIPTION:
URL:https://vancouvervikings.ca/event/nov-sgs-5/
CATEGORIES:NOV
END:VEVENT
BEGIN:VEVENT
DTSTART;TZID=America/Vancouver:20260622T160000
DTEND;TZID=America/Vancouver:20260622T170000
DTSTAMP:20260425T212604
CREATED:20260424T153713Z
LAST-MODIFIED:20260424T153713Z
UID:10006733-1782144000-1782147600@vancouvervikings.ca
SUMMARY:JR 3-SGS
DESCRIPTION:
URL:https://vancouvervikings.ca/event/jr-3-sgs-6/
CATEGORIES:JR 3
END:VEVENT
BEGIN:VEVENT
DTSTART;TZID=America/Vancouver:20260622T170000
DTEND;TZID=America/Vancouver:20260622T180000
DTSTAMP:20260425T212604
CREATED:20260424T153713Z
LAST-MODIFIED:20260424T153713Z
UID:10006734-1782147600-1782151200@vancouvervikings.ca
SUMMARY:INT 1-SGS
DESCRIPTION:
URL:https://vancouvervikings.ca/event/int-1-sgs-43/
CATEGORIES:INT 1
END:VEVENT
BEGIN:VEVENT
DTSTART;TZID=America/Vancouver:20260622T170000
DTEND;TZID=America/Vancouver:20260622T180000
DTSTAMP:20260425T212604
CREATED:20260424T153713Z
LAST-MODIFIED:20260424T153713Z
UID:10006735-1782147600-1782151200@vancouvervikings.ca
SUMMARY:JR 2-SGS
DESCRIPTION:
URL:https://vancouvervikings.ca/event/jr-2-sgs-17/
CATEGORIES:JR 2
END:VEVENT
BEGIN:VEVENT
DTSTART;TZID=America/Vancouver:20260622T180000
DTEND;TZID=America/Vancouver:20260622T190000
DTSTAMP:20260425T212604
CREATED:20260424T153415Z
LAST-MODIFIED:20260424T153415Z
UID:10006736-1782151200-1782154800@vancouvervikings.ca
SUMMARY:JR 1-JCC
DESCRIPTION:
URL:https://vancouvervikings.ca/event/jr-1-jcc-5/
LOCATION:Jewish Community Centre\, 950 West 41st Avenue\, Vancouver\, BC\, Canada
CATEGORIES:JR 1
END:VEVENT
BEGIN:VEVENT
DTSTART;TZID=America/Vancouver:20260622T190000
DTEND;TZID=America/Vancouver:20260622T200000
DTSTAMP:20260425T212604
CREATED:20260424T153415Z
LAST-MODIFIED:20260424T153415Z
UID:10006737-1782154800-1782158400@vancouvervikings.ca
SUMMARY:SR 1-UBC
DESCRIPTION:
URL:https://vancouvervikings.ca/event/sr-1-ubc-16/
LOCATION:UBC Aquatic Centre\, 6121 University Blvd\, Vancouver\, BC\, V6T 1Z1\, Canada
CATEGORIES:SR 1
END:VEVENT
BEGIN:VEVENT
DTSTART;TZID=America/Vancouver:20260623T063000
DTEND;TZID=America/Vancouver:20260623T073000
DTSTAMP:20260425T212604
CREATED:20260424T153415Z
LAST-MODIFIED:20260424T153415Z
UID:10006738-1782196200-1782199800@vancouvervikings.ca
SUMMARY:SR 1-HC
DESCRIPTION:
URL:https://vancouvervikings.ca/event/sr-1-hc-15/
LOCATION:Hillcrest Aquatic Centre
CATEGORIES:SR 1
END:VEVENT
BEGIN:VEVENT
DTSTART;TZID=America/Vancouver:20260623T170000
DTEND;TZID=America/Vancouver:20260623T180000
DTSTAMP:20260425T212604
CREATED:20260424T153415Z
LAST-MODIFIED:20260424T153415Z
UID:10006739-1782234000-1782237600@vancouvervikings.ca
SUMMARY:NOV-LB
DESCRIPTION:
URL:https://vancouvervikings.ca/event/nov-lb-45/
LOCATION:Lord Byng Pool\, 3990 W 14th Ave\, Vancouver\, BC\, Canada
CATEGORIES:NOV
END:VEVENT
BEGIN:VEVENT
DTSTART;TZID=America/Vancouver:20260623T170000
DTEND;TZID=America/Vancouver:20260623T180000
DTSTAMP:20260425T212604
CREATED:20260424T153415Z
LAST-MODIFIED:20260424T153415Z
UID:10006740-1782234000-1782237600@vancouvervikings.ca
SUMMARY:JR 3-LB
DESCRIPTION:
URL:https://vancouvervikings.ca/event/jr-3-lb-16/
LOCATION:Lord Byng Pool\, 3990 W 14th Ave\, Vancouver\, BC\, Canada
CATEGORIES:JR 3
END:VEVENT
BEGIN:VEVENT
DTSTART;TZID=America/Vancouver:20260623T180000
DTEND;TZID=America/Vancouver:20260623T190000
DTSTAMP:20260425T212604
CREATED:20260424T153415Z
LAST-MODIFIED:20260424T153415Z
UID:10006741-1782237600-1782241200@vancouvervikings.ca
SUMMARY:JR 1-LB
DESCRIPTION:
URL:https://vancouvervikings.ca/event/jr-1-lb-18/
LOCATION:Lord Byng Pool\, 3990 W 14th Ave\, Vancouver\, BC\, Canada
CATEGORIES:JR 1
END:VEVENT
BEGIN:VEVENT
DTSTART;TZID=America/Vancouver:20260623T180000
DTEND;TZID=America/Vancouver:20260623T190000
DTSTAMP:20260425T212604
CREATED:20260424T153415Z
LAST-MODIFIED:20260424T153415Z
UID:10006742-1782237600-1782241200@vancouvervikings.ca
SUMMARY:INT 2-JCC
DESCRIPTION:
URL:https://vancouvervikings.ca/event/int-2-jcc-6/
LOCATION:Jewish Community Centre\, 950 West 41st Avenue\, Vancouver\, BC\, Canada
CATEGORIES:INT 2
END:VEVENT
BEGIN:VEVENT
DTSTART;TZID=America/Vancouver:20260623T190000
DTEND;TZID=America/Vancouver:20260623T200000
DTSTAMP:20260425T212604
CREATED:20260424T153415Z
LAST-MODIFIED:20260424T153415Z
UID:10006743-1782241200-1782244800@vancouvervikings.ca
SUMMARY:INT 1-UBC
DESCRIPTION:
URL:https://vancouvervikings.ca/event/int-1-ubc-10/
LOCATION:UBC Aquatic Centre\, 6121 University Blvd\, Vancouver\, BC\, V6T 1Z1\, Canada
CATEGORIES:INT 1
END:VEVENT
BEGIN:VEVENT
DTSTART;TZID=America/Vancouver:20260623T190000
DTEND;TZID=America/Vancouver:20260623T200000
DTSTAMP:20260425T212604
CREATED:20260424T153415Z
LAST-MODIFIED:20260424T153415Z
UID:10006744-1782241200-1782244800@vancouvervikings.ca
SUMMARY:SR 2-UBC
DESCRIPTION:
URL:https://vancouvervikings.ca/event/sr-2-ubc-14/
LOCATION:UBC Aquatic Centre\, 6121 University Blvd\, Vancouver\, BC\, V6T 1Z1\, Canada
CATEGORIES:SR 2
END:VEVENT
BEGIN:VEVENT
DTSTART;TZID=America/Vancouver:20260624T063000
DTEND;TZID=America/Vancouver:20260624T073000
DTSTAMP:20260425T212604
CREATED:20260424T153416Z
LAST-MODIFIED:20260424T153416Z
UID:10006745-1782282600-1782286200@vancouvervikings.ca
SUMMARY:INT 1-LB
DESCRIPTION:
URL:https://vancouvervikings.ca/event/int-1-lb-15/
LOCATION:Lord Byng Pool\, 3990 W 14th Ave\, Vancouver\, BC\, Canada
CATEGORIES:INT 1
END:VEVENT
END:VCALENDAR