BEGIN:VCALENDAR
VERSION:2.0
PRODID:-//Vancouver Vikings - ECPv6.15.20//NONSGML v1.0//EN
CALSCALE:GREGORIAN
METHOD:PUBLISH
X-WR-CALNAME:Vancouver Vikings
X-ORIGINAL-URL:https://vancouvervikings.ca
X-WR-CALDESC:Events for Vancouver Vikings
REFRESH-INTERVAL;VALUE=DURATION:PT1H
X-Robots-Tag:noindex
X-PUBLISHED-TTL:PT1H
BEGIN:VTIMEZONE
TZID:America/Vancouver
BEGIN:DAYLIGHT
TZOFFSETFROM:-0800
TZOFFSETTO:-0700
TZNAME:PDT
DTSTART:20240310T100000
END:DAYLIGHT
BEGIN:STANDARD
TZOFFSETFROM:-0700
TZOFFSETTO:-0800
TZNAME:PST
DTSTART:20241103T090000
END:STANDARD
BEGIN:DAYLIGHT
TZOFFSETFROM:-0800
TZOFFSETTO:-0700
TZNAME:PDT
DTSTART:20250309T100000
END:DAYLIGHT
BEGIN:STANDARD
TZOFFSETFROM:-0700
TZOFFSETTO:-0800
TZNAME:PST
DTSTART:20251102T090000
END:STANDARD
BEGIN:DAYLIGHT
TZOFFSETFROM:-0800
TZOFFSETTO:-0700
TZNAME:PDT
DTSTART:20260308T100000
END:DAYLIGHT
BEGIN:STANDARD
TZOFFSETFROM:-0700
TZOFFSETTO:-0800
TZNAME:PST
DTSTART:20261101T090000
END:STANDARD
END:VTIMEZONE
BEGIN:VEVENT
DTSTART;TZID=America/Vancouver:20250717T173000
DTEND;TZID=America/Vancouver:20250717T183000
DTSTAMP:20260421T200542
CREATED:20250623T030037Z
LAST-MODIFIED:20250623T045032Z
UID:10006292-1752773400-1752777000@vancouvervikings.ca
SUMMARY:NOV - LB
DESCRIPTION:
URL:https://vancouvervikings.ca/event/nov-lb-13/
LOCATION:Lord Byng Pool\, 3990 W 14th Ave\, Vancouver\, BC\, V6R 4H2\, Canada
CATEGORIES:NOV
END:VEVENT
BEGIN:VEVENT
DTSTART;TZID=America/Vancouver:20250717T183000
DTEND;TZID=America/Vancouver:20250717T193000
DTSTAMP:20260421T200542
CREATED:20250623T030037Z
LAST-MODIFIED:20250623T051422Z
UID:10006289-1752777000-1752780600@vancouvervikings.ca
SUMMARY:SR1 - SGS
DESCRIPTION:
URL:https://vancouvervikings.ca/event/snr-1-sgs-10/
LOCATION:St. George’s Senior School\, 4175 W 29th Ave\, Vancouver\, BC\, V6S 1V1\, Canada
CATEGORIES:SNR 1
END:VEVENT
BEGIN:VEVENT
DTSTART;TZID=America/Vancouver:20250717T183000
DTEND;TZID=America/Vancouver:20250717T193000
DTSTAMP:20260421T200542
CREATED:20250623T030037Z
LAST-MODIFIED:20250623T050511Z
UID:10006290-1752777000-1752780600@vancouvervikings.ca
SUMMARY:INT2 - SGS
DESCRIPTION:
URL:https://vancouvervikings.ca/event/int-2-sgs-21/
LOCATION:St. George’s Senior School\, 4175 W 29th Ave\, Vancouver\, BC\, V6S 1V1\, Canada
CATEGORIES:INT 2
END:VEVENT
BEGIN:VEVENT
DTSTART;TZID=America/Vancouver:20250718T073000
DTEND;TZID=America/Vancouver:20250718T090000
DTSTAMP:20260421T200542
CREATED:20250623T030052Z
LAST-MODIFIED:20250623T054317Z
UID:10006295-1752823800-1752829200@vancouvervikings.ca
SUMMARY:SR1 - SGS
DESCRIPTION:
URL:https://vancouvervikings.ca/event/snr-1-sgs-11/
LOCATION:St. George’s Senior School\, 4175 W 29th Ave\, Vancouver\, BC\, V6S 1V1\, Canada
CATEGORIES:SNR 1
END:VEVENT
BEGIN:VEVENT
DTSTART;TZID=America/Vancouver:20250718T073000
DTEND;TZID=America/Vancouver:20250718T090000
DTSTAMP:20260421T200542
CREATED:20250623T030052Z
LAST-MODIFIED:20250623T053329Z
UID:10006294-1752823800-1752829200@vancouvervikings.ca
SUMMARY:INT2 - LB
DESCRIPTION:
URL:https://vancouvervikings.ca/event/int-2-lb-4/
LOCATION:Lord Byng Pool\, 3990 W 14th Ave\, Vancouver\, BC\, V6R 4H2\, Canada
CATEGORIES:INT 2
END:VEVENT
BEGIN:VEVENT
DTSTART;TZID=America/Vancouver:20250718T073000
DTEND;TZID=America/Vancouver:20250718T090000
DTSTAMP:20260421T200542
CREATED:20250629T054602Z
LAST-MODIFIED:20250629T054602Z
UID:10006361-1752823800-1752829200@vancouvervikings.ca
SUMMARY:INT1 - SGS
DESCRIPTION:
URL:https://vancouvervikings.ca/event/int1-sgs-25/
LOCATION:St. George’s Senior School\, 4175 W 29th Ave\, Vancouver\, BC\, V6S 1V1\, Canada
CATEGORIES:INT 1
END:VEVENT
BEGIN:VEVENT
DTSTART;TZID=America/Vancouver:20250718T163000
DTEND;TZID=America/Vancouver:20250718T173000
DTSTAMP:20260421T200542
CREATED:20250623T030107Z
LAST-MODIFIED:20250623T051127Z
UID:10006299-1752856200-1752859800@vancouvervikings.ca
SUMMARY:JR3 - LB
DESCRIPTION:
URL:https://vancouvervikings.ca/event/jnr-3-lb-17/
LOCATION:Lord Byng Pool\, 3990 W 14th Ave\, Vancouver\, BC\, V6R 4H2\, Canada
CATEGORIES:JNR3
END:VEVENT
BEGIN:VEVENT
DTSTART;TZID=America/Vancouver:20250718T173000
DTEND;TZID=America/Vancouver:20250718T183000
DTSTAMP:20260421T200542
CREATED:20250623T030007Z
LAST-MODIFIED:20250629T053826Z
UID:10006279-1752859800-1752863400@vancouvervikings.ca
SUMMARY:JR1 - SGS
DESCRIPTION:
URL:https://vancouvervikings.ca/event/jnr-1-sgs-12/
LOCATION:St. George’s Senior School\, 4175 W 29th Ave\, Vancouver\, BC\, V6S 1V1\, Canada
CATEGORIES:JNR 1
END:VEVENT
BEGIN:VEVENT
DTSTART;TZID=America/Vancouver:20250718T173000
DTEND;TZID=America/Vancouver:20250718T183000
DTSTAMP:20260421T200542
CREATED:20250623T030107Z
LAST-MODIFIED:20250623T045032Z
UID:10006300-1752859800-1752863400@vancouvervikings.ca
SUMMARY:NOV - LB
DESCRIPTION:
URL:https://vancouvervikings.ca/event/nov-lb-14/
LOCATION:Lord Byng Pool\, 3990 W 14th Ave\, Vancouver\, BC\, V6R 4H2\, Canada
CATEGORIES:NOV
END:VEVENT
BEGIN:VEVENT
DTSTART;TZID=America/Vancouver:20250718T173000
DTEND;TZID=America/Vancouver:20250718T183000
DTSTAMP:20260421T200542
CREATED:20250629T054943Z
LAST-MODIFIED:20250629T054943Z
UID:10006362-1752859800-1752863400@vancouvervikings.ca
SUMMARY:SR2 - SGS
DESCRIPTION:
URL:https://vancouvervikings.ca/event/sr2-sgs-4/
LOCATION:St. George’s Senior School\, 4175 W 29th Ave\, Vancouver\, BC\, V6S 1V1\, Canada
CATEGORIES:SNR 2
END:VEVENT
BEGIN:VEVENT
DTSTART;TZID=America/Vancouver:20250718T183000
DTEND;TZID=America/Vancouver:20250718T193000
DTSTAMP:20260421T200542
CREATED:20250623T030052Z
LAST-MODIFIED:20250629T055533Z
UID:10006298-1752863400-1752867000@vancouvervikings.ca
SUMMARY:JR2 - SGS
DESCRIPTION:
URL:https://vancouvervikings.ca/event/int-2-sgs-22/
LOCATION:St. George’s Senior School\, 4175 W 29th Ave\, Vancouver\, BC\, V6S 1V1\, Canada
CATEGORIES:JNR 2
END:VEVENT
BEGIN:VEVENT
DTSTART;TZID=America/Vancouver:20250718T183000
DTEND;TZID=America/Vancouver:20250718T193000
DTSTAMP:20260421T200542
CREATED:20250629T055015Z
LAST-MODIFIED:20250629T055015Z
UID:10006363-1752863400-1752867000@vancouvervikings.ca
SUMMARY:SR1 - SGS
DESCRIPTION:
URL:https://vancouvervikings.ca/event/sr1-sgs-5/
LOCATION:St. George’s Senior School\, 4175 W 29th Ave\, Vancouver\, BC\, V6S 1V1\, Canada
CATEGORIES:SNR 1
END:VEVENT
BEGIN:VEVENT
DTSTART;VALUE=DATE:20250719
DTEND;VALUE=DATE:20250721
DTSTAMP:20260421T200542
CREATED:20250530T050115Z
LAST-MODIFIED:20250623T044525Z
UID:10006124-1752883200-1753055999@vancouvervikings.ca
SUMMARY:COQUITLAM SHARKS MEET
DESCRIPTION:
URL:https://vancouvervikings.ca/event/coquitlam-sharks-meet/
LOCATION:Mundy Park Pool\, 655 Hillcrest St\, Coquitlam\, British Columbia\, V3J 3Z6
CATEGORIES:INT 1,INT 2,JNR 1,JNR 2,JNR3,Meets,NOV,SNR 1,SNR 2
END:VEVENT
BEGIN:VEVENT
DTSTART;TZID=America/Vancouver:20250721T073000
DTEND;TZID=America/Vancouver:20250721T090000
DTSTAMP:20260421T200542
CREATED:20250623T030122Z
LAST-MODIFIED:20250623T052958Z
UID:10006301-1753083000-1753088400@vancouvervikings.ca
SUMMARY:JR1 - LB
DESCRIPTION:
URL:https://vancouvervikings.ca/event/jnr-1-lb-9/
LOCATION:Lord Byng Pool\, 3990 W 14th Ave\, Vancouver\, BC\, V6R 4H2\, Canada
CATEGORIES:JNR 1
END:VEVENT
BEGIN:VEVENT
DTSTART;TZID=America/Vancouver:20250721T163000
DTEND;TZID=America/Vancouver:20250721T173000
DTSTAMP:20260421T200542
CREATED:20250623T030137Z
LAST-MODIFIED:20250623T051127Z
UID:10006308-1753115400-1753119000@vancouvervikings.ca
SUMMARY:JR3 - LB
DESCRIPTION:
URL:https://vancouvervikings.ca/event/jnr-3-lb-18/
LOCATION:Lord Byng Pool\, 3990 W 14th Ave\, Vancouver\, BC\, V6R 4H2\, Canada
CATEGORIES:JNR3
END:VEVENT
BEGIN:VEVENT
DTSTART;TZID=America/Vancouver:20250721T173000
DTEND;TZID=America/Vancouver:20250721T183000
DTSTAMP:20260421T200542
CREATED:20250623T030122Z
LAST-MODIFIED:20250623T050900Z
UID:10006304-1753119000-1753122600@vancouvervikings.ca
SUMMARY:JR2 - SGS
DESCRIPTION:
URL:https://vancouvervikings.ca/event/jnr-2-sgs-11/
LOCATION:St. George’s Senior School\, 4175 W 29th Ave\, Vancouver\, BC\, V6S 1V1\, Canada
CATEGORIES:JNR 2
END:VEVENT
BEGIN:VEVENT
DTSTART;TZID=America/Vancouver:20250721T173000
DTEND;TZID=America/Vancouver:20250721T183000
DTSTAMP:20260421T200542
CREATED:20250623T030137Z
LAST-MODIFIED:20250623T050127Z
UID:10006305-1753119000-1753122600@vancouvervikings.ca
SUMMARY:INT1 - SGS
DESCRIPTION:
URL:https://vancouvervikings.ca/event/int-1-sgs-24/
LOCATION:St. George’s Senior School\, 4175 W 29th Ave\, Vancouver\, BC\, V6S 1V1\, Canada
CATEGORIES:INT 1
END:VEVENT
BEGIN:VEVENT
DTSTART;TZID=America/Vancouver:20250721T173000
DTEND;TZID=America/Vancouver:20250721T183000
DTSTAMP:20260421T200542
CREATED:20250623T030137Z
LAST-MODIFIED:20250623T045032Z
UID:10006309-1753119000-1753122600@vancouvervikings.ca
SUMMARY:NOV - LB
DESCRIPTION:
URL:https://vancouvervikings.ca/event/nov-lb-15/
LOCATION:Lord Byng Pool\, 3990 W 14th Ave\, Vancouver\, BC\, V6R 4H2\, Canada
CATEGORIES:NOV
END:VEVENT
BEGIN:VEVENT
DTSTART;TZID=America/Vancouver:20250721T183000
DTEND;TZID=America/Vancouver:20250721T193000
DTSTAMP:20260421T200542
CREATED:20250623T030137Z
LAST-MODIFIED:20250623T045822Z
UID:10006306-1753122600-1753126200@vancouvervikings.ca
SUMMARY:SR2 - SGS
DESCRIPTION:
URL:https://vancouvervikings.ca/event/snr-2-sgs-15/
LOCATION:St. George’s Senior School\, 4175 W 29th Ave\, Vancouver\, BC\, V6S 1V1\, Canada
CATEGORIES:SNR 2
END:VEVENT
BEGIN:VEVENT
DTSTART;TZID=America/Vancouver:20250721T183000
DTEND;TZID=America/Vancouver:20250721T193000
DTSTAMP:20260421T200542
CREATED:20250623T030137Z
LAST-MODIFIED:20250623T050517Z
UID:10006307-1753122600-1753126200@vancouvervikings.ca
SUMMARY:INT2 - SGS
DESCRIPTION:
URL:https://vancouvervikings.ca/event/int-2-sgs-23/
LOCATION:St. George’s Senior School\, 4175 W 29th Ave\, Vancouver\, BC\, V6S 1V1\, Canada
CATEGORIES:INT 2
END:VEVENT
BEGIN:VEVENT
DTSTART;TZID=America/Vancouver:20250721T190000
DTEND;TZID=America/Vancouver:20250721T200000
DTSTAMP:20260421T200542
CREATED:20250623T030153Z
LAST-MODIFIED:20250623T051422Z
UID:10006310-1753124400-1753128000@vancouvervikings.ca
SUMMARY:SR1 - UBC
DESCRIPTION:
URL:https://vancouvervikings.ca/event/snr-1-ubc-18/
LOCATION:UBC Aquatic Centre\, 6121 University Blvd\, Vancouver\, BC\, V6T 1Z1\, Canada
CATEGORIES:SNR 1
END:VEVENT
BEGIN:VEVENT
DTSTART;TZID=America/Vancouver:20250722T071500
DTEND;TZID=America/Vancouver:20250722T084500
DTSTAMP:20260421T200542
CREATED:20250623T030122Z
LAST-MODIFIED:20250629T060108Z
UID:10006303-1753168500-1753173900@vancouvervikings.ca
SUMMARY:SR2 - HC
DESCRIPTION:
URL:https://vancouvervikings.ca/event/snr-2-hc-4/
LOCATION:Hillcrest Aquatic Centre
CATEGORIES:SNR 2
END:VEVENT
BEGIN:VEVENT
DTSTART;TZID=America/Vancouver:20250722T073000
DTEND;TZID=America/Vancouver:20250722T090000
DTSTAMP:20260421T200542
CREATED:20250623T030122Z
LAST-MODIFIED:20250629T060142Z
UID:10006302-1753169400-1753174800@vancouvervikings.ca
SUMMARY:SR1 - SGS
DESCRIPTION:
URL:https://vancouvervikings.ca/event/snr-1-sgs-12/
LOCATION:St. George’s Senior School\, 4175 W 29th Ave\, Vancouver\, BC\, V6S 1V1\, Canada
CATEGORIES:SNR 1
END:VEVENT
BEGIN:VEVENT
DTSTART;TZID=America/Vancouver:20250722T073000
DTEND;TZID=America/Vancouver:20250722T090000
DTSTAMP:20260421T200542
CREATED:20250623T030153Z
LAST-MODIFIED:20250623T054508Z
UID:10006311-1753169400-1753174800@vancouvervikings.ca
SUMMARY:JR2 - LB
DESCRIPTION:
URL:https://vancouvervikings.ca/event/jnr-2-lb-7/
LOCATION:Lord Byng Pool\, 3990 W 14th Ave\, Vancouver\, BC\, V6R 4H2\, Canada
CATEGORIES:JNR 2
END:VEVENT
BEGIN:VEVENT
DTSTART;TZID=America/Vancouver:20250722T163000
DTEND;TZID=America/Vancouver:20250722T173000
DTSTAMP:20260421T200542
CREATED:20250623T030923Z
LAST-MODIFIED:20250623T051127Z
UID:10006318-1753201800-1753205400@vancouvervikings.ca
SUMMARY:JR3 - LB
DESCRIPTION:
URL:https://vancouvervikings.ca/event/jnr-3-lb-19/
LOCATION:Lord Byng Pool\, 3990 W 14th Ave\, Vancouver\, BC\, V6R 4H2\, Canada
CATEGORIES:JNR3
END:VEVENT
BEGIN:VEVENT
DTSTART;TZID=America/Vancouver:20250722T173000
DTEND;TZID=America/Vancouver:20250722T183000
DTSTAMP:20260421T200542
CREATED:20250623T030153Z
LAST-MODIFIED:20250623T050900Z
UID:10006313-1753205400-1753209000@vancouvervikings.ca
SUMMARY:JR2 - SGS
DESCRIPTION:
URL:https://vancouvervikings.ca/event/jnr-2-sgs-12/
LOCATION:St. George’s Senior School\, 4175 W 29th Ave\, Vancouver\, BC\, V6S 1V1\, Canada
CATEGORIES:JNR 2
END:VEVENT
BEGIN:VEVENT
DTSTART;TZID=America/Vancouver:20250722T173000
DTEND;TZID=America/Vancouver:20250722T183000
DTSTAMP:20260421T200542
CREATED:20250623T030153Z
LAST-MODIFIED:20250623T045407Z
UID:10006314-1753205400-1753209000@vancouvervikings.ca
SUMMARY:JR1 - SGS
DESCRIPTION:
URL:https://vancouvervikings.ca/event/jnr-1-sgs-14/
LOCATION:St. George’s Senior School\, 4175 W 29th Ave\, Vancouver\, BC\, V6S 1V1\, Canada
CATEGORIES:JNR 1
END:VEVENT
BEGIN:VEVENT
DTSTART;TZID=America/Vancouver:20250722T173000
DTEND;TZID=America/Vancouver:20250722T183000
DTSTAMP:20260421T200542
CREATED:20250623T030923Z
LAST-MODIFIED:20250623T045032Z
UID:10006319-1753205400-1753209000@vancouvervikings.ca
SUMMARY:NOV - LB
DESCRIPTION:
URL:https://vancouvervikings.ca/event/nov-lb-16/
LOCATION:Lord Byng Pool\, 3990 W 14th Ave\, Vancouver\, BC\, V6R 4H2\, Canada
CATEGORIES:NOV
END:VEVENT
BEGIN:VEVENT
DTSTART;TZID=America/Vancouver:20250722T183000
DTEND;TZID=America/Vancouver:20250722T193000
DTSTAMP:20260421T200542
CREATED:20250623T030923Z
LAST-MODIFIED:20250629T060523Z
UID:10006316-1753209000-1753212600@vancouvervikings.ca
SUMMARY:INT1 - SGS
DESCRIPTION:
URL:https://vancouvervikings.ca/event/int-1-sgs-26/
LOCATION:St. George’s Senior School\, 4175 W 29th Ave\, Vancouver\, BC\, V6S 1V1\, Canada
CATEGORIES:INT 1
END:VEVENT
BEGIN:VEVENT
DTSTART;TZID=America/Vancouver:20250722T183000
DTEND;TZID=America/Vancouver:20250722T193000
DTSTAMP:20260421T200542
CREATED:20250623T030923Z
LAST-MODIFIED:20250623T050517Z
UID:10006317-1753209000-1753212600@vancouvervikings.ca
SUMMARY:INT2 - SGS
DESCRIPTION:
URL:https://vancouvervikings.ca/event/int-2-sgs-25/
LOCATION:St. George’s Senior School\, 4175 W 29th Ave\, Vancouver\, BC\, V6S 1V1\, Canada
CATEGORIES:INT 2
END:VEVENT
END:VCALENDAR