BEGIN:VCALENDAR
VERSION:2.0
PRODID:-//Vancouver Vikings - ECPv6.15.20//NONSGML v1.0//EN
CALSCALE:GREGORIAN
METHOD:PUBLISH
X-WR-CALNAME:Vancouver Vikings
X-ORIGINAL-URL:https://vancouvervikings.ca
X-WR-CALDESC:Events for Vancouver Vikings
REFRESH-INTERVAL;VALUE=DURATION:PT1H
X-Robots-Tag:noindex
X-PUBLISHED-TTL:PT1H
BEGIN:VTIMEZONE
TZID:America/Vancouver
BEGIN:DAYLIGHT
TZOFFSETFROM:-0800
TZOFFSETTO:-0700
TZNAME:PDT
DTSTART:20240310T100000
END:DAYLIGHT
BEGIN:STANDARD
TZOFFSETFROM:-0700
TZOFFSETTO:-0800
TZNAME:PST
DTSTART:20241103T090000
END:STANDARD
BEGIN:DAYLIGHT
TZOFFSETFROM:-0800
TZOFFSETTO:-0700
TZNAME:PDT
DTSTART:20250309T100000
END:DAYLIGHT
BEGIN:STANDARD
TZOFFSETFROM:-0700
TZOFFSETTO:-0800
TZNAME:PST
DTSTART:20251102T090000
END:STANDARD
BEGIN:DAYLIGHT
TZOFFSETFROM:-0800
TZOFFSETTO:-0700
TZNAME:PDT
DTSTART:20260308T100000
END:DAYLIGHT
BEGIN:STANDARD
TZOFFSETFROM:-0700
TZOFFSETTO:-0800
TZNAME:PST
DTSTART:20261101T090000
END:STANDARD
END:VTIMEZONE
BEGIN:VEVENT
DTSTART;TZID=America/Vancouver:20250708T073000
DTEND;TZID=America/Vancouver:20250708T090000
DTSTAMP:20260421T075741
CREATED:20250623T025637Z
LAST-MODIFIED:20250629T051104Z
UID:10006212-1751959800-1751965200@vancouvervikings.ca
SUMMARY:SR1 - SGS
DESCRIPTION:
URL:https://vancouvervikings.ca/event/snr-1-sgs-5/
LOCATION:St. George’s Senior School\, 4175 W 29th Ave\, Vancouver\, BC\, V6S 1V1\, Canada
CATEGORIES:SNR 1
END:VEVENT
BEGIN:VEVENT
DTSTART;TZID=America/Vancouver:20250708T073000
DTEND;TZID=America/Vancouver:20250708T090000
DTSTAMP:20260421T075741
CREATED:20250623T025652Z
LAST-MODIFIED:20250623T054508Z
UID:10006221-1751959800-1751965200@vancouvervikings.ca
SUMMARY:JR2 - LB
DESCRIPTION:
URL:https://vancouvervikings.ca/event/jnr-2-lb-4/
LOCATION:Lord Byng Pool\, 3990 W 14th Ave\, Vancouver\, BC\, V6R 4H2\, Canada
CATEGORIES:JNR 2
END:VEVENT
BEGIN:VEVENT
DTSTART;TZID=America/Vancouver:20250708T163000
DTEND;TZID=America/Vancouver:20250708T173000
DTSTAMP:20260421T075741
CREATED:20250623T025722Z
LAST-MODIFIED:20250623T051120Z
UID:10006228-1751992200-1751995800@vancouvervikings.ca
SUMMARY:JR3 - LB
DESCRIPTION:
URL:https://vancouvervikings.ca/event/jnr-3-lb-9/
LOCATION:Lord Byng Pool\, 3990 W 14th Ave\, Vancouver\, BC\, V6R 4H2\, Canada
CATEGORIES:JNR3
END:VEVENT
BEGIN:VEVENT
DTSTART;TZID=America/Vancouver:20250708T173000
DTEND;TZID=America/Vancouver:20250708T183000
DTSTAMP:20260421T075741
CREATED:20250623T025707Z
LAST-MODIFIED:20250623T050853Z
UID:10006223-1751995800-1751999400@vancouvervikings.ca
SUMMARY:JR2 - SGS
DESCRIPTION:
URL:https://vancouvervikings.ca/event/jnr-2-sgs-7/
LOCATION:St. George’s Senior School\, 4175 W 29th Ave\, Vancouver\, BC\, V6S 1V1\, Canada
CATEGORIES:JNR 2
END:VEVENT
BEGIN:VEVENT
DTSTART;TZID=America/Vancouver:20250708T173000
DTEND;TZID=America/Vancouver:20250708T183000
DTSTAMP:20260421T075741
CREATED:20250623T025707Z
LAST-MODIFIED:20250623T045400Z
UID:10006224-1751995800-1751999400@vancouvervikings.ca
SUMMARY:JR1 - SGS
DESCRIPTION:
URL:https://vancouvervikings.ca/event/jnr-1-sgs-8/
LOCATION:St. George’s Senior School\, 4175 W 29th Ave\, Vancouver\, BC\, V6S 1V1\, Canada
CATEGORIES:JNR 1
END:VEVENT
BEGIN:VEVENT
DTSTART;TZID=America/Vancouver:20250708T173000
DTEND;TZID=America/Vancouver:20250708T183000
DTSTAMP:20260421T075741
CREATED:20250623T025722Z
LAST-MODIFIED:20250623T045025Z
UID:10006229-1751995800-1751999400@vancouvervikings.ca
SUMMARY:NOV - LB
DESCRIPTION:
URL:https://vancouvervikings.ca/event/nov-lb-6/
LOCATION:Lord Byng Pool\, 3990 W 14th Ave\, Vancouver\, BC\, V6R 4H2\, Canada
CATEGORIES:NOV
END:VEVENT
BEGIN:VEVENT
DTSTART;TZID=America/Vancouver:20250708T183000
DTEND;TZID=America/Vancouver:20250708T193000
DTSTAMP:20260421T075741
CREATED:20250623T025707Z
LAST-MODIFIED:20250629T051755Z
UID:10006225-1751999400-1752003000@vancouvervikings.ca
SUMMARY:INT1 - SGS
DESCRIPTION:
URL:https://vancouvervikings.ca/event/int-1-sgs-13/
LOCATION:St. George’s Senior School\, 4175 W 29th Ave\, Vancouver\, BC\, V6S 1V1\, Canada
CATEGORIES:INT 1
END:VEVENT
BEGIN:VEVENT
DTSTART;TZID=America/Vancouver:20250708T183000
DTEND;TZID=America/Vancouver:20250708T193000
DTSTAMP:20260421T075741
CREATED:20250623T025722Z
LAST-MODIFIED:20250623T050504Z
UID:10006227-1751999400-1752003000@vancouvervikings.ca
SUMMARY:INT2 - SGS
DESCRIPTION:
URL:https://vancouvervikings.ca/event/int-2-sgs-13/
LOCATION:St. George’s Senior School\, 4175 W 29th Ave\, Vancouver\, BC\, V6S 1V1\, Canada
CATEGORIES:INT 2
END:VEVENT
BEGIN:VEVENT
DTSTART;TZID=America/Vancouver:20250708T190000
DTEND;TZID=America/Vancouver:20250708T200000
DTSTAMP:20260421T075741
CREATED:20250623T025637Z
LAST-MODIFIED:20250629T051552Z
UID:10006216-1752001200-1752004800@vancouvervikings.ca
SUMMARY:SR2 - UBC
DESCRIPTION:
URL:https://vancouvervikings.ca/event/snr-2-sgs-7/
LOCATION:UBC Aquatic Centre\, 6121 University Blvd\, Vancouver\, BC\, V6T 1Z1\, Canada
CATEGORIES:SNR 2
END:VEVENT
BEGIN:VEVENT
DTSTART;TZID=America/Vancouver:20250708T190000
DTEND;TZID=America/Vancouver:20250708T200000
DTSTAMP:20260421T075741
CREATED:20250623T025722Z
LAST-MODIFIED:20250623T051415Z
UID:10006230-1752001200-1752004800@vancouvervikings.ca
SUMMARY:SR1 - UBC
DESCRIPTION:
URL:https://vancouvervikings.ca/event/snr-1-ubc-11/
LOCATION:UBC Aquatic Centre\, 6121 University Blvd\, Vancouver\, BC\, V6T 1Z1\, Canada
CATEGORIES:SNR 1
END:VEVENT
BEGIN:VEVENT
DTSTART;TZID=America/Vancouver:20250709T073000
DTEND;TZID=America/Vancouver:20250709T090000
DTSTAMP:20260421T075741
CREATED:20250623T025722Z
LAST-MODIFIED:20250623T052958Z
UID:10006231-1752046200-1752051600@vancouvervikings.ca
SUMMARY:JR1 - LB
DESCRIPTION:
URL:https://vancouvervikings.ca/event/jnr-1-lb-6/
LOCATION:Lord Byng Pool\, 3990 W 14th Ave\, Vancouver\, BC\, V6R 4H2\, Canada
CATEGORIES:JNR 1
END:VEVENT
BEGIN:VEVENT
DTSTART;TZID=America/Vancouver:20250709T073000
DTEND;TZID=America/Vancouver:20250709T090000
DTSTAMP:20260421T075741
CREATED:20250623T025737Z
LAST-MODIFIED:20250629T052255Z
UID:10006232-1752046200-1752051600@vancouvervikings.ca
SUMMARY:SR2 - SGS
DESCRIPTION:
URL:https://vancouvervikings.ca/event/snr-1-sgs-6/
LOCATION:St. George’s Senior School\, 4175 W 29th Ave\, Vancouver\, BC\, V6S 1V1\, Canada
CATEGORIES:SNR 2
END:VEVENT
BEGIN:VEVENT
DTSTART;TZID=America/Vancouver:20250709T073000
DTEND;TZID=America/Vancouver:20250709T090000
DTSTAMP:20260421T075741
CREATED:20250623T025737Z
LAST-MODIFIED:20250629T052331Z
UID:10006233-1752046200-1752051600@vancouvervikings.ca
SUMMARY:INT2 - SGS
DESCRIPTION:
URL:https://vancouvervikings.ca/event/int-1-sgs-14/
LOCATION:St. George’s Senior School\, 4175 W 29th Ave\, Vancouver\, BC\, V6S 1V1\, Canada
CATEGORIES:INT 2
END:VEVENT
BEGIN:VEVENT
DTSTART;TZID=America/Vancouver:20250709T163000
DTEND;TZID=America/Vancouver:20250709T173000
DTSTAMP:20260421T075741
CREATED:20250623T025752Z
LAST-MODIFIED:20250623T051120Z
UID:10006238-1752078600-1752082200@vancouvervikings.ca
SUMMARY:JR3 - LB
DESCRIPTION:
URL:https://vancouvervikings.ca/event/jnr-3-lb-10/
LOCATION:Lord Byng Pool\, 3990 W 14th Ave\, Vancouver\, BC\, V6R 4H2\, Canada
CATEGORIES:JNR3
END:VEVENT
BEGIN:VEVENT
DTSTART;TZID=America/Vancouver:20250709T173000
DTEND;TZID=America/Vancouver:20250709T183000
DTSTAMP:20260421T075741
CREATED:20250623T025737Z
LAST-MODIFIED:20250623T050853Z
UID:10006234-1752082200-1752085800@vancouvervikings.ca
SUMMARY:JR2 - SGS
DESCRIPTION:
URL:https://vancouvervikings.ca/event/jnr-2-sgs-8/
LOCATION:St. George’s Senior School\, 4175 W 29th Ave\, Vancouver\, BC\, V6S 1V1\, Canada
CATEGORIES:JNR 2
END:VEVENT
BEGIN:VEVENT
DTSTART;TZID=America/Vancouver:20250709T173000
DTEND;TZID=America/Vancouver:20250709T183000
DTSTAMP:20260421T075741
CREATED:20250623T025737Z
LAST-MODIFIED:20250623T050121Z
UID:10006235-1752082200-1752085800@vancouvervikings.ca
SUMMARY:INT1 - SGS
DESCRIPTION:
URL:https://vancouvervikings.ca/event/int-1-sgs-15/
LOCATION:St. George’s Senior School\, 4175 W 29th Ave\, Vancouver\, BC\, V6S 1V1\, Canada
CATEGORIES:INT 1
END:VEVENT
BEGIN:VEVENT
DTSTART;TZID=America/Vancouver:20250709T173000
DTEND;TZID=America/Vancouver:20250709T183000
DTSTAMP:20260421T075741
CREATED:20250623T025752Z
LAST-MODIFIED:20250623T045025Z
UID:10006239-1752082200-1752085800@vancouvervikings.ca
SUMMARY:NOV - LB
DESCRIPTION:
URL:https://vancouvervikings.ca/event/nov-lb-7/
LOCATION:Lord Byng Pool\, 3990 W 14th Ave\, Vancouver\, BC\, V6R 4H2\, Canada
CATEGORIES:NOV
END:VEVENT
BEGIN:VEVENT
DTSTART;TZID=America/Vancouver:20250709T183000
DTEND;TZID=America/Vancouver:20250709T193000
DTSTAMP:20260421T075741
CREATED:20250623T025737Z
LAST-MODIFIED:20250623T045815Z
UID:10006236-1752085800-1752089400@vancouvervikings.ca
SUMMARY:SR2 - SGS
DESCRIPTION:
URL:https://vancouvervikings.ca/event/snr-2-sgs-9/
LOCATION:St. George’s Senior School\, 4175 W 29th Ave\, Vancouver\, BC\, V6S 1V1\, Canada
CATEGORIES:SNR 2
END:VEVENT
BEGIN:VEVENT
DTSTART;TZID=America/Vancouver:20250709T183000
DTEND;TZID=America/Vancouver:20250709T193000
DTSTAMP:20260421T075741
CREATED:20250623T025752Z
LAST-MODIFIED:20250623T050504Z
UID:10006237-1752085800-1752089400@vancouvervikings.ca
SUMMARY:INT2 - SGS
DESCRIPTION:
URL:https://vancouvervikings.ca/event/int-2-sgs-14/
LOCATION:St. George’s Senior School\, 4175 W 29th Ave\, Vancouver\, BC\, V6S 1V1\, Canada
CATEGORIES:INT 2
END:VEVENT
BEGIN:VEVENT
DTSTART;TZID=America/Vancouver:20250709T190000
DTEND;TZID=America/Vancouver:20250709T200000
DTSTAMP:20260421T075741
CREATED:20250623T025752Z
LAST-MODIFIED:20250623T051415Z
UID:10006240-1752087600-1752091200@vancouvervikings.ca
SUMMARY:SR1 - UBC
DESCRIPTION:
URL:https://vancouvervikings.ca/event/snr-1-ubc-12/
LOCATION:UBC Aquatic Centre\, 6121 University Blvd\, Vancouver\, BC\, V6T 1Z1\, Canada
CATEGORIES:SNR 1
END:VEVENT
BEGIN:VEVENT
DTSTART;TZID=America/Vancouver:20250710T071500
DTEND;TZID=America/Vancouver:20250710T084500
DTSTAMP:20260421T075741
CREATED:20250623T025807Z
LAST-MODIFIED:20250629T052539Z
UID:10006245-1752131700-1752137100@vancouvervikings.ca
SUMMARY:SR2 - HC
DESCRIPTION:
URL:https://vancouvervikings.ca/event/snr-2-sgs-10/
LOCATION:Hillcrest Aquatic Centre
CATEGORIES:SNR 2
END:VEVENT
BEGIN:VEVENT
DTSTART;TZID=America/Vancouver:20250710T073000
DTEND;TZID=America/Vancouver:20250710T090000
DTSTAMP:20260421T075741
CREATED:20250623T025752Z
LAST-MODIFIED:20250623T054121Z
UID:10006241-1752132600-1752138000@vancouvervikings.ca
SUMMARY:INT1 - LB
DESCRIPTION:
URL:https://vancouvervikings.ca/event/int-1-lb-4/
LOCATION:Lord Byng Pool\, 3990 W 14th Ave\, Vancouver\, BC\, V6R 4H2\, Canada
CATEGORIES:INT 1
END:VEVENT
BEGIN:VEVENT
DTSTART;TZID=America/Vancouver:20250710T073000
DTEND;TZID=America/Vancouver:20250710T090000
DTSTAMP:20260421T075741
CREATED:20250623T025807Z
LAST-MODIFIED:20250623T054317Z
UID:10006242-1752132600-1752138000@vancouvervikings.ca
SUMMARY:SR1 - SGS
DESCRIPTION:
URL:https://vancouvervikings.ca/event/snr-1-sgs-7/
LOCATION:St. George’s Senior School\, 4175 W 29th Ave\, Vancouver\, BC\, V6S 1V1\, Canada
CATEGORIES:SNR 1
END:VEVENT
BEGIN:VEVENT
DTSTART;TZID=America/Vancouver:20250710T163000
DTEND;TZID=America/Vancouver:20250710T173000
DTSTAMP:20260421T075741
CREATED:20250623T025822Z
LAST-MODIFIED:20250623T051120Z
UID:10006247-1752165000-1752168600@vancouvervikings.ca
SUMMARY:JR3 - LB
DESCRIPTION:
URL:https://vancouvervikings.ca/event/jnr-3-lb-11/
LOCATION:Lord Byng Pool\, 3990 W 14th Ave\, Vancouver\, BC\, V6R 4H2\, Canada
CATEGORIES:JNR3
END:VEVENT
BEGIN:VEVENT
DTSTART;TZID=America/Vancouver:20250710T173000
DTEND;TZID=America/Vancouver:20250710T183000
DTSTAMP:20260421T075741
CREATED:20250623T025807Z
LAST-MODIFIED:20250623T045400Z
UID:10006243-1752168600-1752172200@vancouvervikings.ca
SUMMARY:JR1 - SGS
DESCRIPTION:
URL:https://vancouvervikings.ca/event/jnr-1-sgs-9/
LOCATION:St. George’s Senior School\, 4175 W 29th Ave\, Vancouver\, BC\, V6S 1V1\, Canada
CATEGORIES:JNR 1
END:VEVENT
BEGIN:VEVENT
DTSTART;TZID=America/Vancouver:20250710T173000
DTEND;TZID=America/Vancouver:20250710T183000
DTSTAMP:20260421T075741
CREATED:20250623T025807Z
LAST-MODIFIED:20250623T050121Z
UID:10006244-1752168600-1752172200@vancouvervikings.ca
SUMMARY:INT1 - SGS
DESCRIPTION:
URL:https://vancouvervikings.ca/event/int-1-sgs-16/
LOCATION:St. George’s Senior School\, 4175 W 29th Ave\, Vancouver\, BC\, V6S 1V1\, Canada
CATEGORIES:INT 1
END:VEVENT
BEGIN:VEVENT
DTSTART;TZID=America/Vancouver:20250710T173000
DTEND;TZID=America/Vancouver:20250710T183000
DTSTAMP:20260421T075741
CREATED:20250623T025822Z
LAST-MODIFIED:20250623T045025Z
UID:10006248-1752168600-1752172200@vancouvervikings.ca
SUMMARY:NOV - LB
DESCRIPTION:
URL:https://vancouvervikings.ca/event/nov-lb-8/
LOCATION:Lord Byng Pool\, 3990 W 14th Ave\, Vancouver\, BC\, V6R 4H2\, Canada
CATEGORIES:NOV
END:VEVENT
BEGIN:VEVENT
DTSTART;TZID=America/Vancouver:20250710T183000
DTEND;TZID=America/Vancouver:20250710T193000
DTSTAMP:20260421T075741
CREATED:20250623T025807Z
LAST-MODIFIED:20250623T050511Z
UID:10006246-1752172200-1752175800@vancouvervikings.ca
SUMMARY:INT2 - SGS
DESCRIPTION:
URL:https://vancouvervikings.ca/event/int-2-sgs-15/
LOCATION:St. George’s Senior School\, 4175 W 29th Ave\, Vancouver\, BC\, V6S 1V1\, Canada
CATEGORIES:INT 2
END:VEVENT
BEGIN:VEVENT
DTSTART;TZID=America/Vancouver:20250710T183000
DTEND;TZID=America/Vancouver:20250710T193000
DTSTAMP:20260421T075741
CREATED:20250629T052740Z
LAST-MODIFIED:20250629T052740Z
UID:10006356-1752172200-1752175800@vancouvervikings.ca
SUMMARY:JR2 - SGS
DESCRIPTION:
URL:https://vancouvervikings.ca/event/jr2-sgs-8/
LOCATION:St. George’s Senior School\, 4175 W 29th Ave\, Vancouver\, BC\, V6S 1V1\, Canada
CATEGORIES:JNR 2
END:VEVENT
BEGIN:VEVENT
DTSTART;TZID=America/Vancouver:20250710T190000
DTEND;TZID=America/Vancouver:20250710T200000
DTSTAMP:20260421T075741
CREATED:20250623T025822Z
LAST-MODIFIED:20250623T051415Z
UID:10006249-1752174000-1752177600@vancouvervikings.ca
SUMMARY:SR1 - UBC
DESCRIPTION:
URL:https://vancouvervikings.ca/event/snr-1-ubc-13/
LOCATION:UBC Aquatic Centre\, 6121 University Blvd\, Vancouver\, BC\, V6T 1Z1\, Canada
CATEGORIES:SNR 1
END:VEVENT
END:VCALENDAR