BEGIN:VCALENDAR
VERSION:2.0
PRODID:-//Vancouver Vikings - ECPv6.15.20//NONSGML v1.0//EN
CALSCALE:GREGORIAN
METHOD:PUBLISH
X-ORIGINAL-URL:https://vancouvervikings.ca
X-WR-CALDESC:Events for Vancouver Vikings
REFRESH-INTERVAL;VALUE=DURATION:PT1H
X-Robots-Tag:noindex
X-PUBLISHED-TTL:PT1H
BEGIN:VTIMEZONE
TZID:America/Vancouver
BEGIN:DAYLIGHT
TZOFFSETFROM:-0800
TZOFFSETTO:-0700
TZNAME:PDT
DTSTART:20240310T100000
END:DAYLIGHT
BEGIN:STANDARD
TZOFFSETFROM:-0700
TZOFFSETTO:-0800
TZNAME:PST
DTSTART:20241103T090000
END:STANDARD
BEGIN:DAYLIGHT
TZOFFSETFROM:-0800
TZOFFSETTO:-0700
TZNAME:PDT
DTSTART:20250309T100000
END:DAYLIGHT
BEGIN:STANDARD
TZOFFSETFROM:-0700
TZOFFSETTO:-0800
TZNAME:PST
DTSTART:20251102T090000
END:STANDARD
BEGIN:DAYLIGHT
TZOFFSETFROM:-0800
TZOFFSETTO:-0700
TZNAME:PDT
DTSTART:20260308T100000
END:DAYLIGHT
BEGIN:STANDARD
TZOFFSETFROM:-0700
TZOFFSETTO:-0800
TZNAME:PST
DTSTART:20261101T090000
END:STANDARD
END:VTIMEZONE
BEGIN:VEVENT
DTSTART;TZID=America/Vancouver:20250703T071500
DTEND;TZID=America/Vancouver:20250703T084500
DTSTAMP:20260421T191519
CREATED:20250623T025607Z
LAST-MODIFIED:20250629T045718Z
UID:10006209-1751526900-1751532300@vancouvervikings.ca
SUMMARY:SR2 - HC
DESCRIPTION:
URL:https://vancouvervikings.ca/event/snr-2-hc/
LOCATION:Hillcrest Aquatic Centre
CATEGORIES:SNR 2
END:VEVENT
BEGIN:VEVENT
DTSTART;TZID=America/Vancouver:20250703T073000
DTEND;TZID=America/Vancouver:20250703T090000
DTSTAMP:20260421T191519
CREATED:20250623T025516Z
LAST-MODIFIED:20250623T054508Z
UID:10006192-1751527800-1751533200@vancouvervikings.ca
SUMMARY:JR2 - LB
DESCRIPTION:
URL:https://vancouvervikings.ca/event/jnr-2-lb-3/
LOCATION:Lord Byng Pool\, 3990 W 14th Ave\, Vancouver\, BC\, V6R 4H2\, Canada
CATEGORIES:JNR 2
END:VEVENT
BEGIN:VEVENT
DTSTART;TZID=America/Vancouver:20250703T073000
DTEND;TZID=America/Vancouver:20250703T090000
DTSTAMP:20260421T191519
CREATED:20250623T025516Z
LAST-MODIFIED:20250623T054121Z
UID:10006193-1751527800-1751533200@vancouvervikings.ca
SUMMARY:INT1 - SGS
DESCRIPTION:
URL:https://vancouvervikings.ca/event/int-1-sgs-7/
LOCATION:St. George’s Senior School\, 4175 W 29th Ave\, Vancouver\, BC\, V6S 1V1\, Canada
CATEGORIES:INT 1
END:VEVENT
BEGIN:VEVENT
DTSTART;TZID=America/Vancouver:20250703T073000
DTEND;TZID=America/Vancouver:20250703T090000
DTSTAMP:20260421T191519
CREATED:20250629T044729Z
LAST-MODIFIED:20250629T044729Z
UID:10006353-1751527800-1751533200@vancouvervikings.ca
SUMMARY:SR1 - SGS
DESCRIPTION:
URL:https://vancouvervikings.ca/event/sr1-sgs-2/
LOCATION:St. George’s Senior School\, 4175 W 29th Ave\, Vancouver\, BC\, V6S 1V1\, Canada
CATEGORIES:SNR 1
END:VEVENT
BEGIN:VEVENT
DTSTART;TZID=America/Vancouver:20250703T163000
DTEND;TZID=America/Vancouver:20250703T173000
DTSTAMP:20260421T191519
CREATED:20250623T025537Z
LAST-MODIFIED:20250623T051113Z
UID:10006199-1751560200-1751563800@vancouvervikings.ca
SUMMARY:JR3 - LB
DESCRIPTION:
URL:https://vancouvervikings.ca/event/jnr-3-lb-6/
LOCATION:Lord Byng Pool\, 3990 W 14th Ave\, Vancouver\, BC\, V6R 4H2\, Canada
CATEGORIES:JNR3
END:VEVENT
BEGIN:VEVENT
DTSTART;TZID=America/Vancouver:20250703T173000
DTEND;TZID=America/Vancouver:20250703T183000
DTSTAMP:20260421T191519
CREATED:20250623T025537Z
LAST-MODIFIED:20250623T045400Z
UID:10006195-1751563800-1751567400@vancouvervikings.ca
SUMMARY:JR1 - SGS
DESCRIPTION:
URL:https://vancouvervikings.ca/event/jnr-1-sgs-6/
LOCATION:St. George’s Senior School\, 4175 W 29th Ave\, Vancouver\, BC\, V6S 1V1\, Canada
CATEGORIES:JNR 1
END:VEVENT
BEGIN:VEVENT
DTSTART;TZID=America/Vancouver:20250703T173000
DTEND;TZID=America/Vancouver:20250703T183000
DTSTAMP:20260421T191519
CREATED:20250623T025537Z
LAST-MODIFIED:20250623T050114Z
UID:10006196-1751563800-1751567400@vancouvervikings.ca
SUMMARY:INT1 - SGS
DESCRIPTION:
URL:https://vancouvervikings.ca/event/int-1-sgs-8/
LOCATION:St. George’s Senior School\, 4175 W 29th Ave\, Vancouver\, BC\, V6S 1V1\, Canada
CATEGORIES:INT 1
END:VEVENT
BEGIN:VEVENT
DTSTART;TZID=America/Vancouver:20250703T173000
DTEND;TZID=America/Vancouver:20250703T183000
DTSTAMP:20260421T191519
CREATED:20250623T025552Z
LAST-MODIFIED:20250623T045018Z
UID:10006200-1751563800-1751567400@vancouvervikings.ca
SUMMARY:NOV - LB
DESCRIPTION:
URL:https://vancouvervikings.ca/event/nov-lb-3/
LOCATION:Lord Byng Pool\, 3990 W 14th Ave\, Vancouver\, BC\, V6R 4H2\, Canada
CATEGORIES:NOV
END:VEVENT
BEGIN:VEVENT
DTSTART;TZID=America/Vancouver:20250703T183000
DTEND;TZID=America/Vancouver:20250703T193000
DTSTAMP:20260421T191519
CREATED:20250623T025516Z
LAST-MODIFIED:20250629T045050Z
UID:10006194-1751567400-1751571000@vancouvervikings.ca
SUMMARY:JR2 - SGS
DESCRIPTION:
URL:https://vancouvervikings.ca/event/jnr-2-sgs-5/
LOCATION:St. George’s Senior School\, 4175 W 29th Ave\, Vancouver\, BC\, V6S 1V1\, Canada
CATEGORIES:JNR 2
END:VEVENT
BEGIN:VEVENT
DTSTART;TZID=America/Vancouver:20250703T183000
DTEND;TZID=America/Vancouver:20250703T193000
DTSTAMP:20260421T191519
CREATED:20250623T025537Z
LAST-MODIFIED:20250623T050504Z
UID:10006198-1751567400-1751571000@vancouvervikings.ca
SUMMARY:INT2 - SGS
DESCRIPTION:
URL:https://vancouvervikings.ca/event/int-2-sgs-9/
LOCATION:St. George’s Senior School\, 4175 W 29th Ave\, Vancouver\, BC\, V6S 1V1\, Canada
CATEGORIES:INT 2
END:VEVENT
BEGIN:VEVENT
DTSTART;TZID=America/Vancouver:20250703T190000
DTEND;TZID=America/Vancouver:20250703T200000
DTSTAMP:20260421T191519
CREATED:20250623T025552Z
LAST-MODIFIED:20250623T051408Z
UID:10006201-1751569200-1751572800@vancouvervikings.ca
SUMMARY:SR1 - UBC
DESCRIPTION:
URL:https://vancouvervikings.ca/event/snr-1-ubc-9/
LOCATION:UBC Aquatic Centre\, 6121 University Blvd\, Vancouver\, BC\, V6T 1Z1\, Canada
CATEGORIES:SNR 1
END:VEVENT
BEGIN:VEVENT
DTSTART;TZID=America/Vancouver:20250704T073000
DTEND;TZID=America/Vancouver:20250704T090000
DTSTAMP:20260421T191519
CREATED:20250623T025552Z
LAST-MODIFIED:20250623T054121Z
UID:10006203-1751614200-1751619600@vancouvervikings.ca
SUMMARY:INT1 - SGS
DESCRIPTION:
URL:https://vancouvervikings.ca/event/int-1-sgs-9/
LOCATION:St. George’s Senior School\, 4175 W 29th Ave\, Vancouver\, BC\, V6S 1V1\, Canada
CATEGORIES:INT 1
END:VEVENT
BEGIN:VEVENT
DTSTART;TZID=America/Vancouver:20250704T073000
DTEND;TZID=America/Vancouver:20250704T090000
DTSTAMP:20260421T191519
CREATED:20250623T025552Z
LAST-MODIFIED:20250623T053329Z
UID:10006202-1751614200-1751619600@vancouvervikings.ca
SUMMARY:INT2 - LB
DESCRIPTION:
URL:https://vancouvervikings.ca/event/int-2-lb-2/
LOCATION:Lord Byng Pool\, 3990 W 14th Ave\, Vancouver\, BC\, V6R 4H2\, Canada
CATEGORIES:INT 2
END:VEVENT
BEGIN:VEVENT
DTSTART;TZID=America/Vancouver:20250704T073000
DTEND;TZID=America/Vancouver:20250704T090000
DTSTAMP:20260421T191519
CREATED:20250629T045407Z
LAST-MODIFIED:20250629T045407Z
UID:10006354-1751614200-1751619600@vancouvervikings.ca
SUMMARY:SR1 - SGS
DESCRIPTION:
URL:https://vancouvervikings.ca/event/sr1-sgs-3/
LOCATION:St. George’s Senior School\, 4175 W 29th Ave\, Vancouver\, BC\, V6S 1V1\, Canada
CATEGORIES:SNR 1
END:VEVENT
BEGIN:VEVENT
DTSTART;TZID=America/Vancouver:20250704T163000
DTEND;TZID=America/Vancouver:20250704T173000
DTSTAMP:20260421T191519
CREATED:20250623T025607Z
LAST-MODIFIED:20250623T051120Z
UID:10006207-1751646600-1751650200@vancouvervikings.ca
SUMMARY:JR3 - LB
DESCRIPTION:
URL:https://vancouvervikings.ca/event/jnr-3-lb-7/
LOCATION:Lord Byng Pool\, 3990 W 14th Ave\, Vancouver\, BC\, V6R 4H2\, Canada
CATEGORIES:JNR3
END:VEVENT
BEGIN:VEVENT
DTSTART;TZID=America/Vancouver:20250704T173000
DTEND;TZID=America/Vancouver:20250704T183000
DTSTAMP:20260421T191519
CREATED:20250623T025537Z
LAST-MODIFIED:20250629T045323Z
UID:10006197-1751650200-1751653800@vancouvervikings.ca
SUMMARY:SR2 - SGS
DESCRIPTION:
URL:https://vancouvervikings.ca/event/snr-2-sgs-6/
LOCATION:St. George’s Senior School\, 4175 W 29th Ave\, Vancouver\, BC\, V6S 1V1\, Canada
CATEGORIES:SNR 2
END:VEVENT
BEGIN:VEVENT
DTSTART;TZID=America/Vancouver:20250704T173000
DTEND;TZID=America/Vancouver:20250704T183000
DTSTAMP:20260421T191519
CREATED:20250623T025552Z
LAST-MODIFIED:20250623T045400Z
UID:10006204-1751650200-1751653800@vancouvervikings.ca
SUMMARY:JR1 - SGS
DESCRIPTION:
URL:https://vancouvervikings.ca/event/jnr-1-sgs-7/
LOCATION:St. George’s Senior School\, 4175 W 29th Ave\, Vancouver\, BC\, V6S 1V1\, Canada
CATEGORIES:JNR 1
END:VEVENT
BEGIN:VEVENT
DTSTART;TZID=America/Vancouver:20250704T173000
DTEND;TZID=America/Vancouver:20250704T183000
DTSTAMP:20260421T191519
CREATED:20250623T025607Z
LAST-MODIFIED:20250623T045018Z
UID:10006208-1751650200-1751653800@vancouvervikings.ca
SUMMARY:NOV - LB
DESCRIPTION:
URL:https://vancouvervikings.ca/event/nov-lb-4/
LOCATION:Lord Byng Pool\, 3990 W 14th Ave\, Vancouver\, BC\, V6R 4H2\, Canada
CATEGORIES:NOV
END:VEVENT
BEGIN:VEVENT
DTSTART;TZID=America/Vancouver:20250704T183000
DTEND;TZID=America/Vancouver:20250704T193000
DTSTAMP:20260421T191519
CREATED:20250623T025607Z
LAST-MODIFIED:20250629T050342Z
UID:10006205-1751653800-1751657400@vancouvervikings.ca
SUMMARY:INT1 - SGS
DESCRIPTION:
URL:https://vancouvervikings.ca/event/int-1-sgs-10/
LOCATION:St. George’s Senior School\, 4175 W 29th Ave\, Vancouver\, BC\, V6S 1V1\, Canada
CATEGORIES:INT 1
END:VEVENT
BEGIN:VEVENT
DTSTART;TZID=America/Vancouver:20250704T183000
DTEND;TZID=America/Vancouver:20250704T193000
DTSTAMP:20260421T191519
CREATED:20250623T025607Z
LAST-MODIFIED:20250629T050257Z
UID:10006206-1751653800-1751657400@vancouvervikings.ca
SUMMARY:SR1 - SGS
DESCRIPTION:
URL:https://vancouvervikings.ca/event/int-2-sgs-10/
LOCATION:St. George’s Senior School\, 4175 W 29th Ave\, Vancouver\, BC\, V6S 1V1\, Canada
CATEGORIES:SNR 1
END:VEVENT
BEGIN:VEVENT
DTSTART;VALUE=DATE:20250705
DTEND;VALUE=DATE:20250707
DTSTAMP:20260421T191519
CREATED:20250530T045826Z
LAST-MODIFIED:20250623T044355Z
UID:10006122-1751673600-1751846399@vancouvervikings.ca
SUMMARY:HOOTENANNY MEET
DESCRIPTION:
URL:https://vancouvervikings.ca/event/hootenanny-meet/
LOCATION:Watermania\, 14300 Entertainment Blvd.\, Richmond\, BC\, Canada
CATEGORIES:INT 1,INT 2,JNR 1,JNR 2,JNR3,Meets,NOV,SNR 1,SNR 2
END:VEVENT
BEGIN:VEVENT
DTSTART;TZID=America/Vancouver:20250707T073000
DTEND;TZID=America/Vancouver:20250707T083000
DTSTAMP:20260421T191519
CREATED:20250623T025622Z
LAST-MODIFIED:20250623T045400Z
UID:10006210-1751873400-1751877000@vancouvervikings.ca
SUMMARY:JR1 - LB
DESCRIPTION:
URL:https://vancouvervikings.ca/event/jnr-1-lb-5/
LOCATION:Lord Byng Pool\, 3990 W 14th Ave\, Vancouver\, BC\, V6R 4H2\, Canada
CATEGORIES:JNR 1
END:VEVENT
BEGIN:VEVENT
DTSTART;TZID=America/Vancouver:20250707T163000
DTEND;TZID=America/Vancouver:20250707T173000
DTSTAMP:20260421T191519
CREATED:20250623T025652Z
LAST-MODIFIED:20250623T051120Z
UID:10006218-1751905800-1751909400@vancouvervikings.ca
SUMMARY:JR3 - LB
DESCRIPTION:
URL:https://vancouvervikings.ca/event/jnr-3-lb-8/
LOCATION:Lord Byng Pool\, 3990 W 14th Ave\, Vancouver\, BC\, V6R 4H2\, Canada
CATEGORIES:JNR3
END:VEVENT
BEGIN:VEVENT
DTSTART;TZID=America/Vancouver:20250707T173000
DTEND;TZID=America/Vancouver:20250707T183000
DTSTAMP:20260421T191519
CREATED:20250623T025637Z
LAST-MODIFIED:20250623T050853Z
UID:10006214-1751909400-1751913000@vancouvervikings.ca
SUMMARY:JR2 - SGS
DESCRIPTION:
URL:https://vancouvervikings.ca/event/jnr-2-sgs-6/
LOCATION:St. George’s Senior School\, 4175 W 29th Ave\, Vancouver\, BC\, V6S 1V1\, Canada
CATEGORIES:JNR 2
END:VEVENT
BEGIN:VEVENT
DTSTART;TZID=America/Vancouver:20250707T173000
DTEND;TZID=America/Vancouver:20250707T183000
DTSTAMP:20260421T191519
CREATED:20250623T025637Z
LAST-MODIFIED:20250623T050114Z
UID:10006215-1751909400-1751913000@vancouvervikings.ca
SUMMARY:INT1 - SGS
DESCRIPTION:
URL:https://vancouvervikings.ca/event/int-1-sgs-12/
LOCATION:St. George’s Senior School\, 4175 W 29th Ave\, Vancouver\, BC\, V6S 1V1\, Canada
CATEGORIES:INT 1
END:VEVENT
BEGIN:VEVENT
DTSTART;TZID=America/Vancouver:20250707T173000
DTEND;TZID=America/Vancouver:20250707T183000
DTSTAMP:20260421T191519
CREATED:20250623T025652Z
LAST-MODIFIED:20250623T045025Z
UID:10006219-1751909400-1751913000@vancouvervikings.ca
SUMMARY:NOV - LB
DESCRIPTION:
URL:https://vancouvervikings.ca/event/nov-lb-5/
LOCATION:Lord Byng Pool\, 3990 W 14th Ave\, Vancouver\, BC\, V6R 4H2\, Canada
CATEGORIES:NOV
END:VEVENT
BEGIN:VEVENT
DTSTART;TZID=America/Vancouver:20250707T183000
DTEND;TZID=America/Vancouver:20250707T193000
DTSTAMP:20260421T191519
CREATED:20250623T025652Z
LAST-MODIFIED:20250623T050504Z
UID:10006217-1751913000-1751916600@vancouvervikings.ca
SUMMARY:INT2 - SGS
DESCRIPTION:
URL:https://vancouvervikings.ca/event/int-2-sgs-11/
LOCATION:St. George’s Senior School\, 4175 W 29th Ave\, Vancouver\, BC\, V6S 1V1\, Canada
CATEGORIES:INT 2
END:VEVENT
BEGIN:VEVENT
DTSTART;TZID=America/Vancouver:20250707T190000
DTEND;TZID=America/Vancouver:20250707T200000
DTSTAMP:20260421T191519
CREATED:20250623T025652Z
LAST-MODIFIED:20250623T051415Z
UID:10006220-1751914800-1751918400@vancouvervikings.ca
SUMMARY:SR1 - UBC
DESCRIPTION:
URL:https://vancouvervikings.ca/event/snr-1-ubc-10/
LOCATION:UBC Aquatic Centre\, 6121 University Blvd\, Vancouver\, BC\, V6T 1Z1\, Canada
CATEGORIES:SNR 1
END:VEVENT
BEGIN:VEVENT
DTSTART;TZID=America/Vancouver:20250708T071500
DTEND;TZID=America/Vancouver:20250708T084500
DTSTAMP:20260421T191519
CREATED:20250623T025637Z
LAST-MODIFIED:20250629T051030Z
UID:10006213-1751958900-1751964300@vancouvervikings.ca
SUMMARY:SR2 - HC
DESCRIPTION:
URL:https://vancouvervikings.ca/event/snr-2-hc-2/
LOCATION:Hillcrest Aquatic Centre
CATEGORIES:SNR 2
END:VEVENT
BEGIN:VEVENT
DTSTART;TZID=America/Vancouver:20250708T073000
DTEND;TZID=America/Vancouver:20250708T090000
DTSTAMP:20260421T191519
CREATED:20250623T025622Z
LAST-MODIFIED:20250629T051128Z
UID:10006211-1751959800-1751965200@vancouvervikings.ca
SUMMARY:INT1 - SGS
DESCRIPTION:
URL:https://vancouvervikings.ca/event/int-1-sgs-11/
LOCATION:St. George’s Senior School\, 4175 W 29th Ave\, Vancouver\, BC\, V6S 1V1\, Canada
CATEGORIES:INT 1
END:VEVENT
END:VCALENDAR