BEGIN:VCALENDAR
VERSION:2.0
PRODID:-//Vancouver Vikings - ECPv6.15.20//NONSGML v1.0//EN
CALSCALE:GREGORIAN
METHOD:PUBLISH
X-WR-CALNAME:Vancouver Vikings
X-ORIGINAL-URL:https://vancouvervikings.ca
X-WR-CALDESC:Events for Vancouver Vikings
REFRESH-INTERVAL;VALUE=DURATION:PT1H
X-Robots-Tag:noindex
X-PUBLISHED-TTL:PT1H
BEGIN:VTIMEZONE
TZID:America/Vancouver
BEGIN:DAYLIGHT
TZOFFSETFROM:-0800
TZOFFSETTO:-0700
TZNAME:PDT
DTSTART:20240310T100000
END:DAYLIGHT
BEGIN:STANDARD
TZOFFSETFROM:-0700
TZOFFSETTO:-0800
TZNAME:PST
DTSTART:20241103T090000
END:STANDARD
BEGIN:DAYLIGHT
TZOFFSETFROM:-0800
TZOFFSETTO:-0700
TZNAME:PDT
DTSTART:20250309T100000
END:DAYLIGHT
BEGIN:STANDARD
TZOFFSETFROM:-0700
TZOFFSETTO:-0800
TZNAME:PST
DTSTART:20251102T090000
END:STANDARD
BEGIN:DAYLIGHT
TZOFFSETFROM:-0800
TZOFFSETTO:-0700
TZNAME:PDT
DTSTART:20260308T100000
END:DAYLIGHT
BEGIN:STANDARD
TZOFFSETFROM:-0700
TZOFFSETTO:-0800
TZNAME:PST
DTSTART:20261101T090000
END:STANDARD
END:VTIMEZONE
BEGIN:VEVENT
DTSTART;TZID=America/Vancouver:20250625T063000
DTEND;TZID=America/Vancouver:20250625T073000
DTSTAMP:20260420T200738
CREATED:20250623T025012Z
LAST-MODIFIED:20250623T051401Z
UID:10006144-1750833000-1750836600@vancouvervikings.ca
SUMMARY:SR1 - LB
DESCRIPTION:
URL:https://vancouvervikings.ca/event/snr-1-lb/
LOCATION:Lord Byng Pool\, 3990 W 14th Ave\, Vancouver\, BC\, V6R 4H2\, Canada
CATEGORIES:SNR 1
END:VEVENT
BEGIN:VEVENT
DTSTART;TZID=America/Vancouver:20250625T065000
DTEND;TZID=America/Vancouver:20250625T075000
DTSTAMP:20260420T200738
CREATED:20250623T025012Z
LAST-MODIFIED:20250623T050457Z
UID:10006145-1750834200-1750837800@vancouvervikings.ca
SUMMARY:INT2 - SGS
DESCRIPTION:
URL:https://vancouvervikings.ca/event/int-2-sgs-2/
LOCATION:St. George’s Senior School\, 4175 W 29th Ave\, Vancouver\, BC\, V6S 1V1\, Canada
CATEGORIES:INT 2
END:VEVENT
BEGIN:VEVENT
DTSTART;TZID=America/Vancouver:20250625T065000
DTEND;TZID=America/Vancouver:20250625T075000
DTSTAMP:20260420T200738
CREATED:20250623T025012Z
LAST-MODIFIED:20250623T051401Z
UID:10006146-1750834200-1750837800@vancouvervikings.ca
SUMMARY:SR1 - SGS
DESCRIPTION:
URL:https://vancouvervikings.ca/event/snr-1-sgs/
LOCATION:St. George’s Senior School\, 4175 W 29th Ave\, Vancouver\, BC\, V6S 1V1\, Canada
CATEGORIES:SNR 1
END:VEVENT
BEGIN:VEVENT
DTSTART;TZID=America/Vancouver:20250625T170000
DTEND;TZID=America/Vancouver:20250625T180000
DTSTAMP:20260420T200738
CREATED:20250623T025027Z
LAST-MODIFIED:20250623T050457Z
UID:10006149-1750870800-1750874400@vancouvervikings.ca
SUMMARY:INT2 - SGS
DESCRIPTION:
URL:https://vancouvervikings.ca/event/int-2-sgs-3/
LOCATION:St. George’s Senior School\, 4175 W 29th Ave\, Vancouver\, BC\, V6S 1V1\, Canada
CATEGORIES:INT 2
END:VEVENT
BEGIN:VEVENT
DTSTART;TZID=America/Vancouver:20250625T170000
DTEND;TZID=America/Vancouver:20250625T180000
DTSTAMP:20260420T200738
CREATED:20250623T025027Z
LAST-MODIFIED:20250623T045808Z
UID:10006148-1750870800-1750874400@vancouvervikings.ca
SUMMARY:SR2 - SGS
DESCRIPTION:
URL:https://vancouvervikings.ca/event/snr-2-sgs-3/
LOCATION:St. George’s Senior School\, 4175 W 29th Ave\, Vancouver\, BC\, V6S 1V1\, Canada
CATEGORIES:SNR 2
END:VEVENT
BEGIN:VEVENT
DTSTART;TZID=America/Vancouver:20250625T180000
DTEND;TZID=America/Vancouver:20250625T190000
DTSTAMP:20260420T200738
CREATED:20250623T025012Z
LAST-MODIFIED:20250623T051113Z
UID:10006147-1750874400-1750878000@vancouvervikings.ca
SUMMARY:JR3 - LB
DESCRIPTION:
URL:https://vancouvervikings.ca/event/jnr-3-lb-2/
LOCATION:Lord Byng Pool\, 3990 W 14th Ave\, Vancouver\, BC\, V6R 4H2\, Canada
CATEGORIES:JNR3
END:VEVENT
BEGIN:VEVENT
DTSTART;TZID=America/Vancouver:20250625T180000
DTEND;TZID=America/Vancouver:20250625T190000
DTSTAMP:20260420T200738
CREATED:20250623T025027Z
LAST-MODIFIED:20250623T045018Z
UID:10006150-1750874400-1750878000@vancouvervikings.ca
SUMMARY:NOV - JCC
DESCRIPTION:
URL:https://vancouvervikings.ca/event/nov-jcc-2/
LOCATION:Jewish Community Centre\, 950 West 41st Avenue\, Vancouver\, BC\, Canada
CATEGORIES:NOV
END:VEVENT
BEGIN:VEVENT
DTSTART;TZID=America/Vancouver:20250625T190000
DTEND;TZID=America/Vancouver:20250625T200000
DTSTAMP:20260420T200738
CREATED:20250623T025027Z
LAST-MODIFIED:20250623T051401Z
UID:10006151-1750878000-1750881600@vancouvervikings.ca
SUMMARY:SR1 - UBC
DESCRIPTION:
URL:https://vancouvervikings.ca/event/snr-1-ubc-3/
LOCATION:UBC Aquatic Centre\, 6121 University Blvd\, Vancouver\, BC\, V6T 1Z1\, Canada
CATEGORIES:SNR 1
END:VEVENT
BEGIN:VEVENT
DTSTART;TZID=America/Vancouver:20250626T063000
DTEND;TZID=America/Vancouver:20250626T073000
DTSTAMP:20260420T200738
CREATED:20250623T025042Z
LAST-MODIFIED:20250623T045353Z
UID:10006152-1750919400-1750923000@vancouvervikings.ca
SUMMARY:JR1 - LB
DESCRIPTION:
URL:https://vancouvervikings.ca/event/jnr-1-lb-3/
LOCATION:Lord Byng Pool\, 3990 W 14th Ave\, Vancouver\, BC\, V6R 4H2\, Canada
CATEGORIES:JNR 1
END:VEVENT
BEGIN:VEVENT
DTSTART;TZID=America/Vancouver:20250626T065000
DTEND;TZID=America/Vancouver:20250626T075000
DTSTAMP:20260420T200738
CREATED:20250623T025042Z
LAST-MODIFIED:20250623T050107Z
UID:10006153-1750920600-1750924200@vancouvervikings.ca
SUMMARY:INT1 - SGS
DESCRIPTION:
URL:https://vancouvervikings.ca/event/int-1-sgs-3/
LOCATION:St. George’s Senior School\, 4175 W 29th Ave\, Vancouver\, BC\, V6S 1V1\, Canada
CATEGORIES:INT 1
END:VEVENT
BEGIN:VEVENT
DTSTART;TZID=America/Vancouver:20250626T160000
DTEND;TZID=America/Vancouver:20250626T170000
DTSTAMP:20260420T200738
CREATED:20250623T025042Z
LAST-MODIFIED:20250623T045353Z
UID:10006154-1750953600-1750957200@vancouvervikings.ca
SUMMARY:JR1 - SGS
DESCRIPTION:
URL:https://vancouvervikings.ca/event/jnr-1-sgs-2/
LOCATION:St. George’s Senior School\, 4175 W 29th Ave\, Vancouver\, BC\, V6S 1V1\, Canada
CATEGORIES:JNR 1
END:VEVENT
BEGIN:VEVENT
DTSTART;TZID=America/Vancouver:20250626T170000
DTEND;TZID=America/Vancouver:20250626T180000
DTSTAMP:20260420T200738
CREATED:20250623T025042Z
LAST-MODIFIED:20250623T050457Z
UID:10006155-1750957200-1750960800@vancouvervikings.ca
SUMMARY:INT2 - SGS
DESCRIPTION:
URL:https://vancouvervikings.ca/event/int-2-sgs-4/
LOCATION:St. George’s Senior School\, 4175 W 29th Ave\, Vancouver\, BC\, V6S 1V1\, Canada
CATEGORIES:INT 2
END:VEVENT
BEGIN:VEVENT
DTSTART;TZID=America/Vancouver:20250626T180000
DTEND;TZID=America/Vancouver:20250626T190000
DTSTAMP:20260420T200738
CREATED:20250623T025112Z
LAST-MODIFIED:20250626T184409Z
UID:10006162-1750960800-1750964400@vancouvervikings.ca
SUMMARY:NOV - JCC
DESCRIPTION:
URL:https://vancouvervikings.ca/event/nov-jcc-3/
LOCATION:Jewish Community Centre\, 950 West 41st Avenue\, Vancouver\, BC\, Canada
CATEGORIES:NOV
END:VEVENT
BEGIN:VEVENT
DTSTART;TZID=America/Vancouver:20250626T190000
DTEND;TZID=America/Vancouver:20250626T200000
DTSTAMP:20260420T200738
CREATED:20250623T025057Z
LAST-MODIFIED:20250623T051401Z
UID:10006157-1750964400-1750968000@vancouvervikings.ca
SUMMARY:SR1 - UBC
DESCRIPTION:
URL:https://vancouvervikings.ca/event/snr-1-ubc-4/
LOCATION:UBC Aquatic Centre\, 6121 University Blvd\, Vancouver\, BC\, V6T 1Z1\, Canada
CATEGORIES:SNR 1
END:VEVENT
BEGIN:VEVENT
DTSTART;TZID=America/Vancouver:20250626T193000
DTEND;TZID=America/Vancouver:20250626T203000
DTSTAMP:20260420T200738
CREATED:20250623T025042Z
LAST-MODIFIED:20250623T051401Z
UID:10006156-1750966200-1750969800@vancouvervikings.ca
SUMMARY:SR1 - SGS
DESCRIPTION:
URL:https://vancouvervikings.ca/event/snr-1-sgs-2/
LOCATION:St. George’s Senior School\, 4175 W 29th Ave\, Vancouver\, BC\, V6S 1V1\, Canada
CATEGORIES:SNR 1
END:VEVENT
BEGIN:VEVENT
DTSTART;TZID=America/Vancouver:20250627T063000
DTEND;TZID=America/Vancouver:20250627T073000
DTSTAMP:20260420T200738
CREATED:20250623T025057Z
LAST-MODIFIED:20250623T050846Z
UID:10006158-1751005800-1751009400@vancouvervikings.ca
SUMMARY:JR2 - LB
DESCRIPTION:
URL:https://vancouvervikings.ca/event/jnr-2-lb/
LOCATION:Lord Byng Pool\, 3990 W 14th Ave\, Vancouver\, BC\, V6R 4H2\, Canada
CATEGORIES:JNR 2
END:VEVENT
BEGIN:VEVENT
DTSTART;TZID=America/Vancouver:20250627T065000
DTEND;TZID=America/Vancouver:20250627T075000
DTSTAMP:20260420T200738
CREATED:20250623T025057Z
LAST-MODIFIED:20250623T050107Z
UID:10006159-1751007000-1751010600@vancouvervikings.ca
SUMMARY:INT1 - SGS
DESCRIPTION:
URL:https://vancouvervikings.ca/event/int-1-sgs-4/
LOCATION:St. George’s Senior School\, 4175 W 29th Ave\, Vancouver\, BC\, V6S 1V1\, Canada
CATEGORIES:INT 1
END:VEVENT
BEGIN:VEVENT
DTSTART;TZID=America/Vancouver:20250627T160000
DTEND;TZID=America/Vancouver:20250627T170000
DTSTAMP:20260420T200738
CREATED:20250623T025057Z
LAST-MODIFIED:20250623T050846Z
UID:10006160-1751040000-1751043600@vancouvervikings.ca
SUMMARY:JR2 - SGS
DESCRIPTION:
URL:https://vancouvervikings.ca/event/jnr-2-sgs-2/
LOCATION:St. George’s Senior School\, 4175 W 29th Ave\, Vancouver\, BC\, V6S 1V1\, Canada
CATEGORIES:JNR 2
END:VEVENT
BEGIN:VEVENT
DTSTART;TZID=America/Vancouver:20250627T160000
DTEND;TZID=America/Vancouver:20250627T170000
DTSTAMP:20260420T200738
CREATED:20250623T025057Z
LAST-MODIFIED:20250623T045353Z
UID:10006161-1751040000-1751043600@vancouvervikings.ca
SUMMARY:JR1 - SGS
DESCRIPTION:
URL:https://vancouvervikings.ca/event/jnr-1-sgs-3/
LOCATION:St. George’s Senior School\, 4175 W 29th Ave\, Vancouver\, BC\, V6S 1V1\, Canada
CATEGORIES:JNR 1
END:VEVENT
BEGIN:VEVENT
DTSTART;TZID=America/Vancouver:20250627T190000
DTEND;TZID=America/Vancouver:20250627T200000
DTSTAMP:20260420T200738
CREATED:20250623T025112Z
LAST-MODIFIED:20250623T051408Z
UID:10006163-1751050800-1751054400@vancouvervikings.ca
SUMMARY:SR1 - UBC
DESCRIPTION:
URL:https://vancouvervikings.ca/event/snr-1-ubc-5/
LOCATION:UBC Aquatic Centre\, 6121 University Blvd\, Vancouver\, BC\, V6T 1Z1\, Canada
CATEGORIES:SNR 1
END:VEVENT
BEGIN:VEVENT
DTSTART;VALUE=DATE:20250628
DTEND;VALUE=DATE:20250630
DTSTAMP:20260420T200738
CREATED:20250530T190901Z
LAST-MODIFIED:20250530T190901Z
UID:10006126-1751068800-1751241599@vancouvervikings.ca
SUMMARY:NO MEET
DESCRIPTION:
URL:https://vancouvervikings.ca/event/no-meet/
END:VEVENT
BEGIN:VEVENT
DTSTART;TZID=America/Vancouver:20250630T065000
DTEND;TZID=America/Vancouver:20250630T075000
DTSTAMP:20260420T200738
CREATED:20250623T025142Z
LAST-MODIFIED:20250623T051408Z
UID:10006174-1751266200-1751269800@vancouvervikings.ca
SUMMARY:SR1 - SGS
DESCRIPTION:
URL:https://vancouvervikings.ca/event/snr-1-sgs-4/
LOCATION:St. George’s Senior School\, 4175 W 29th Ave\, Vancouver\, BC\, V6S 1V1\, Canada
CATEGORIES:SNR 1
END:VEVENT
BEGIN:VEVENT
DTSTART;TZID=America/Vancouver:20250630T065000
DTEND;TZID=America/Vancouver:20250630T075000
DTSTAMP:20260420T200738
CREATED:20250629T043036Z
LAST-MODIFIED:20250629T043036Z
UID:10006349-1751266200-1751269800@vancouvervikings.ca
SUMMARY:SR2 - SGS
DESCRIPTION:
URL:https://vancouvervikings.ca/event/sr2-sgs-2/
LOCATION:St. George’s Senior School\, 4175 W 29th Ave\, Vancouver\, BC\, V6S 1V1\, Canada
CATEGORIES:SNR 2
END:VEVENT
BEGIN:VEVENT
DTSTART;TZID=America/Vancouver:20250630T073000
DTEND;TZID=America/Vancouver:20250630T090000
DTSTAMP:20260420T200738
CREATED:20250623T025142Z
LAST-MODIFIED:20250623T054508Z
UID:10006173-1751268600-1751274000@vancouvervikings.ca
SUMMARY:JR2 - LB
DESCRIPTION:
URL:https://vancouvervikings.ca/event/jnr-2-lb-2/
LOCATION:Lord Byng Pool\, 3990 W 14th Ave\, Vancouver\, BC\, V6R 4H2\, Canada
CATEGORIES:JNR 2
END:VEVENT
BEGIN:VEVENT
DTSTART;TZID=America/Vancouver:20250630T163000
DTEND;TZID=America/Vancouver:20250630T173000
DTSTAMP:20260420T200738
CREATED:20250623T025158Z
LAST-MODIFIED:20250623T051113Z
UID:10006179-1751301000-1751304600@vancouvervikings.ca
SUMMARY:JR3 - LB
DESCRIPTION:
URL:https://vancouvervikings.ca/event/jnr-3-lb-4/
LOCATION:Lord Byng Pool\, 3990 W 14th Ave\, Vancouver\, BC\, V6R 4H2\, Canada
CATEGORIES:JNR3
END:VEVENT
BEGIN:VEVENT
DTSTART;TZID=America/Vancouver:20250630T170000
DTEND;TZID=America/Vancouver:20250630T180000
DTSTAMP:20260420T200738
CREATED:20250623T025142Z
LAST-MODIFIED:20250623T050107Z
UID:10006175-1751302800-1751306400@vancouvervikings.ca
SUMMARY:INT1 - SGS
DESCRIPTION:
URL:https://vancouvervikings.ca/event/int-1-sgs-5/
LOCATION:St. George’s Senior School\, 4175 W 29th Ave\, Vancouver\, BC\, V6S 1V1\, Canada
CATEGORIES:INT 1
END:VEVENT
BEGIN:VEVENT
DTSTART;TZID=America/Vancouver:20250630T170000
DTEND;TZID=America/Vancouver:20250630T180000
DTSTAMP:20260420T200738
CREATED:20250623T025142Z
LAST-MODIFIED:20250623T045808Z
UID:10006176-1751302800-1751306400@vancouvervikings.ca
SUMMARY:SR2 - SGS
DESCRIPTION:
URL:https://vancouvervikings.ca/event/snr-2-sgs-4/
LOCATION:St. George’s Senior School\, 4175 W 29th Ave\, Vancouver\, BC\, V6S 1V1\, Canada
CATEGORIES:SNR 2
END:VEVENT
BEGIN:VEVENT
DTSTART;TZID=America/Vancouver:20250630T173000
DTEND;TZID=America/Vancouver:20250630T183000
DTSTAMP:20260420T200738
CREATED:20250623T025158Z
LAST-MODIFIED:20250623T045018Z
UID:10006180-1751304600-1751308200@vancouvervikings.ca
SUMMARY:NOV - LB
DESCRIPTION:
URL:https://vancouvervikings.ca/event/nov-lb/
LOCATION:Lord Byng Pool\, 3990 W 14th Ave\, Vancouver\, BC\, V6R 4H2\, Canada
CATEGORIES:NOV
END:VEVENT
BEGIN:VEVENT
DTSTART;TZID=America/Vancouver:20250630T190000
DTEND;TZID=America/Vancouver:20250630T200000
DTSTAMP:20260420T200738
CREATED:20250623T025159Z
LAST-MODIFIED:20250623T051408Z
UID:10006181-1751310000-1751313600@vancouvervikings.ca
SUMMARY:SR1 - UBC
DESCRIPTION:
URL:https://vancouvervikings.ca/event/snr-1-ubc-7/
LOCATION:UBC Aquatic Centre\, 6121 University Blvd\, Vancouver\, BC\, V6T 1Z1\, Canada
CATEGORIES:SNR 1
END:VEVENT
BEGIN:VEVENT
DTSTART;TZID=America/Vancouver:20250702T073000
DTEND;TZID=America/Vancouver:20250702T090000
DTSTAMP:20260420T200738
CREATED:20250623T025302Z
LAST-MODIFIED:20250623T052958Z
UID:10006182-1751441400-1751446800@vancouvervikings.ca
SUMMARY:JR1 - LB
DESCRIPTION:
URL:https://vancouvervikings.ca/event/jnr-1-lb-4/
LOCATION:Lord Byng Pool\, 3990 W 14th Ave\, Vancouver\, BC\, V6R 4H2\, Canada
CATEGORIES:JNR 1
END:VEVENT
END:VCALENDAR