BEGIN:VCALENDAR
VERSION:2.0
PRODID:-//Vancouver Vikings - ECPv6.15.20//NONSGML v1.0//EN
CALSCALE:GREGORIAN
METHOD:PUBLISH
X-WR-CALNAME:Vancouver Vikings
X-ORIGINAL-URL:https://vancouvervikings.ca
X-WR-CALDESC:Events for Vancouver Vikings
REFRESH-INTERVAL;VALUE=DURATION:PT1H
X-Robots-Tag:noindex
X-PUBLISHED-TTL:PT1H
BEGIN:VTIMEZONE
TZID:America/Vancouver
BEGIN:DAYLIGHT
TZOFFSETFROM:-0800
TZOFFSETTO:-0700
TZNAME:PDT
DTSTART:20250309T100000
END:DAYLIGHT
BEGIN:STANDARD
TZOFFSETFROM:-0700
TZOFFSETTO:-0800
TZNAME:PST
DTSTART:20251102T090000
END:STANDARD
BEGIN:DAYLIGHT
TZOFFSETFROM:-0800
TZOFFSETTO:-0700
TZNAME:PDT
DTSTART:20260308T100000
END:DAYLIGHT
BEGIN:STANDARD
TZOFFSETFROM:-0700
TZOFFSETTO:-0800
TZNAME:PST
DTSTART:20261101T090000
END:STANDARD
BEGIN:DAYLIGHT
TZOFFSETFROM:-0800
TZOFFSETTO:-0700
TZNAME:PDT
DTSTART:20270314T100000
END:DAYLIGHT
BEGIN:STANDARD
TZOFFSETFROM:-0700
TZOFFSETTO:-0800
TZNAME:PST
DTSTART:20271107T090000
END:STANDARD
END:VTIMEZONE
BEGIN:VEVENT
DTSTART;TZID=America/Vancouver:20260605T160000
DTEND;TZID=America/Vancouver:20260605T170000
DTSTAMP:20260425T193725
CREATED:20260424T153626Z
LAST-MODIFIED:20260424T153626Z
UID:10006647-1780675200-1780678800@vancouvervikings.ca
SUMMARY:JR 2-SGS
DESCRIPTION:
URL:https://vancouvervikings.ca/event/jr-2-sgs-10/
CATEGORIES:JR 2
END:VEVENT
BEGIN:VEVENT
DTSTART;TZID=America/Vancouver:20260605T160000
DTEND;TZID=America/Vancouver:20260605T170000
DTSTAMP:20260425T193725
CREATED:20260424T153626Z
LAST-MODIFIED:20260424T153626Z
UID:10006648-1780675200-1780678800@vancouvervikings.ca
SUMMARY:JR 3-SGS
DESCRIPTION:
URL:https://vancouvervikings.ca/event/jr-3-sgs-3/
CATEGORIES:JR 3
END:VEVENT
BEGIN:VEVENT
DTSTART;TZID=America/Vancouver:20260605T065000
DTEND;TZID=America/Vancouver:20260605T075000
DTSTAMP:20260425T193725
CREATED:20260424T153625Z
LAST-MODIFIED:20260424T153625Z
UID:10006645-1780642200-1780645800@vancouvervikings.ca
SUMMARY:JR 1-SGS
DESCRIPTION:
URL:https://vancouvervikings.ca/event/jr-1-sgs-5/
CATEGORIES:JR 1
END:VEVENT
BEGIN:VEVENT
DTSTART;TZID=America/Vancouver:20260605T065000
DTEND;TZID=America/Vancouver:20260605T075000
DTSTAMP:20260425T193725
CREATED:20260424T153625Z
LAST-MODIFIED:20260424T153625Z
UID:10006646-1780642200-1780645800@vancouvervikings.ca
SUMMARY:INT 1-SGS
DESCRIPTION:
URL:https://vancouvervikings.ca/event/int-1-sgs-38/
CATEGORIES:INT 1
END:VEVENT
BEGIN:VEVENT
DTSTART;TZID=America/Vancouver:20260604T180000
DTEND;TZID=America/Vancouver:20260604T190000
DTSTAMP:20260425T193725
CREATED:20260424T153321Z
LAST-MODIFIED:20260424T153321Z
UID:10006643-1780596000-1780599600@vancouvervikings.ca
SUMMARY:SR 1-LB
DESCRIPTION:
URL:https://vancouvervikings.ca/event/sr-1-lb-6/
LOCATION:Lord Byng Pool\, 3990 W 14th Ave\, Vancouver\, BC\, Canada
CATEGORIES:SR 1
END:VEVENT
BEGIN:VEVENT
DTSTART;TZID=America/Vancouver:20260604T180000
DTEND;TZID=America/Vancouver:20260604T190000
DTSTAMP:20260425T193725
CREATED:20260424T153321Z
LAST-MODIFIED:20260424T153321Z
UID:10006644-1780596000-1780599600@vancouvervikings.ca
SUMMARY:SR 2-JCC
DESCRIPTION:
URL:https://vancouvervikings.ca/event/sr-2-jcc-3/
LOCATION:Jewish Community Centre\, 950 West 41st Avenue\, Vancouver\, BC\, Canada
CATEGORIES:SR 2
END:VEVENT
BEGIN:VEVENT
DTSTART;TZID=America/Vancouver:20260604T170000
DTEND;TZID=America/Vancouver:20260604T180000
DTSTAMP:20260425T193725
CREATED:20260424T153258Z
LAST-MODIFIED:20260424T153258Z
UID:10006641-1780592400-1780596000@vancouvervikings.ca
SUMMARY:NOV-LB
DESCRIPTION:
URL:https://vancouvervikings.ca/event/nov-lb-40/
LOCATION:Lord Byng Pool\, 3990 W 14th Ave\, Vancouver\, BC\, Canada
CATEGORIES:NOV
END:VEVENT
BEGIN:VEVENT
DTSTART;TZID=America/Vancouver:20260604T170000
DTEND;TZID=America/Vancouver:20260604T180000
DTSTAMP:20260425T193725
CREATED:20260424T153258Z
LAST-MODIFIED:20260424T153258Z
UID:10006642-1780592400-1780596000@vancouvervikings.ca
SUMMARY:JR 2-LB
DESCRIPTION:
URL:https://vancouvervikings.ca/event/jr-2-lb-7/
LOCATION:Lord Byng Pool\, 3990 W 14th Ave\, Vancouver\, BC\, Canada
CATEGORIES:JR 2
END:VEVENT
BEGIN:VEVENT
DTSTART;TZID=America/Vancouver:20260604T063000
DTEND;TZID=America/Vancouver:20260604T073000
DTSTAMP:20260425T193725
CREATED:20260424T153258Z
LAST-MODIFIED:20260424T153258Z
UID:10006640-1780554600-1780558200@vancouvervikings.ca
SUMMARY:SR 1-HC
DESCRIPTION:
URL:https://vancouvervikings.ca/event/sr-1-hc-10/
LOCATION:Hillcrest Aquatic Centre
CATEGORIES:SR 1
END:VEVENT
BEGIN:VEVENT
DTSTART;TZID=America/Vancouver:20260604T063000
DTEND;TZID=America/Vancouver:20260604T073000
DTSTAMP:20260425T193725
CREATED:20260424T153258Z
LAST-MODIFIED:20260424T153258Z
UID:10006639-1780554600-1780558200@vancouvervikings.ca
SUMMARY:INT 2-LB
DESCRIPTION:
URL:https://vancouvervikings.ca/event/int-2-lb-15/
LOCATION:Lord Byng Pool\, 3990 W 14th Ave\, Vancouver\, BC\, Canada
CATEGORIES:INT 2
END:VEVENT
BEGIN:VEVENT
DTSTART;TZID=America/Vancouver:20260603T190000
DTEND;TZID=America/Vancouver:20260603T200000
DTSTAMP:20260425T193725
CREATED:20260424T153258Z
LAST-MODIFIED:20260424T153258Z
UID:10006638-1780513200-1780516800@vancouvervikings.ca
SUMMARY:SR 1-UBC
DESCRIPTION:
URL:https://vancouvervikings.ca/event/sr-1-ubc-9/
LOCATION:UBC Aquatic Centre\, 6121 University Blvd\, Vancouver\, BC\, V6T 1Z1\, Canada
CATEGORIES:SR 1
END:VEVENT
BEGIN:VEVENT
DTSTART;TZID=America/Vancouver:20260603T180000
DTEND;TZID=America/Vancouver:20260603T190000
DTSTAMP:20260425T193725
CREATED:20260424T153258Z
LAST-MODIFIED:20260424T153258Z
UID:10006637-1780509600-1780513200@vancouvervikings.ca
SUMMARY:INT 1-JCC
DESCRIPTION:
URL:https://vancouvervikings.ca/event/int-1-jcc/
LOCATION:Jewish Community Centre\, 950 West 41st Avenue\, Vancouver\, BC\, Canada
CATEGORIES:INT 1
END:VEVENT
BEGIN:VEVENT
DTSTART;TZID=America/Vancouver:20260603T170000
DTEND;TZID=America/Vancouver:20260603T180000
DTSTAMP:20260425T193725
CREATED:20260424T153608Z
LAST-MODIFIED:20260424T153608Z
UID:10006635-1780506000-1780509600@vancouvervikings.ca
SUMMARY:INT 2-SGS
DESCRIPTION:
URL:https://vancouvervikings.ca/event/int-2-sgs-36/
CATEGORIES:INT 2
END:VEVENT
BEGIN:VEVENT
DTSTART;TZID=America/Vancouver:20260603T170000
DTEND;TZID=America/Vancouver:20260603T180000
DTSTAMP:20260425T193725
CREATED:20260424T153608Z
LAST-MODIFIED:20260424T153608Z
UID:10006636-1780506000-1780509600@vancouvervikings.ca
SUMMARY:JR 2-SGS
DESCRIPTION:
URL:https://vancouvervikings.ca/event/jr-2-sgs-9/
CATEGORIES:JR 2
END:VEVENT
BEGIN:VEVENT
DTSTART;TZID=America/Vancouver:20260603T160000
DTEND;TZID=America/Vancouver:20260603T170000
DTSTAMP:20260425T193725
CREATED:20260424T153608Z
LAST-MODIFIED:20260424T153608Z
UID:10006633-1780502400-1780506000@vancouvervikings.ca
SUMMARY:SR 2-SGS
DESCRIPTION:
URL:https://vancouvervikings.ca/event/sr-2-sgs-10/
CATEGORIES:SR 2
END:VEVENT
BEGIN:VEVENT
DTSTART;TZID=America/Vancouver:20260603T160000
DTEND;TZID=America/Vancouver:20260603T170000
DTSTAMP:20260425T193725
CREATED:20260424T153608Z
LAST-MODIFIED:20260424T153608Z
UID:10006634-1780502400-1780506000@vancouvervikings.ca
SUMMARY:JR 1-SGS
DESCRIPTION:
URL:https://vancouvervikings.ca/event/jr-1-sgs-4/
CATEGORIES:JR 1
END:VEVENT
BEGIN:VEVENT
DTSTART;TZID=America/Vancouver:20260603T065000
DTEND;TZID=America/Vancouver:20260603T075000
DTSTAMP:20260425T193725
CREATED:20260424T153608Z
LAST-MODIFIED:20260424T153608Z
UID:10006632-1780469400-1780473000@vancouvervikings.ca
SUMMARY:SR 2-SGS
DESCRIPTION:
URL:https://vancouvervikings.ca/event/sr-2-sgs-9/
CATEGORIES:SR 2
END:VEVENT
BEGIN:VEVENT
DTSTART;TZID=America/Vancouver:20260603T063000
DTEND;TZID=America/Vancouver:20260603T073000
DTSTAMP:20260425T193725
CREATED:20260424T153257Z
LAST-MODIFIED:20260424T153257Z
UID:10006631-1780468200-1780471800@vancouvervikings.ca
SUMMARY:INT 1-LB
DESCRIPTION:
URL:https://vancouvervikings.ca/event/int-1-lb-12/
LOCATION:Lord Byng Pool\, 3990 W 14th Ave\, Vancouver\, BC\, Canada
CATEGORIES:INT 1
END:VEVENT
BEGIN:VEVENT
DTSTART;TZID=America/Vancouver:20260602T190000
DTEND;TZID=America/Vancouver:20260602T200000
DTSTAMP:20260425T193725
CREATED:20260424T153257Z
LAST-MODIFIED:20260424T153257Z
UID:10006629-1780426800-1780430400@vancouvervikings.ca
SUMMARY:INT 1-UBC
DESCRIPTION:
URL:https://vancouvervikings.ca/event/int-1-ubc-7/
LOCATION:UBC Aquatic Centre\, 6121 University Blvd\, Vancouver\, BC\, V6T 1Z1\, Canada
CATEGORIES:INT 1
END:VEVENT
BEGIN:VEVENT
DTSTART;TZID=America/Vancouver:20260602T190000
DTEND;TZID=America/Vancouver:20260602T200000
DTSTAMP:20260425T193725
CREATED:20260424T153257Z
LAST-MODIFIED:20260424T153257Z
UID:10006630-1780426800-1780430400@vancouvervikings.ca
SUMMARY:SR 2-UBC
DESCRIPTION:
URL:https://vancouvervikings.ca/event/sr-2-ubc-9/
LOCATION:UBC Aquatic Centre\, 6121 University Blvd\, Vancouver\, BC\, V6T 1Z1\, Canada
CATEGORIES:SR 2
END:VEVENT
BEGIN:VEVENT
DTSTART;TZID=America/Vancouver:20260602T180000
DTEND;TZID=America/Vancouver:20260602T190000
DTSTAMP:20260425T193725
CREATED:20260424T153257Z
LAST-MODIFIED:20260424T153257Z
UID:10006627-1780423200-1780426800@vancouvervikings.ca
SUMMARY:JR 1-LB
DESCRIPTION:
URL:https://vancouvervikings.ca/event/jr-1-lb-13/
LOCATION:Lord Byng Pool\, 3990 W 14th Ave\, Vancouver\, BC\, Canada
CATEGORIES:JR 1
END:VEVENT
BEGIN:VEVENT
DTSTART;TZID=America/Vancouver:20260602T180000
DTEND;TZID=America/Vancouver:20260602T190000
DTSTAMP:20260425T193725
CREATED:20260424T153257Z
LAST-MODIFIED:20260424T153257Z
UID:10006628-1780423200-1780426800@vancouvervikings.ca
SUMMARY:INT 2-JCC
DESCRIPTION:
URL:https://vancouvervikings.ca/event/int-2-jcc-3/
LOCATION:Jewish Community Centre\, 950 West 41st Avenue\, Vancouver\, BC\, Canada
CATEGORIES:INT 2
END:VEVENT
BEGIN:VEVENT
DTSTART;TZID=America/Vancouver:20260602T170000
DTEND;TZID=America/Vancouver:20260602T180000
DTSTAMP:20260425T193725
CREATED:20260424T153257Z
LAST-MODIFIED:20260424T153257Z
UID:10006625-1780419600-1780423200@vancouvervikings.ca
SUMMARY:NOV-LB
DESCRIPTION:
URL:https://vancouvervikings.ca/event/nov-lb-39/
LOCATION:Lord Byng Pool\, 3990 W 14th Ave\, Vancouver\, BC\, Canada
CATEGORIES:NOV
END:VEVENT
BEGIN:VEVENT
DTSTART;TZID=America/Vancouver:20260602T170000
DTEND;TZID=America/Vancouver:20260602T180000
DTSTAMP:20260425T193725
CREATED:20260424T153257Z
LAST-MODIFIED:20260424T153257Z
UID:10006626-1780419600-1780423200@vancouvervikings.ca
SUMMARY:JR 3-LB
DESCRIPTION:
URL:https://vancouvervikings.ca/event/jr-3-lb-11/
LOCATION:Lord Byng Pool\, 3990 W 14th Ave\, Vancouver\, BC\, Canada
CATEGORIES:JR 3
END:VEVENT
BEGIN:VEVENT
DTSTART;TZID=America/Vancouver:20260602T063000
DTEND;TZID=America/Vancouver:20260602T073000
DTSTAMP:20260425T193725
CREATED:20260424T153257Z
LAST-MODIFIED:20260424T153257Z
UID:10006624-1780381800-1780385400@vancouvervikings.ca
SUMMARY:SR 1-HC
DESCRIPTION:
URL:https://vancouvervikings.ca/event/sr-1-hc-9/
LOCATION:Hillcrest Aquatic Centre
CATEGORIES:SR 1
END:VEVENT
BEGIN:VEVENT
DTSTART;TZID=America/Vancouver:20260601T190000
DTEND;TZID=America/Vancouver:20260601T200000
DTSTAMP:20260425T193725
CREATED:20260424T153257Z
LAST-MODIFIED:20260424T153257Z
UID:10006623-1780340400-1780344000@vancouvervikings.ca
SUMMARY:SR 1-UBC
DESCRIPTION:
URL:https://vancouvervikings.ca/event/sr-1-ubc-8/
LOCATION:UBC Aquatic Centre\, 6121 University Blvd\, Vancouver\, BC\, V6T 1Z1\, Canada
CATEGORIES:SR 1
END:VEVENT
BEGIN:VEVENT
DTSTART;TZID=America/Vancouver:20260601T180000
DTEND;TZID=America/Vancouver:20260601T190000
DTSTAMP:20260425T193725
CREATED:20260424T153257Z
LAST-MODIFIED:20260424T153257Z
UID:10006622-1780336800-1780340400@vancouvervikings.ca
SUMMARY:JR 1-JCC
DESCRIPTION:
URL:https://vancouvervikings.ca/event/jr-1-jcc-2/
LOCATION:Jewish Community Centre\, 950 West 41st Avenue\, Vancouver\, BC\, Canada
CATEGORIES:JR 1
END:VEVENT
BEGIN:VEVENT
DTSTART;TZID=America/Vancouver:20260601T170000
DTEND;TZID=America/Vancouver:20260601T180000
DTSTAMP:20260425T193725
CREATED:20260424T153607Z
LAST-MODIFIED:20260424T153607Z
UID:10006620-1780333200-1780336800@vancouvervikings.ca
SUMMARY:INT 1-SGS
DESCRIPTION:
URL:https://vancouvervikings.ca/event/int-1-sgs-37/
CATEGORIES:INT 1
END:VEVENT
BEGIN:VEVENT
DTSTART;TZID=America/Vancouver:20260601T170000
DTEND;TZID=America/Vancouver:20260601T180000
DTSTAMP:20260425T193725
CREATED:20260424T153607Z
LAST-MODIFIED:20260424T153607Z
UID:10006621-1780333200-1780336800@vancouvervikings.ca
SUMMARY:JR 2-SGS
DESCRIPTION:
URL:https://vancouvervikings.ca/event/jr-2-sgs-8/
CATEGORIES:JR 2
END:VEVENT
BEGIN:VEVENT
DTSTART;TZID=America/Vancouver:20260601T160000
DTEND;TZID=America/Vancouver:20260601T170000
DTSTAMP:20260425T193725
CREATED:20260424T153607Z
LAST-MODIFIED:20260424T153607Z
UID:10006618-1780329600-1780333200@vancouvervikings.ca
SUMMARY:NOV-SGS
DESCRIPTION:
URL:https://vancouvervikings.ca/event/nov-sgs-2/
CATEGORIES:NOV
END:VEVENT
END:VCALENDAR