BEGIN:VCALENDAR
VERSION:2.0
PRODID:-//Vancouver Vikings - ECPv6.15.20//NONSGML v1.0//EN
CALSCALE:GREGORIAN
METHOD:PUBLISH
X-ORIGINAL-URL:https://vancouvervikings.ca
X-WR-CALDESC:Events for Vancouver Vikings
REFRESH-INTERVAL;VALUE=DURATION:PT1H
X-Robots-Tag:noindex
X-PUBLISHED-TTL:PT1H
BEGIN:VTIMEZONE
TZID:America/Vancouver
BEGIN:DAYLIGHT
TZOFFSETFROM:-0800
TZOFFSETTO:-0700
TZNAME:PDT
DTSTART:20250309T100000
END:DAYLIGHT
BEGIN:STANDARD
TZOFFSETFROM:-0700
TZOFFSETTO:-0800
TZNAME:PST
DTSTART:20251102T090000
END:STANDARD
BEGIN:DAYLIGHT
TZOFFSETFROM:-0800
TZOFFSETTO:-0700
TZNAME:PDT
DTSTART:20260308T100000
END:DAYLIGHT
BEGIN:STANDARD
TZOFFSETFROM:-0700
TZOFFSETTO:-0800
TZNAME:PST
DTSTART:20261101T090000
END:STANDARD
BEGIN:DAYLIGHT
TZOFFSETFROM:-0800
TZOFFSETTO:-0700
TZNAME:PDT
DTSTART:20270314T100000
END:DAYLIGHT
BEGIN:STANDARD
TZOFFSETFROM:-0700
TZOFFSETTO:-0800
TZNAME:PST
DTSTART:20271107T090000
END:STANDARD
END:VTIMEZONE
BEGIN:VEVENT
DTSTART;TZID=America/Vancouver:20260510T170000
DTEND;TZID=America/Vancouver:20260510T180000
DTSTAMP:20260425T142310
CREATED:20260424T153130Z
LAST-MODIFIED:20260424T153130Z
UID:10006508-1778432400-1778436000@vancouvervikings.ca
SUMMARY:JR 1-LB
DESCRIPTION:
URL:https://vancouvervikings.ca/event/jr-1-lb-4/
LOCATION:Lord Byng Pool\, 3990 W 14th Ave\, Vancouver\, BC\, Canada
CATEGORIES:JR 1
END:VEVENT
BEGIN:VEVENT
DTSTART;TZID=America/Vancouver:20260510T170000
DTEND;TZID=America/Vancouver:20260510T180000
DTSTAMP:20260425T142310
CREATED:20260424T153130Z
LAST-MODIFIED:20260424T153130Z
UID:10006509-1778432400-1778436000@vancouvervikings.ca
SUMMARY:JR 2-LB
DESCRIPTION:
URL:https://vancouvervikings.ca/event/jr-2-lb-2/
LOCATION:Lord Byng Pool\, 3990 W 14th Ave\, Vancouver\, BC\, Canada
CATEGORIES:JR 2
END:VEVENT
BEGIN:VEVENT
DTSTART;TZID=America/Vancouver:20260510T180000
DTEND;TZID=America/Vancouver:20260510T190000
DTSTAMP:20260425T142310
CREATED:20260424T153130Z
LAST-MODIFIED:20260424T153130Z
UID:10006510-1778436000-1778439600@vancouvervikings.ca
SUMMARY:INT 2-LB
DESCRIPTION:
URL:https://vancouvervikings.ca/event/int-2-lb-8/
LOCATION:Lord Byng Pool\, 3990 W 14th Ave\, Vancouver\, BC\, Canada
CATEGORIES:INT 2
END:VEVENT
BEGIN:VEVENT
DTSTART;TZID=America/Vancouver:20260510T180000
DTEND;TZID=America/Vancouver:20260510T190000
DTSTAMP:20260425T142310
CREATED:20260424T153130Z
LAST-MODIFIED:20260424T153130Z
UID:10006511-1778436000-1778439600@vancouvervikings.ca
SUMMARY:SR 1-LB
DESCRIPTION:
URL:https://vancouvervikings.ca/event/sr-1-lb-3/
LOCATION:Lord Byng Pool\, 3990 W 14th Ave\, Vancouver\, BC\, Canada
CATEGORIES:SR 1
END:VEVENT
BEGIN:VEVENT
DTSTART;TZID=America/Vancouver:20260511T065000
DTEND;TZID=America/Vancouver:20260511T075000
DTSTAMP:20260425T142310
CREATED:20260424T153507Z
LAST-MODIFIED:20260424T153507Z
UID:10006512-1778482200-1778485800@vancouvervikings.ca
SUMMARY:SR 2-SGS
DESCRIPTION:
URL:https://vancouvervikings.ca/event/sr-2-sgs-6/
CATEGORIES:SR 2
END:VEVENT
BEGIN:VEVENT
DTSTART;TZID=America/Vancouver:20260511T065000
DTEND;TZID=America/Vancouver:20260511T075000
DTSTAMP:20260425T142310
CREATED:20260424T153507Z
LAST-MODIFIED:20260424T153507Z
UID:10006513-1778482200-1778485800@vancouvervikings.ca
SUMMARY:INT 2-SGS
DESCRIPTION:
URL:https://vancouvervikings.ca/event/int-2-sgs-32/
CATEGORIES:INT 2
END:VEVENT
BEGIN:VEVENT
DTSTART;TZID=America/Vancouver:20260511T170000
DTEND;TZID=America/Vancouver:20260511T180000
DTSTAMP:20260425T142310
CREATED:20260424T153507Z
LAST-MODIFIED:20260424T153507Z
UID:10006514-1778518800-1778522400@vancouvervikings.ca
SUMMARY:INT 1-SGS
DESCRIPTION:
URL:https://vancouvervikings.ca/event/int-1-sgs-34/
CATEGORIES:INT 1
END:VEVENT
BEGIN:VEVENT
DTSTART;TZID=America/Vancouver:20260511T170000
DTEND;TZID=America/Vancouver:20260511T180000
DTSTAMP:20260425T142310
CREATED:20260424T153507Z
LAST-MODIFIED:20260424T153507Z
UID:10006515-1778518800-1778522400@vancouvervikings.ca
SUMMARY:JR 2-SGS
DESCRIPTION:
URL:https://vancouvervikings.ca/event/jr-2-sgs-5/
CATEGORIES:JR 2
END:VEVENT
BEGIN:VEVENT
DTSTART;TZID=America/Vancouver:20260511T190000
DTEND;TZID=America/Vancouver:20260511T200000
DTSTAMP:20260425T142310
CREATED:20260424T153130Z
LAST-MODIFIED:20260424T153130Z
UID:10006516-1778526000-1778529600@vancouvervikings.ca
SUMMARY:SR 1-UBC
DESCRIPTION:
URL:https://vancouvervikings.ca/event/sr-1-ubc-3/
LOCATION:UBC Aquatic Centre\, 6121 University Blvd\, Vancouver\, BC\, V6T 1Z1\, Canada
CATEGORIES:SR 1
END:VEVENT
BEGIN:VEVENT
DTSTART;TZID=America/Vancouver:20260512T063000
DTEND;TZID=America/Vancouver:20260512T073000
DTSTAMP:20260425T142310
CREATED:20260424T153130Z
LAST-MODIFIED:20260424T153130Z
UID:10006517-1778567400-1778571000@vancouvervikings.ca
SUMMARY:SR 1-HC
DESCRIPTION:
URL:https://vancouvervikings.ca/event/sr-1-hc-3/
LOCATION:Hillcrest Aquatic Centre
CATEGORIES:SR 1
END:VEVENT
BEGIN:VEVENT
DTSTART;TZID=America/Vancouver:20260512T170000
DTEND;TZID=America/Vancouver:20260512T180000
DTSTAMP:20260425T142310
CREATED:20260424T153130Z
LAST-MODIFIED:20260424T153130Z
UID:10006519-1778605200-1778608800@vancouvervikings.ca
SUMMARY:JR 3-LB
DESCRIPTION:
URL:https://vancouvervikings.ca/event/jr-3-lb-4/
LOCATION:Lord Byng Pool\, 3990 W 14th Ave\, Vancouver\, BC\, Canada
CATEGORIES:JR 3
END:VEVENT
BEGIN:VEVENT
DTSTART;TZID=America/Vancouver:20260512T170000
DTEND;TZID=America/Vancouver:20260512T180000
DTSTAMP:20260425T142310
CREATED:20260424T153130Z
LAST-MODIFIED:20260424T153130Z
UID:10006518-1778605200-1778608800@vancouvervikings.ca
SUMMARY:NOV-LB
DESCRIPTION:
URL:https://vancouvervikings.ca/event/nov-lb-32/
LOCATION:Lord Byng Pool\, 3990 W 14th Ave\, Vancouver\, BC\, Canada
CATEGORIES:NOV
END:VEVENT
BEGIN:VEVENT
DTSTART;TZID=America/Vancouver:20260512T180000
DTEND;TZID=America/Vancouver:20260512T190000
DTSTAMP:20260425T142310
CREATED:20260424T153130Z
LAST-MODIFIED:20260424T153130Z
UID:10006520-1778608800-1778612400@vancouvervikings.ca
SUMMARY:JR 1-LB
DESCRIPTION:
URL:https://vancouvervikings.ca/event/jr-1-lb-5/
LOCATION:Lord Byng Pool\, 3990 W 14th Ave\, Vancouver\, BC\, Canada
CATEGORIES:JR 1
END:VEVENT
BEGIN:VEVENT
DTSTART;TZID=America/Vancouver:20260512T190000
DTEND;TZID=America/Vancouver:20260512T200000
DTSTAMP:20260425T142310
CREATED:20260424T153130Z
LAST-MODIFIED:20260424T153130Z
UID:10006521-1778612400-1778616000@vancouvervikings.ca
SUMMARY:INT 1-UBC
DESCRIPTION:
URL:https://vancouvervikings.ca/event/int-1-ubc-2/
LOCATION:UBC Aquatic Centre\, 6121 University Blvd\, Vancouver\, BC\, V6T 1Z1\, Canada
CATEGORIES:INT 1
END:VEVENT
BEGIN:VEVENT
DTSTART;TZID=America/Vancouver:20260512T190000
DTEND;TZID=America/Vancouver:20260512T200000
DTSTAMP:20260425T142310
CREATED:20260424T153130Z
LAST-MODIFIED:20260424T153130Z
UID:10006522-1778612400-1778616000@vancouvervikings.ca
SUMMARY:SR 2-UBC
DESCRIPTION:
URL:https://vancouvervikings.ca/event/sr-2-ubc-3/
LOCATION:UBC Aquatic Centre\, 6121 University Blvd\, Vancouver\, BC\, V6T 1Z1\, Canada
CATEGORIES:SR 2
END:VEVENT
BEGIN:VEVENT
DTSTART;TZID=America/Vancouver:20260513T063000
DTEND;TZID=America/Vancouver:20260513T073000
DTSTAMP:20260425T142310
CREATED:20260424T153148Z
LAST-MODIFIED:20260424T153148Z
UID:10006523-1778653800-1778657400@vancouvervikings.ca
SUMMARY:INT 1-LB
DESCRIPTION:
URL:https://vancouvervikings.ca/event/int-1-lb-7/
LOCATION:Lord Byng Pool\, 3990 W 14th Ave\, Vancouver\, BC\, Canada
CATEGORIES:INT 1
END:VEVENT
BEGIN:VEVENT
DTSTART;TZID=America/Vancouver:20260513T190000
DTEND;TZID=America/Vancouver:20260513T200000
DTSTAMP:20260425T142310
CREATED:20260424T153148Z
LAST-MODIFIED:20260424T153148Z
UID:10006527-1778698800-1778702400@vancouvervikings.ca
SUMMARY:SR 1-UBC
DESCRIPTION:
URL:https://vancouvervikings.ca/event/sr-1-ubc-4/
LOCATION:UBC Aquatic Centre\, 6121 University Blvd\, Vancouver\, BC\, V6T 1Z1\, Canada
CATEGORIES:SR 1
END:VEVENT
BEGIN:VEVENT
DTSTART;TZID=America/Vancouver:20260514T063000
DTEND;TZID=America/Vancouver:20260514T073000
DTSTAMP:20260425T142310
CREATED:20260424T153148Z
LAST-MODIFIED:20260424T153148Z
UID:10006528-1778740200-1778743800@vancouvervikings.ca
SUMMARY:INT 2-LB
DESCRIPTION:
URL:https://vancouvervikings.ca/event/int-2-lb-9/
LOCATION:Lord Byng Pool\, 3990 W 14th Ave\, Vancouver\, BC\, Canada
CATEGORIES:INT 2
END:VEVENT
BEGIN:VEVENT
DTSTART;TZID=America/Vancouver:20260514T063000
DTEND;TZID=America/Vancouver:20260514T073000
DTSTAMP:20260425T142310
CREATED:20260424T153149Z
LAST-MODIFIED:20260424T153149Z
UID:10006529-1778740200-1778743800@vancouvervikings.ca
SUMMARY:SR 1-HC
DESCRIPTION:
URL:https://vancouvervikings.ca/event/sr-1-hc-4/
LOCATION:Hillcrest Aquatic Centre
CATEGORIES:SR 1
END:VEVENT
BEGIN:VEVENT
DTSTART;TZID=America/Vancouver:20260514T170000
DTEND;TZID=America/Vancouver:20260514T180000
DTSTAMP:20260425T142310
CREATED:20260424T153149Z
LAST-MODIFIED:20260424T153149Z
UID:10006530-1778778000-1778781600@vancouvervikings.ca
SUMMARY:NOV-LB
DESCRIPTION:
URL:https://vancouvervikings.ca/event/nov-lb-33/
LOCATION:Lord Byng Pool\, 3990 W 14th Ave\, Vancouver\, BC\, Canada
CATEGORIES:NOV
END:VEVENT
BEGIN:VEVENT
DTSTART;TZID=America/Vancouver:20260514T170000
DTEND;TZID=America/Vancouver:20260514T180000
DTSTAMP:20260425T142310
CREATED:20260424T153149Z
LAST-MODIFIED:20260424T153149Z
UID:10006531-1778778000-1778781600@vancouvervikings.ca
SUMMARY:JR 3-LB
DESCRIPTION:
URL:https://vancouvervikings.ca/event/jr-3-lb-5/
LOCATION:Lord Byng Pool\, 3990 W 14th Ave\, Vancouver\, BC\, Canada
CATEGORIES:JR 3
END:VEVENT
BEGIN:VEVENT
DTSTART;TZID=America/Vancouver:20260514T180000
DTEND;TZID=America/Vancouver:20260514T190000
DTSTAMP:20260425T142310
CREATED:20260424T153149Z
LAST-MODIFIED:20260424T153149Z
UID:10006532-1778781600-1778785200@vancouvervikings.ca
SUMMARY:JR 1-LB
DESCRIPTION:
URL:https://vancouvervikings.ca/event/jr-1-lb-6/
LOCATION:Lord Byng Pool\, 3990 W 14th Ave\, Vancouver\, BC\, Canada
CATEGORIES:JR 1
END:VEVENT
BEGIN:VEVENT
DTSTART;TZID=America/Vancouver:20260514T190000
DTEND;TZID=America/Vancouver:20260514T200000
DTSTAMP:20260425T142310
CREATED:20260424T153149Z
LAST-MODIFIED:20260424T153149Z
UID:10006533-1778785200-1778788800@vancouvervikings.ca
SUMMARY:SR 2-UBC
DESCRIPTION:
URL:https://vancouvervikings.ca/event/sr-2-ubc-4/
LOCATION:UBC Aquatic Centre\, 6121 University Blvd\, Vancouver\, BC\, V6T 1Z1\, Canada
CATEGORIES:SR 2
END:VEVENT
BEGIN:VEVENT
DTSTART;TZID=America/Vancouver:20260515T065000
DTEND;TZID=America/Vancouver:20260515T075000
DTSTAMP:20260425T142310
CREATED:20260424T153522Z
LAST-MODIFIED:20260424T160408Z
UID:10006534-1778827800-1778831400@vancouvervikings.ca
SUMMARY:INT 1-SGS
DESCRIPTION:
URL:https://vancouvervikings.ca/event/__trashed-9/
LOCATION:St. George’s Senior School\, 4175 W 29th Ave\, Vancouver\, BC\, V6S 1V1\, Canada
CATEGORIES:INT 1
END:VEVENT
BEGIN:VEVENT
DTSTART;TZID=America/Vancouver:20260515T065000
DTEND;TZID=America/Vancouver:20260515T075000
DTSTAMP:20260425T142310
CREATED:20260424T153522Z
LAST-MODIFIED:20260424T160408Z
UID:10006535-1778827800-1778831400@vancouvervikings.ca
SUMMARY:JR 1-SGS
DESCRIPTION:
URL:https://vancouvervikings.ca/event/__trashed-10/
LOCATION:St. George’s Senior School\, 4175 W 29th Ave\, Vancouver\, BC\, V6S 1V1\, Canada
CATEGORIES:JR 1
END:VEVENT
BEGIN:VEVENT
DTSTART;TZID=America/Vancouver:20260515T183000
DTEND;TZID=America/Vancouver:20260515T193000
DTSTAMP:20260425T142310
CREATED:20260424T153523Z
LAST-MODIFIED:20260424T160408Z
UID:10006536-1778869800-1778873400@vancouvervikings.ca
SUMMARY:SR 2-SGS
DESCRIPTION:
URL:https://vancouvervikings.ca/event/__trashed-11/
LOCATION:St. George’s Senior School\, 4175 W 29th Ave\, Vancouver\, BC\, V6S 1V1\, Canada
CATEGORIES:SR 2
END:VEVENT
BEGIN:VEVENT
DTSTART;TZID=America/Vancouver:20260515T193000
DTEND;TZID=America/Vancouver:20260515T203000
DTSTAMP:20260425T142310
CREATED:20260424T153523Z
LAST-MODIFIED:20260424T160408Z
UID:10006537-1778873400-1778877000@vancouvervikings.ca
SUMMARY:SR 1-SGS
DESCRIPTION:
URL:https://vancouvervikings.ca/event/__trashed-12/
LOCATION:St. George’s Senior School\, 4175 W 29th Ave\, Vancouver\, BC\, V6S 1V1\, Canada
CATEGORIES:SR 1
END:VEVENT
BEGIN:VEVENT
DTSTART;TZID=America/Vancouver:20260516T100000
DTEND;TZID=America/Vancouver:20260516T120000
DTSTAMP:20260425T142310
CREATED:20260424T153149Z
LAST-MODIFIED:20260424T153149Z
UID:10006538-1778925600-1778932800@vancouvervikings.ca
SUMMARY:Blue and White Meet-JCC
DESCRIPTION:
URL:https://vancouvervikings.ca/event/blue-and-white-meet-jcc/
LOCATION:Jewish Community Centre\, 950 West 41st Avenue\, Vancouver\, BC\, Canada
CATEGORIES:Blue and White Meet
END:VEVENT
BEGIN:VEVENT
DTSTART;TZID=America/Vancouver:20260516T170000
DTEND;TZID=America/Vancouver:20260516T180000
DTSTAMP:20260425T142310
CREATED:20260424T153149Z
LAST-MODIFIED:20260424T153149Z
UID:10006539-1778950800-1778954400@vancouvervikings.ca
SUMMARY:INT 2-LB
DESCRIPTION:
URL:https://vancouvervikings.ca/event/int-2-lb-10/
LOCATION:Lord Byng Pool\, 3990 W 14th Ave\, Vancouver\, BC\, Canada
CATEGORIES:INT 2
END:VEVENT
BEGIN:VEVENT
DTSTART;TZID=America/Vancouver:20260516T170000
DTEND;TZID=America/Vancouver:20260516T180000
DTSTAMP:20260425T142310
CREATED:20260424T153149Z
LAST-MODIFIED:20260424T153149Z
UID:10006540-1778950800-1778954400@vancouvervikings.ca
SUMMARY:NOV-LB
DESCRIPTION:
URL:https://vancouvervikings.ca/event/nov-lb-34/
LOCATION:Lord Byng Pool\, 3990 W 14th Ave\, Vancouver\, BC\, Canada
CATEGORIES:NOV
END:VEVENT
END:VCALENDAR