BEGIN:VCALENDAR
VERSION:2.0
PRODID:-//Vancouver Vikings - ECPv6.15.20//NONSGML v1.0//EN
CALSCALE:GREGORIAN
METHOD:PUBLISH
X-WR-CALNAME:Vancouver Vikings
X-ORIGINAL-URL:https://vancouvervikings.ca
X-WR-CALDESC:Events for Vancouver Vikings
REFRESH-INTERVAL;VALUE=DURATION:PT1H
X-Robots-Tag:noindex
X-PUBLISHED-TTL:PT1H
BEGIN:VTIMEZONE
TZID:America/Vancouver
BEGIN:DAYLIGHT
TZOFFSETFROM:-0800
TZOFFSETTO:-0700
TZNAME:PDT
DTSTART:20250309T100000
END:DAYLIGHT
BEGIN:STANDARD
TZOFFSETFROM:-0700
TZOFFSETTO:-0800
TZNAME:PST
DTSTART:20251102T090000
END:STANDARD
BEGIN:DAYLIGHT
TZOFFSETFROM:-0800
TZOFFSETTO:-0700
TZNAME:PDT
DTSTART:20260308T100000
END:DAYLIGHT
BEGIN:STANDARD
TZOFFSETFROM:-0700
TZOFFSETTO:-0800
TZNAME:PST
DTSTART:20261101T090000
END:STANDARD
BEGIN:DAYLIGHT
TZOFFSETFROM:-0800
TZOFFSETTO:-0700
TZNAME:PDT
DTSTART:20270314T100000
END:DAYLIGHT
BEGIN:STANDARD
TZOFFSETFROM:-0700
TZOFFSETTO:-0800
TZNAME:PST
DTSTART:20271107T090000
END:STANDARD
END:VTIMEZONE
BEGIN:VEVENT
DTSTART;TZID=America/Vancouver:20260525T180000
DTEND;TZID=America/Vancouver:20260525T190000
DTSTAMP:20260425T142127
CREATED:20260424T153225Z
LAST-MODIFIED:20260424T153225Z
UID:10006590-1779732000-1779735600@vancouvervikings.ca
SUMMARY:JR 1-JCC
DESCRIPTION:
URL:https://vancouvervikings.ca/event/jr-1-jcc/
LOCATION:Jewish Community Centre\, 950 West 41st Avenue\, Vancouver\, BC\, Canada
CATEGORIES:JR 1
END:VEVENT
BEGIN:VEVENT
DTSTART;TZID=America/Vancouver:20260525T190000
DTEND;TZID=America/Vancouver:20260525T200000
DTSTAMP:20260425T142127
CREATED:20260424T153225Z
LAST-MODIFIED:20260424T153225Z
UID:10006591-1779735600-1779739200@vancouvervikings.ca
SUMMARY:SR 1-UBC
DESCRIPTION:
URL:https://vancouvervikings.ca/event/sr-1-ubc-6/
LOCATION:UBC Aquatic Centre\, 6121 University Blvd\, Vancouver\, BC\, V6T 1Z1\, Canada
CATEGORIES:SR 1
END:VEVENT
BEGIN:VEVENT
DTSTART;TZID=America/Vancouver:20260526T063000
DTEND;TZID=America/Vancouver:20260526T073000
DTSTAMP:20260425T142127
CREATED:20260424T153225Z
LAST-MODIFIED:20260424T153225Z
UID:10006592-1779777000-1779780600@vancouvervikings.ca
SUMMARY:SR 1-HC
DESCRIPTION:
URL:https://vancouvervikings.ca/event/sr-1-hc-7/
LOCATION:Hillcrest Aquatic Centre
CATEGORIES:SR 1
END:VEVENT
BEGIN:VEVENT
DTSTART;TZID=America/Vancouver:20260526T170000
DTEND;TZID=America/Vancouver:20260526T180000
DTSTAMP:20260425T142127
CREATED:20260424T153225Z
LAST-MODIFIED:20260424T153225Z
UID:10006593-1779814800-1779818400@vancouvervikings.ca
SUMMARY:JR 3-LB
DESCRIPTION:
URL:https://vancouvervikings.ca/event/jr-3-lb-9/
LOCATION:Lord Byng Pool\, 3990 W 14th Ave\, Vancouver\, BC\, Canada
CATEGORIES:JR 3
END:VEVENT
BEGIN:VEVENT
DTSTART;TZID=America/Vancouver:20260526T170000
DTEND;TZID=America/Vancouver:20260526T180000
DTSTAMP:20260425T142127
CREATED:20260424T153225Z
LAST-MODIFIED:20260424T153225Z
UID:10006594-1779814800-1779818400@vancouvervikings.ca
SUMMARY:NOV-LB
DESCRIPTION:
URL:https://vancouvervikings.ca/event/nov-lb-37/
LOCATION:Lord Byng Pool\, 3990 W 14th Ave\, Vancouver\, BC\, Canada
CATEGORIES:NOV
END:VEVENT
BEGIN:VEVENT
DTSTART;TZID=America/Vancouver:20260526T180000
DTEND;TZID=America/Vancouver:20260526T190000
DTSTAMP:20260425T142127
CREATED:20260424T153226Z
LAST-MODIFIED:20260424T153226Z
UID:10006595-1779818400-1779822000@vancouvervikings.ca
SUMMARY:JR 1-LB
DESCRIPTION:
URL:https://vancouvervikings.ca/event/jr-1-lb-11/
LOCATION:Lord Byng Pool\, 3990 W 14th Ave\, Vancouver\, BC\, Canada
CATEGORIES:JR 1
END:VEVENT
BEGIN:VEVENT
DTSTART;TZID=America/Vancouver:20260526T180000
DTEND;TZID=America/Vancouver:20260526T190000
DTSTAMP:20260425T142127
CREATED:20260424T153226Z
LAST-MODIFIED:20260424T153226Z
UID:10006596-1779818400-1779822000@vancouvervikings.ca
SUMMARY:INT 2-JCC
DESCRIPTION:
URL:https://vancouvervikings.ca/event/int-2-jcc-2/
LOCATION:Jewish Community Centre\, 950 West 41st Avenue\, Vancouver\, BC\, Canada
CATEGORIES:INT 2
END:VEVENT
BEGIN:VEVENT
DTSTART;TZID=America/Vancouver:20260526T190000
DTEND;TZID=America/Vancouver:20260526T200000
DTSTAMP:20260425T142127
CREATED:20260424T153226Z
LAST-MODIFIED:20260424T153226Z
UID:10006597-1779822000-1779825600@vancouvervikings.ca
SUMMARY:INT 1-UBC
DESCRIPTION:
URL:https://vancouvervikings.ca/event/int-1-ubc-5/
LOCATION:UBC Aquatic Centre\, 6121 University Blvd\, Vancouver\, BC\, V6T 1Z1\, Canada
CATEGORIES:INT 1
END:VEVENT
BEGIN:VEVENT
DTSTART;TZID=America/Vancouver:20260526T190000
DTEND;TZID=America/Vancouver:20260526T200000
DTSTAMP:20260425T142127
CREATED:20260424T153226Z
LAST-MODIFIED:20260424T153226Z
UID:10006598-1779822000-1779825600@vancouvervikings.ca
SUMMARY:SR 2-UBC
DESCRIPTION:
URL:https://vancouvervikings.ca/event/sr-2-ubc-7/
LOCATION:UBC Aquatic Centre\, 6121 University Blvd\, Vancouver\, BC\, V6T 1Z1\, Canada
CATEGORIES:SR 2
END:VEVENT
BEGIN:VEVENT
DTSTART;TZID=America/Vancouver:20260527T063000
DTEND;TZID=America/Vancouver:20260527T073000
DTSTAMP:20260425T142127
CREATED:20260424T153226Z
LAST-MODIFIED:20260424T153226Z
UID:10006599-1779863400-1779867000@vancouvervikings.ca
SUMMARY:INT 1-LB
DESCRIPTION:
URL:https://vancouvervikings.ca/event/int-1-lb-11/
LOCATION:Lord Byng Pool\, 3990 W 14th Ave\, Vancouver\, BC\, Canada
CATEGORIES:INT 1
END:VEVENT
BEGIN:VEVENT
DTSTART;TZID=America/Vancouver:20260527T065000
DTEND;TZID=America/Vancouver:20260527T075000
DTSTAMP:20260425T142127
CREATED:20260424T153607Z
LAST-MODIFIED:20260424T153607Z
UID:10006600-1779864600-1779868200@vancouvervikings.ca
SUMMARY:SR 2-SGS
DESCRIPTION:
URL:https://vancouvervikings.ca/event/sr-2-sgs-7/
CATEGORIES:SR 2
END:VEVENT
BEGIN:VEVENT
DTSTART;TZID=America/Vancouver:20260527T065000
DTEND;TZID=America/Vancouver:20260527T075000
DTSTAMP:20260425T142127
CREATED:20260424T153607Z
LAST-MODIFIED:20260424T153607Z
UID:10006601-1779864600-1779868200@vancouvervikings.ca
SUMMARY:SR 1-SGS
DESCRIPTION:
URL:https://vancouvervikings.ca/event/sr-1-sgs-3/
CATEGORIES:SR 1
END:VEVENT
BEGIN:VEVENT
DTSTART;TZID=America/Vancouver:20260527T170000
DTEND;TZID=America/Vancouver:20260527T180000
DTSTAMP:20260425T142127
CREATED:20260424T153607Z
LAST-MODIFIED:20260424T153607Z
UID:10006602-1779901200-1779904800@vancouvervikings.ca
SUMMARY:JR 2-SGS
DESCRIPTION:
URL:https://vancouvervikings.ca/event/jr-2-sgs-7/
CATEGORIES:JR 2
END:VEVENT
BEGIN:VEVENT
DTSTART;TZID=America/Vancouver:20260527T170000
DTEND;TZID=America/Vancouver:20260527T180000
DTSTAMP:20260425T142127
CREATED:20260424T153607Z
LAST-MODIFIED:20260424T153607Z
UID:10006603-1779901200-1779904800@vancouvervikings.ca
SUMMARY:INT 2-SGS
DESCRIPTION:
URL:https://vancouvervikings.ca/event/int-2-sgs-34/
CATEGORIES:INT 2
END:VEVENT
BEGIN:VEVENT
DTSTART;TZID=America/Vancouver:20260527T180000
DTEND;TZID=America/Vancouver:20260527T190000
DTSTAMP:20260425T142127
CREATED:20260424T153226Z
LAST-MODIFIED:20260424T153226Z
UID:10006604-1779904800-1779908400@vancouvervikings.ca
SUMMARY:SR 2-JCC
DESCRIPTION:
URL:https://vancouvervikings.ca/event/sr-2-jcc-2/
LOCATION:Jewish Community Centre\, 950 West 41st Avenue\, Vancouver\, BC\, Canada
CATEGORIES:SR 2
END:VEVENT
BEGIN:VEVENT
DTSTART;TZID=America/Vancouver:20260527T190000
DTEND;TZID=America/Vancouver:20260527T200000
DTSTAMP:20260425T142127
CREATED:20260424T153226Z
LAST-MODIFIED:20260424T153226Z
UID:10006605-1779908400-1779912000@vancouvervikings.ca
SUMMARY:SR 1-UBC
DESCRIPTION:
URL:https://vancouvervikings.ca/event/sr-1-ubc-7/
LOCATION:UBC Aquatic Centre\, 6121 University Blvd\, Vancouver\, BC\, V6T 1Z1\, Canada
CATEGORIES:SR 1
END:VEVENT
BEGIN:VEVENT
DTSTART;TZID=America/Vancouver:20260528T063000
DTEND;TZID=America/Vancouver:20260528T073000
DTSTAMP:20260425T142127
CREATED:20260424T153226Z
LAST-MODIFIED:20260424T153226Z
UID:10006606-1779949800-1779953400@vancouvervikings.ca
SUMMARY:INT 2-LB
DESCRIPTION:
URL:https://vancouvervikings.ca/event/int-2-lb-14/
LOCATION:Lord Byng Pool\, 3990 W 14th Ave\, Vancouver\, BC\, Canada
CATEGORIES:INT 2
END:VEVENT
BEGIN:VEVENT
DTSTART;TZID=America/Vancouver:20260528T063000
DTEND;TZID=America/Vancouver:20260528T073000
DTSTAMP:20260425T142127
CREATED:20260424T153226Z
LAST-MODIFIED:20260424T153226Z
UID:10006607-1779949800-1779953400@vancouvervikings.ca
SUMMARY:SR 1-HC
DESCRIPTION:
URL:https://vancouvervikings.ca/event/sr-1-hc-8/
LOCATION:Hillcrest Aquatic Centre
CATEGORIES:SR 1
END:VEVENT
BEGIN:VEVENT
DTSTART;TZID=America/Vancouver:20260528T170000
DTEND;TZID=America/Vancouver:20260528T180000
DTSTAMP:20260425T142127
CREATED:20260424T153226Z
LAST-MODIFIED:20260424T153226Z
UID:10006608-1779987600-1779991200@vancouvervikings.ca
SUMMARY:NOV-LB
DESCRIPTION:
URL:https://vancouvervikings.ca/event/nov-lb-38/
LOCATION:Lord Byng Pool\, 3990 W 14th Ave\, Vancouver\, BC\, Canada
CATEGORIES:NOV
END:VEVENT
BEGIN:VEVENT
DTSTART;TZID=America/Vancouver:20260528T170000
DTEND;TZID=America/Vancouver:20260528T180000
DTSTAMP:20260425T142127
CREATED:20260424T153226Z
LAST-MODIFIED:20260424T153226Z
UID:10006609-1779987600-1779991200@vancouvervikings.ca
SUMMARY:JR 3-LB
DESCRIPTION:
URL:https://vancouvervikings.ca/event/jr-3-lb-10/
LOCATION:Lord Byng Pool\, 3990 W 14th Ave\, Vancouver\, BC\, Canada
CATEGORIES:JR 3
END:VEVENT
BEGIN:VEVENT
DTSTART;TZID=America/Vancouver:20260528T180000
DTEND;TZID=America/Vancouver:20260528T190000
DTSTAMP:20260425T142127
CREATED:20260424T153257Z
LAST-MODIFIED:20260424T153257Z
UID:10006611-1779991200-1779994800@vancouvervikings.ca
SUMMARY:JR 2-JCC
DESCRIPTION:
URL:https://vancouvervikings.ca/event/jr-2-jcc/
LOCATION:Jewish Community Centre\, 950 West 41st Avenue\, Vancouver\, BC\, Canada
CATEGORIES:JR 2
END:VEVENT
BEGIN:VEVENT
DTSTART;TZID=America/Vancouver:20260528T180000
DTEND;TZID=America/Vancouver:20260528T190000
DTSTAMP:20260425T142127
CREATED:20260424T153257Z
LAST-MODIFIED:20260424T153257Z
UID:10006610-1779991200-1779994800@vancouvervikings.ca
SUMMARY:JR 1-LB
DESCRIPTION:
URL:https://vancouvervikings.ca/event/jr-1-lb-12/
LOCATION:Lord Byng Pool\, 3990 W 14th Ave\, Vancouver\, BC\, Canada
CATEGORIES:JR 1
END:VEVENT
BEGIN:VEVENT
DTSTART;TZID=America/Vancouver:20260528T190000
DTEND;TZID=America/Vancouver:20260528T200000
DTSTAMP:20260425T142127
CREATED:20260424T153257Z
LAST-MODIFIED:20260424T153257Z
UID:10006612-1779994800-1779998400@vancouvervikings.ca
SUMMARY:INT 1-UBC
DESCRIPTION:
URL:https://vancouvervikings.ca/event/int-1-ubc-6/
LOCATION:UBC Aquatic Centre\, 6121 University Blvd\, Vancouver\, BC\, V6T 1Z1\, Canada
CATEGORIES:INT 1
END:VEVENT
BEGIN:VEVENT
DTSTART;TZID=America/Vancouver:20260528T190000
DTEND;TZID=America/Vancouver:20260528T200000
DTSTAMP:20260425T142127
CREATED:20260424T153257Z
LAST-MODIFIED:20260424T153257Z
UID:10006613-1779994800-1779998400@vancouvervikings.ca
SUMMARY:SR 2-UBC
DESCRIPTION:
URL:https://vancouvervikings.ca/event/sr-2-ubc-8/
LOCATION:UBC Aquatic Centre\, 6121 University Blvd\, Vancouver\, BC\, V6T 1Z1\, Canada
CATEGORIES:SR 2
END:VEVENT
BEGIN:VEVENT
DTSTART;TZID=America/Vancouver:20260529T065000
DTEND;TZID=America/Vancouver:20260529T075000
DTSTAMP:20260425T142127
CREATED:20260424T153607Z
LAST-MODIFIED:20260424T153607Z
UID:10006614-1780037400-1780041000@vancouvervikings.ca
SUMMARY:JR 1-SGS
DESCRIPTION:
URL:https://vancouvervikings.ca/event/jr-1-sgs-3/
CATEGORIES:JR 1
END:VEVENT
BEGIN:VEVENT
DTSTART;TZID=America/Vancouver:20260529T065000
DTEND;TZID=America/Vancouver:20260529T075000
DTSTAMP:20260425T142127
CREATED:20260424T153607Z
LAST-MODIFIED:20260424T153607Z
UID:10006615-1780037400-1780041000@vancouvervikings.ca
SUMMARY:INT 1-SGS
DESCRIPTION:
URL:https://vancouvervikings.ca/event/int-1-sgs-36/
CATEGORIES:INT 1
END:VEVENT
BEGIN:VEVENT
DTSTART;TZID=America/Vancouver:20260529T160000
DTEND;TZID=America/Vancouver:20260529T170000
DTSTAMP:20260425T142127
CREATED:20260424T160408Z
LAST-MODIFIED:20260424T160409Z
UID:10006746-1780070400-1780074000@vancouvervikings.ca
SUMMARY:INT 2-SGS
DESCRIPTION:
URL:https://vancouvervikings.ca/event/int-2-sgs-45/
LOCATION:St. George’s Senior School\, 4175 W 29th Ave\, Vancouver\, BC\, V6S 1V1\, Canada
CATEGORIES:INT 2
END:VEVENT
BEGIN:VEVENT
DTSTART;TZID=America/Vancouver:20260529T160000
DTEND;TZID=America/Vancouver:20260529T170000
DTSTAMP:20260425T142127
CREATED:20260424T160408Z
LAST-MODIFIED:20260424T160408Z
UID:10006748-1780070400-1780074000@vancouvervikings.ca
SUMMARY:NOV-JCC
DESCRIPTION:
URL:https://vancouvervikings.ca/event/nov-jcc-5/
LOCATION:Jewish Community Centre\, 950 West 41st Avenue\, Vancouver\, BC\, Canada
CATEGORIES:NOV
END:VEVENT
BEGIN:VEVENT
DTSTART;TZID=America/Vancouver:20260529T160000
DTEND;TZID=America/Vancouver:20260529T170000
DTSTAMP:20260425T142127
CREATED:20260424T160409Z
LAST-MODIFIED:20260424T160409Z
UID:10006747-1780070400-1780074000@vancouvervikings.ca
SUMMARY:JR 2-SGS
DESCRIPTION:
URL:https://vancouvervikings.ca/event/jr-2-sgs-18/
LOCATION:St. George’s Senior School\, 4175 W 29th Ave\, Vancouver\, BC\, V6S 1V1\, Canada
CATEGORIES:JR 2
END:VEVENT
BEGIN:VEVENT
DTSTART;TZID=America/Vancouver:20260529T170000
DTEND;TZID=America/Vancouver:20260529T180000
DTSTAMP:20260425T142127
CREATED:20260424T160408Z
LAST-MODIFIED:20260424T160408Z
UID:10006749-1780074000-1780077600@vancouvervikings.ca
SUMMARY:JR 3-JCC
DESCRIPTION:
URL:https://vancouvervikings.ca/event/jr-3-jcc/
LOCATION:Jewish Community Centre\, 950 West 41st Avenue\, Vancouver\, BC\, Canada
CATEGORIES:JR 3
END:VEVENT
END:VCALENDAR