BEGIN:VCALENDAR
VERSION:2.0
PRODID:-//Vancouver Vikings - ECPv6.15.20//NONSGML v1.0//EN
CALSCALE:GREGORIAN
METHOD:PUBLISH
X-ORIGINAL-URL:https://vancouvervikings.ca
X-WR-CALDESC:Events for Vancouver Vikings
REFRESH-INTERVAL;VALUE=DURATION:PT1H
X-Robots-Tag:noindex
X-PUBLISHED-TTL:PT1H
BEGIN:VTIMEZONE
TZID:America/Vancouver
BEGIN:DAYLIGHT
TZOFFSETFROM:-0800
TZOFFSETTO:-0700
TZNAME:PDT
DTSTART:20240310T100000
END:DAYLIGHT
BEGIN:STANDARD
TZOFFSETFROM:-0700
TZOFFSETTO:-0800
TZNAME:PST
DTSTART:20241103T090000
END:STANDARD
BEGIN:DAYLIGHT
TZOFFSETFROM:-0800
TZOFFSETTO:-0700
TZNAME:PDT
DTSTART:20250309T100000
END:DAYLIGHT
BEGIN:STANDARD
TZOFFSETFROM:-0700
TZOFFSETTO:-0800
TZNAME:PST
DTSTART:20251102T090000
END:STANDARD
BEGIN:DAYLIGHT
TZOFFSETFROM:-0800
TZOFFSETTO:-0700
TZNAME:PDT
DTSTART:20260308T100000
END:DAYLIGHT
BEGIN:STANDARD
TZOFFSETFROM:-0700
TZOFFSETTO:-0800
TZNAME:PST
DTSTART:20261101T090000
END:STANDARD
END:VTIMEZONE
BEGIN:VEVENT
DTSTART;TZID=America/Vancouver:20250529T063000
DTEND;TZID=America/Vancouver:20250529T073000
DTSTAMP:20260419T201829
CREATED:20250503T181457Z
LAST-MODIFIED:20250509T041025Z
UID:10005994-1748500200-1748503800@vancouvervikings.ca
SUMMARY:JR1 - LB
DESCRIPTION:
URL:https://vancouvervikings.ca/event/jr1-lb-11/
LOCATION:Lord Byng Pool\, 3990 W 14th Ave\, Vancouver\, BC\, V6R 4H2\, Canada
CATEGORIES:JNR 1
END:VEVENT
BEGIN:VEVENT
DTSTART;TZID=America/Vancouver:20250529T170000
DTEND;TZID=America/Vancouver:20250529T180000
DTSTAMP:20260419T201829
CREATED:20250503T181457Z
LAST-MODIFIED:20250509T041025Z
UID:10005995-1748538000-1748541600@vancouvervikings.ca
SUMMARY:JR2 - LB
DESCRIPTION:
URL:https://vancouvervikings.ca/event/jr2-lb-10/
LOCATION:Lord Byng Pool\, 3990 W 14th Ave\, Vancouver\, BC\, V6R 4H2\, Canada
CATEGORIES:JNR 2
END:VEVENT
BEGIN:VEVENT
DTSTART;TZID=America/Vancouver:20250529T180000
DTEND;TZID=America/Vancouver:20250529T190000
DTSTAMP:20260419T201829
CREATED:20250503T181457Z
LAST-MODIFIED:20250509T041025Z
UID:10005996-1748541600-1748545200@vancouvervikings.ca
SUMMARY:INT2 - LB
DESCRIPTION:
URL:https://vancouvervikings.ca/event/int2-lb-11/
LOCATION:Lord Byng Pool\, 3990 W 14th Ave\, Vancouver\, BC\, V6R 4H2\, Canada
CATEGORIES:INT 2
END:VEVENT
BEGIN:VEVENT
DTSTART;TZID=America/Vancouver:20250529T180000
DTEND;TZID=America/Vancouver:20250529T190000
DTSTAMP:20260419T201829
CREATED:20250503T181658Z
LAST-MODIFIED:20250509T041025Z
UID:10005997-1748541600-1748545200@vancouvervikings.ca
SUMMARY:INT1 - RF
DESCRIPTION:
URL:https://vancouvervikings.ca/event/int1-rf-2/
LOCATION:Renfrew Pool\, 2929 E 22nd Ave\, Vancouver\, BC\, 5M 2Y3\, Canada
CATEGORIES:INT 1
END:VEVENT
BEGIN:VEVENT
DTSTART;TZID=America/Vancouver:20250529T180000
DTEND;TZID=America/Vancouver:20250529T190000
DTSTAMP:20260419T201829
CREATED:20250503T181658Z
LAST-MODIFIED:20250509T041025Z
UID:10005998-1748541600-1748545200@vancouvervikings.ca
SUMMARY:Novice - JCC
DESCRIPTION:
URL:https://vancouvervikings.ca/event/novice-jcc-5/
LOCATION:Jewish Community Centre\, 950 West 41st Avenue\, Vancouver\, BC\, Canada
CATEGORIES:NOV
END:VEVENT
BEGIN:VEVENT
DTSTART;TZID=America/Vancouver:20250529T190000
DTEND;TZID=America/Vancouver:20250529T200000
DTSTAMP:20260419T201829
CREATED:20250503T181659Z
LAST-MODIFIED:20250509T041025Z
UID:10005999-1748545200-1748548800@vancouvervikings.ca
SUMMARY:SR2 - UBC
DESCRIPTION:
URL:https://vancouvervikings.ca/event/sr2-ubc-16/
LOCATION:UBC Aquatic Centre\, 6121 University Blvd\, Vancouver\, BC\, V6T 1Z1\, Canada
CATEGORIES:SNR 2
END:VEVENT
BEGIN:VEVENT
DTSTART;TZID=America/Vancouver:20250529T190000
DTEND;TZID=America/Vancouver:20250529T200000
DTSTAMP:20260419T201829
CREATED:20250503T181659Z
LAST-MODIFIED:20250509T041440Z
UID:10006000-1748545200-1748548800@vancouvervikings.ca
SUMMARY:SR1 - UBC
DESCRIPTION:
URL:https://vancouvervikings.ca/event/sr1-ubc-24/
LOCATION:UBC Aquatic Centre\, 6121 University Blvd\, Vancouver\, BC\, V6T 1Z1\, Canada
CATEGORIES:SNR 1
END:VEVENT
BEGIN:VEVENT
DTSTART;TZID=America/Vancouver:20250530T063000
DTEND;TZID=America/Vancouver:20250530T073000
DTSTAMP:20260419T201829
CREATED:20250503T181659Z
LAST-MODIFIED:20250509T041440Z
UID:10006001-1748586600-1748590200@vancouvervikings.ca
SUMMARY:JR2 - LB
DESCRIPTION:
URL:https://vancouvervikings.ca/event/jr2-lb-11/
LOCATION:Lord Byng Pool\, 3990 W 14th Ave\, Vancouver\, BC\, V6R 4H2\, Canada
CATEGORIES:JNR 2
END:VEVENT
BEGIN:VEVENT
DTSTART;TZID=America/Vancouver:20250530T065000
DTEND;TZID=America/Vancouver:20250530T075000
DTSTAMP:20260419T201829
CREATED:20250503T181714Z
LAST-MODIFIED:20250509T041440Z
UID:10006003-1748587800-1748591400@vancouvervikings.ca
SUMMARY:SR1  - SGS
DESCRIPTION:
URL:https://vancouvervikings.ca/event/sr1-sgs-26/
LOCATION:St. George’s Senior School\, 4175 W 29th Ave\, Vancouver\, BC\, V6S 1V1\, Canada
CATEGORIES:SNR 1
END:VEVENT
BEGIN:VEVENT
DTSTART;TZID=America/Vancouver:20250530T065000
DTEND;TZID=America/Vancouver:20250530T075000
DTSTAMP:20260419T201829
CREATED:20250503T181714Z
LAST-MODIFIED:20250509T041440Z
UID:10006002-1748587800-1748591400@vancouvervikings.ca
SUMMARY:INT2 - SGS
DESCRIPTION:
URL:https://vancouvervikings.ca/event/int2-sgs-11/
LOCATION:St. George’s Senior School\, 4175 W 29th Ave\, Vancouver\, BC\, V6S 1V1\, Canada
CATEGORIES:INT 2
END:VEVENT
BEGIN:VEVENT
DTSTART;TZID=America/Vancouver:20250530T160000
DTEND;TZID=America/Vancouver:20250530T170000
DTSTAMP:20260419T201829
CREATED:20250503T181714Z
LAST-MODIFIED:20250509T042505Z
UID:10006004-1748620800-1748624400@vancouvervikings.ca
SUMMARY:JR3 - SGS
DESCRIPTION:
URL:https://vancouvervikings.ca/event/jr3-sgs-10/
LOCATION:St. George’s Senior School\, 4175 W 29th Ave\, Vancouver\, BC\, V6S 1V1\, Canada
CATEGORIES:JNR3
END:VEVENT
BEGIN:VEVENT
DTSTART;TZID=America/Vancouver:20250530T160000
DTEND;TZID=America/Vancouver:20250530T170000
DTSTAMP:20260419T201829
CREATED:20250503T181714Z
LAST-MODIFIED:20250509T041440Z
UID:10006005-1748620800-1748624400@vancouvervikings.ca
SUMMARY:Novice - SGS
DESCRIPTION:
URL:https://vancouvervikings.ca/event/novice-sgs-3/
LOCATION:St. George’s Senior School\, 4175 W 29th Ave\, Vancouver\, BC\, V6S 1V1\, Canada
CATEGORIES:NOV
END:VEVENT
BEGIN:VEVENT
DTSTART;TZID=America/Vancouver:20250530T183000
DTEND;TZID=America/Vancouver:20250530T193000
DTSTAMP:20260419T201829
CREATED:20250503T181714Z
LAST-MODIFIED:20250509T041440Z
UID:10006006-1748629800-1748633400@vancouvervikings.ca
SUMMARY:INT1 - SGS
DESCRIPTION:
URL:https://vancouvervikings.ca/event/int1-sgs-13/
LOCATION:St. George’s Senior School\, 4175 W 29th Ave\, Vancouver\, BC\, V6S 1V1\, Canada
CATEGORIES:INT 1
END:VEVENT
BEGIN:VEVENT
DTSTART;TZID=America/Vancouver:20250530T183000
DTEND;TZID=America/Vancouver:20250530T193000
DTSTAMP:20260419T201829
CREATED:20250503T181729Z
LAST-MODIFIED:20250509T041440Z
UID:10006007-1748629800-1748633400@vancouvervikings.ca
SUMMARY:JR1- SGS
DESCRIPTION:
URL:https://vancouvervikings.ca/event/jr1-sgs-4/
LOCATION:St. George’s Senior School\, 4175 W 29th Ave\, Vancouver\, BC\, V6S 1V1\, Canada
CATEGORIES:JNR 1
END:VEVENT
BEGIN:VEVENT
DTSTART;TZID=America/Vancouver:20250530T193000
DTEND;TZID=America/Vancouver:20250530T203000
DTSTAMP:20260419T201829
CREATED:20250503T181729Z
LAST-MODIFIED:20250509T041440Z
UID:10006008-1748633400-1748637000@vancouvervikings.ca
SUMMARY:SR1 - SGS
DESCRIPTION:
URL:https://vancouvervikings.ca/event/sr1-sgs-27/
LOCATION:St. George’s Senior School\, 4175 W 29th Ave\, Vancouver\, BC\, V6S 1V1\, Canada
CATEGORIES:SNR 1
END:VEVENT
BEGIN:VEVENT
DTSTART;TZID=America/Vancouver:20250530T193000
DTEND;TZID=America/Vancouver:20250530T203000
DTSTAMP:20260419T201829
CREATED:20250503T181729Z
LAST-MODIFIED:20250509T041440Z
UID:10006009-1748633400-1748637000@vancouvervikings.ca
SUMMARY:SR2 - SGS
DESCRIPTION:
URL:https://vancouvervikings.ca/event/sr2-sgs-29/
LOCATION:St. George’s Senior School\, 4175 W 29th Ave\, Vancouver\, BC\, V6S 1V1\, Canada
CATEGORIES:SNR 2
END:VEVENT
BEGIN:VEVENT
DTSTART;VALUE=DATE:20250531
DTEND;VALUE=DATE:20250602
DTSTAMP:20260419T201829
CREATED:20250509T042022Z
LAST-MODIFIED:20250512T231501Z
UID:10006117-1748649600-1748822399@vancouvervikings.ca
SUMMARY:BURNABY MANTAS PREMIERE SWIM MEET
DESCRIPTION:2025 Mantas Premiere Meet Package
URL:https://vancouvervikings.ca/event/burnaby-manta-meet/
LOCATION:Centennial Outdoor Pool\, 3050 Chester St\, Port Coquitlam\, BC\, V3B 7H3\, Canada
CATEGORIES:Meets
END:VEVENT
BEGIN:VEVENT
DTSTART;TZID=America/Vancouver:20250602T063000
DTEND;TZID=America/Vancouver:20250602T073000
DTSTAMP:20260419T201829
CREATED:20250503T182819Z
LAST-MODIFIED:20250509T041440Z
UID:10006010-1748845800-1748849400@vancouvervikings.ca
SUMMARY:JR1 - LB
DESCRIPTION:
URL:https://vancouvervikings.ca/event/jr1-lb-12/
LOCATION:Lord Byng Pool\, 3990 W 14th Ave\, Vancouver\, BC\, V6R 4H2\, Canada
CATEGORIES:JNR 1
END:VEVENT
BEGIN:VEVENT
DTSTART;TZID=America/Vancouver:20250602T065000
DTEND;TZID=America/Vancouver:20250602T075000
DTSTAMP:20260419T201829
CREATED:20250503T182819Z
LAST-MODIFIED:20250509T041440Z
UID:10006011-1748847000-1748850600@vancouvervikings.ca
SUMMARY:SR2 - SGS
DESCRIPTION:
URL:https://vancouvervikings.ca/event/sr2-sgs-30/
LOCATION:St. George’s Senior School\, 4175 W 29th Ave\, Vancouver\, BC\, V6S 1V1\, Canada
CATEGORIES:SNR 2
END:VEVENT
BEGIN:VEVENT
DTSTART;TZID=America/Vancouver:20250602T065000
DTEND;TZID=America/Vancouver:20250602T075000
DTSTAMP:20260419T201829
CREATED:20250503T182819Z
LAST-MODIFIED:20250509T041440Z
UID:10006012-1748847000-1748850600@vancouvervikings.ca
SUMMARY:INT1 - SGS
DESCRIPTION:
URL:https://vancouvervikings.ca/event/int1-sgs-14/
LOCATION:St. George’s Senior School\, 4175 W 29th Ave\, Vancouver\, BC\, V6S 1V1\, Canada
CATEGORIES:INT 1
END:VEVENT
BEGIN:VEVENT
DTSTART;TZID=America/Vancouver:20250602T170000
DTEND;TZID=America/Vancouver:20250602T180000
DTSTAMP:20260419T201829
CREATED:20250503T182819Z
LAST-MODIFIED:20250509T041440Z
UID:10006013-1748883600-1748887200@vancouvervikings.ca
SUMMARY:INT2 - SGS
DESCRIPTION:
URL:https://vancouvervikings.ca/event/int2-sgs-12/
LOCATION:St. George’s Senior School\, 4175 W 29th Ave\, Vancouver\, BC\, V6S 1V1\, Canada
CATEGORIES:INT 2
END:VEVENT
BEGIN:VEVENT
DTSTART;TZID=America/Vancouver:20250602T170000
DTEND;TZID=America/Vancouver:20250602T180000
DTSTAMP:20260419T201829
CREATED:20250503T182832Z
LAST-MODIFIED:20250509T041441Z
UID:10006014-1748883600-1748887200@vancouvervikings.ca
SUMMARY:JR2 - SGS
DESCRIPTION:
URL:https://vancouvervikings.ca/event/jr2-sgs-5/
LOCATION:St. George’s Senior School\, 4175 W 29th Ave\, Vancouver\, BC\, V6S 1V1\, Canada
CATEGORIES:JNR 2
END:VEVENT
BEGIN:VEVENT
DTSTART;TZID=America/Vancouver:20250602T190000
DTEND;TZID=America/Vancouver:20250602T200000
DTSTAMP:20260419T201829
CREATED:20250503T182832Z
LAST-MODIFIED:20250509T041441Z
UID:10006015-1748890800-1748894400@vancouvervikings.ca
SUMMARY:SR1 - UBC
DESCRIPTION:
URL:https://vancouvervikings.ca/event/sr1-ubc-25/
LOCATION:UBC Aquatic Centre\, 6121 University Blvd\, Vancouver\, BC\, V6T 1Z1\, Canada
CATEGORIES:SNR 1
END:VEVENT
BEGIN:VEVENT
DTSTART;TZID=America/Vancouver:20250603T063000
DTEND;TZID=America/Vancouver:20250603T073000
DTSTAMP:20260419T201829
CREATED:20250503T182832Z
LAST-MODIFIED:20250509T041441Z
UID:10006016-1748932200-1748935800@vancouvervikings.ca
SUMMARY:INT2 - LB
DESCRIPTION:
URL:https://vancouvervikings.ca/event/int2-lb-12/
LOCATION:Lord Byng Pool\, 3990 W 14th Ave\, Vancouver\, BC\, V6R 4H2\, Canada
CATEGORIES:INT 2
END:VEVENT
BEGIN:VEVENT
DTSTART;TZID=America/Vancouver:20250603T160000
DTEND;TZID=America/Vancouver:20250603T170000
DTSTAMP:20260419T201829
CREATED:20250503T182832Z
LAST-MODIFIED:20250509T042511Z
UID:10006017-1748966400-1748970000@vancouvervikings.ca
SUMMARY:JR3 - SGS
DESCRIPTION:
URL:https://vancouvervikings.ca/event/jr3-sgs-11/
LOCATION:St. George’s Senior School\, 4175 W 29th Ave\, Vancouver\, BC\, V6S 1V1\, Canada
CATEGORIES:JNR3
END:VEVENT
BEGIN:VEVENT
DTSTART;TZID=America/Vancouver:20250603T160000
DTEND;TZID=America/Vancouver:20250603T170000
DTSTAMP:20260419T201829
CREATED:20250503T182832Z
LAST-MODIFIED:20250509T041441Z
UID:10006018-1748966400-1748970000@vancouvervikings.ca
SUMMARY:Novice - SGS
DESCRIPTION:
URL:https://vancouvervikings.ca/event/novice-sgs-4/
LOCATION:St. George’s Senior School\, 4175 W 29th Ave\, Vancouver\, BC\, V6S 1V1\, Canada
CATEGORIES:NOV
END:VEVENT
BEGIN:VEVENT
DTSTART;TZID=America/Vancouver:20250603T170000
DTEND;TZID=America/Vancouver:20250603T180000
DTSTAMP:20260419T201829
CREATED:20250503T183033Z
LAST-MODIFIED:20250509T041441Z
UID:10006019-1748970000-1748973600@vancouvervikings.ca
SUMMARY:JR2 - LB
DESCRIPTION:
URL:https://vancouvervikings.ca/event/jr2-lb-12/
LOCATION:Lord Byng Pool\, 3990 W 14th Ave\, Vancouver\, BC\, V6R 4H2\, Canada
CATEGORIES:JNR 2
END:VEVENT
BEGIN:VEVENT
DTSTART;TZID=America/Vancouver:20250603T180000
DTEND;TZID=America/Vancouver:20250603T190000
DTSTAMP:20260419T201829
CREATED:20250503T183033Z
LAST-MODIFIED:20250509T042254Z
UID:10006020-1748973600-1748977200@vancouvervikings.ca
SUMMARY:JR1 - LB
DESCRIPTION:
URL:https://vancouvervikings.ca/event/jr1-lb-13/
LOCATION:Lord Byng Pool\, 3990 W 14th Ave\, Vancouver\, BC\, V6R 4H2\, Canada
CATEGORIES:JNR 1
END:VEVENT
BEGIN:VEVENT
DTSTART;TZID=America/Vancouver:20250603T180000
DTEND;TZID=America/Vancouver:20250603T190000
DTSTAMP:20260419T201829
CREATED:20250503T183033Z
LAST-MODIFIED:20250509T042254Z
UID:10006021-1748973600-1748977200@vancouvervikings.ca
SUMMARY:INT1 - LB
DESCRIPTION:
URL:https://vancouvervikings.ca/event/int1-lb-10/
LOCATION:Lord Byng Pool\, 3990 W 14th Ave\, Vancouver\, BC\, V6R 4H2\, Canada
CATEGORIES:INT 1
END:VEVENT
BEGIN:VEVENT
DTSTART;TZID=America/Vancouver:20250603T190000
DTEND;TZID=America/Vancouver:20250603T200000
DTSTAMP:20260419T201829
CREATED:20250503T183033Z
LAST-MODIFIED:20250509T042254Z
UID:10006022-1748977200-1748980800@vancouvervikings.ca
SUMMARY:SR1 - UBC
DESCRIPTION:
URL:https://vancouvervikings.ca/event/sr1-ubc-26/
LOCATION:UBC Aquatic Centre\, 6121 University Blvd\, Vancouver\, BC\, V6T 1Z1\, Canada
CATEGORIES:SNR 1
END:VEVENT
END:VCALENDAR