BEGIN:VCALENDAR
VERSION:2.0
PRODID:-//Vancouver Vikings - ECPv6.15.20//NONSGML v1.0//EN
CALSCALE:GREGORIAN
METHOD:PUBLISH
X-WR-CALNAME:Vancouver Vikings
X-ORIGINAL-URL:https://vancouvervikings.ca
X-WR-CALDESC:Events for Vancouver Vikings
REFRESH-INTERVAL;VALUE=DURATION:PT1H
X-Robots-Tag:noindex
X-PUBLISHED-TTL:PT1H
BEGIN:VTIMEZONE
TZID:America/Vancouver
BEGIN:DAYLIGHT
TZOFFSETFROM:-0800
TZOFFSETTO:-0700
TZNAME:PDT
DTSTART:20250309T100000
END:DAYLIGHT
BEGIN:STANDARD
TZOFFSETFROM:-0700
TZOFFSETTO:-0800
TZNAME:PST
DTSTART:20251102T090000
END:STANDARD
BEGIN:DAYLIGHT
TZOFFSETFROM:-0800
TZOFFSETTO:-0700
TZNAME:PDT
DTSTART:20260308T100000
END:DAYLIGHT
BEGIN:STANDARD
TZOFFSETFROM:-0700
TZOFFSETTO:-0800
TZNAME:PST
DTSTART:20261101T090000
END:STANDARD
BEGIN:DAYLIGHT
TZOFFSETFROM:-0800
TZOFFSETTO:-0700
TZNAME:PDT
DTSTART:20270314T100000
END:DAYLIGHT
BEGIN:STANDARD
TZOFFSETFROM:-0700
TZOFFSETTO:-0800
TZNAME:PST
DTSTART:20271107T090000
END:STANDARD
END:VTIMEZONE
BEGIN:VEVENT
DTSTART;TZID=America/Vancouver:20260611T190000
DTEND;TZID=America/Vancouver:20260611T200000
DTSTAMP:20260425T161300
CREATED:20260424T153356Z
LAST-MODIFIED:20260424T153356Z
UID:10006683-1781204400-1781208000@vancouvervikings.ca
SUMMARY:SR 1-UBC
DESCRIPTION:
URL:https://vancouvervikings.ca/event/sr-1-ubc-12/
LOCATION:UBC Aquatic Centre\, 6121 University Blvd\, Vancouver\, BC\, V6T 1Z1\, Canada
CATEGORIES:SR 1
END:VEVENT
BEGIN:VEVENT
DTSTART;TZID=America/Vancouver:20260611T190000
DTEND;TZID=America/Vancouver:20260611T200000
DTSTAMP:20260425T161300
CREATED:20260424T153356Z
LAST-MODIFIED:20260424T153356Z
UID:10006682-1781204400-1781208000@vancouvervikings.ca
SUMMARY:SR 2-UBC
DESCRIPTION:
URL:https://vancouvervikings.ca/event/sr-2-ubc-11/
LOCATION:UBC Aquatic Centre\, 6121 University Blvd\, Vancouver\, BC\, V6T 1Z1\, Canada
CATEGORIES:SR 2
END:VEVENT
BEGIN:VEVENT
DTSTART;TZID=America/Vancouver:20260611T180000
DTEND;TZID=America/Vancouver:20260611T190000
DTSTAMP:20260425T161300
CREATED:20260424T153356Z
LAST-MODIFIED:20260424T153356Z
UID:10006680-1781200800-1781204400@vancouvervikings.ca
SUMMARY:JR 1-LB
DESCRIPTION:
URL:https://vancouvervikings.ca/event/jr-1-lb-15/
LOCATION:Lord Byng Pool\, 3990 W 14th Ave\, Vancouver\, BC\, Canada
CATEGORIES:JR 1
END:VEVENT
BEGIN:VEVENT
DTSTART;TZID=America/Vancouver:20260611T180000
DTEND;TZID=America/Vancouver:20260611T190000
DTSTAMP:20260425T161300
CREATED:20260424T153356Z
LAST-MODIFIED:20260424T153356Z
UID:10006681-1781200800-1781204400@vancouvervikings.ca
SUMMARY:JR 2-JCC
DESCRIPTION:
URL:https://vancouvervikings.ca/event/jr-2-jcc-2/
LOCATION:Jewish Community Centre\, 950 West 41st Avenue\, Vancouver\, BC\, Canada
CATEGORIES:JR 2
END:VEVENT
BEGIN:VEVENT
DTSTART;TZID=America/Vancouver:20260611T170000
DTEND;TZID=America/Vancouver:20260611T180000
DTSTAMP:20260425T161300
CREATED:20260424T153323Z
LAST-MODIFIED:20260424T153323Z
UID:10006678-1781197200-1781200800@vancouvervikings.ca
SUMMARY:NOV-LB
DESCRIPTION:
URL:https://vancouvervikings.ca/event/nov-lb-42/
LOCATION:Lord Byng Pool\, 3990 W 14th Ave\, Vancouver\, BC\, Canada
CATEGORIES:NOV
END:VEVENT
BEGIN:VEVENT
DTSTART;TZID=America/Vancouver:20260611T170000
DTEND;TZID=America/Vancouver:20260611T180000
DTSTAMP:20260425T161300
CREATED:20260424T153323Z
LAST-MODIFIED:20260424T153323Z
UID:10006679-1781197200-1781200800@vancouvervikings.ca
SUMMARY:JR 3-LB
DESCRIPTION:
URL:https://vancouvervikings.ca/event/jr-3-lb-13/
LOCATION:Lord Byng Pool\, 3990 W 14th Ave\, Vancouver\, BC\, Canada
CATEGORIES:JR 3
END:VEVENT
BEGIN:VEVENT
DTSTART;TZID=America/Vancouver:20260611T063000
DTEND;TZID=America/Vancouver:20260611T073000
DTSTAMP:20260425T161300
CREATED:20260424T153323Z
LAST-MODIFIED:20260424T153323Z
UID:10006677-1781159400-1781163000@vancouvervikings.ca
SUMMARY:SR 1-HC
DESCRIPTION:
URL:https://vancouvervikings.ca/event/sr-1-hc-12/
LOCATION:Hillcrest Aquatic Centre
CATEGORIES:SR 1
END:VEVENT
BEGIN:VEVENT
DTSTART;TZID=America/Vancouver:20260611T063000
DTEND;TZID=America/Vancouver:20260611T073000
DTSTAMP:20260425T161300
CREATED:20260424T153322Z
LAST-MODIFIED:20260424T153322Z
UID:10006676-1781159400-1781163000@vancouvervikings.ca
SUMMARY:INT 2-LB
DESCRIPTION:
URL:https://vancouvervikings.ca/event/int-2-lb-16/
LOCATION:Lord Byng Pool\, 3990 W 14th Ave\, Vancouver\, BC\, Canada
CATEGORIES:INT 2
END:VEVENT
BEGIN:VEVENT
DTSTART;TZID=America/Vancouver:20260610T190000
DTEND;TZID=America/Vancouver:20260610T200000
DTSTAMP:20260425T161300
CREATED:20260424T153322Z
LAST-MODIFIED:20260424T153322Z
UID:10006675-1781118000-1781121600@vancouvervikings.ca
SUMMARY:SR 1-UBC
DESCRIPTION:
URL:https://vancouvervikings.ca/event/sr-1-ubc-11/
LOCATION:UBC Aquatic Centre\, 6121 University Blvd\, Vancouver\, BC\, V6T 1Z1\, Canada
CATEGORIES:SR 1
END:VEVENT
BEGIN:VEVENT
DTSTART;TZID=America/Vancouver:20260610T180000
DTEND;TZID=America/Vancouver:20260610T190000
DTSTAMP:20260425T161300
CREATED:20260424T153322Z
LAST-MODIFIED:20260424T153322Z
UID:10006674-1781114400-1781118000@vancouvervikings.ca
SUMMARY:INT 1-JCC
DESCRIPTION:
URL:https://vancouvervikings.ca/event/int-1-jcc-2/
LOCATION:Jewish Community Centre\, 950 West 41st Avenue\, Vancouver\, BC\, Canada
CATEGORIES:INT 1
END:VEVENT
BEGIN:VEVENT
DTSTART;TZID=America/Vancouver:20260610T170000
DTEND;TZID=America/Vancouver:20260610T180000
DTSTAMP:20260425T161300
CREATED:20260424T153627Z
LAST-MODIFIED:20260424T153627Z
UID:10006672-1781110800-1781114400@vancouvervikings.ca
SUMMARY:INT 2-SGS
DESCRIPTION:
URL:https://vancouvervikings.ca/event/int-2-sgs-39/
LOCATION:BC
CATEGORIES:INT 2
END:VEVENT
BEGIN:VEVENT
DTSTART;TZID=America/Vancouver:20260610T170000
DTEND;TZID=America/Vancouver:20260610T180000
DTSTAMP:20260425T161300
CREATED:20260424T153627Z
LAST-MODIFIED:20260424T153627Z
UID:10006673-1781110800-1781114400@vancouvervikings.ca
SUMMARY:JR 2-SGS
DESCRIPTION:
URL:https://vancouvervikings.ca/event/jr-2-sgs-12/
LOCATION:BC
CATEGORIES:JR 2
END:VEVENT
BEGIN:VEVENT
DTSTART;TZID=America/Vancouver:20260610T160000
DTEND;TZID=America/Vancouver:20260610T170000
DTSTAMP:20260425T161300
CREATED:20260424T153626Z
LAST-MODIFIED:20260424T153626Z
UID:10006671-1781107200-1781110800@vancouvervikings.ca
SUMMARY:SR 2-SGS
DESCRIPTION:
URL:https://vancouvervikings.ca/event/sr-2-sgs-14/
LOCATION:BC
CATEGORIES:SR 2
END:VEVENT
BEGIN:VEVENT
DTSTART;TZID=America/Vancouver:20260610T065000
DTEND;TZID=America/Vancouver:20260610T075000
DTSTAMP:20260425T161300
CREATED:20260424T153626Z
LAST-MODIFIED:20260424T153626Z
UID:10006670-1781074200-1781077800@vancouvervikings.ca
SUMMARY:SR 2-SGS
DESCRIPTION:
URL:https://vancouvervikings.ca/event/sr-2-sgs-13/
LOCATION:BC
CATEGORIES:SR 2
END:VEVENT
BEGIN:VEVENT
DTSTART;TZID=America/Vancouver:20260610T063000
DTEND;TZID=America/Vancouver:20260610T073000
DTSTAMP:20260425T161300
CREATED:20260424T153322Z
LAST-MODIFIED:20260424T153322Z
UID:10006669-1781073000-1781076600@vancouvervikings.ca
SUMMARY:INT 1-LB
DESCRIPTION:
URL:https://vancouvervikings.ca/event/int-1-lb-13/
LOCATION:Lord Byng Pool\, 3990 W 14th Ave\, Vancouver\, BC\, Canada
CATEGORIES:INT 1
END:VEVENT
BEGIN:VEVENT
DTSTART;TZID=America/Vancouver:20260609T190000
DTEND;TZID=America/Vancouver:20260609T200000
DTSTAMP:20260425T161300
CREATED:20260424T153322Z
LAST-MODIFIED:20260424T153322Z
UID:10006667-1781031600-1781035200@vancouvervikings.ca
SUMMARY:INT 1-UBC
DESCRIPTION:
URL:https://vancouvervikings.ca/event/int-1-ubc-8/
LOCATION:UBC Aquatic Centre\, 6121 University Blvd\, Vancouver\, BC\, V6T 1Z1\, Canada
CATEGORIES:INT 1
END:VEVENT
BEGIN:VEVENT
DTSTART;TZID=America/Vancouver:20260609T190000
DTEND;TZID=America/Vancouver:20260609T200000
DTSTAMP:20260425T161300
CREATED:20260424T153322Z
LAST-MODIFIED:20260424T153322Z
UID:10006668-1781031600-1781035200@vancouvervikings.ca
SUMMARY:SR 2-UBC
DESCRIPTION:
URL:https://vancouvervikings.ca/event/sr-2-ubc-10/
LOCATION:UBC Aquatic Centre\, 6121 University Blvd\, Vancouver\, BC\, V6T 1Z1\, Canada
CATEGORIES:SR 2
END:VEVENT
BEGIN:VEVENT
DTSTART;TZID=America/Vancouver:20260609T180000
DTEND;TZID=America/Vancouver:20260609T190000
DTSTAMP:20260425T161300
CREATED:20260424T153322Z
LAST-MODIFIED:20260424T153322Z
UID:10006665-1781028000-1781031600@vancouvervikings.ca
SUMMARY:JR 1-LB
DESCRIPTION:
URL:https://vancouvervikings.ca/event/jr-1-lb-14/
LOCATION:Lord Byng Pool\, 3990 W 14th Ave\, Vancouver\, BC\, Canada
CATEGORIES:JR 1
END:VEVENT
BEGIN:VEVENT
DTSTART;TZID=America/Vancouver:20260609T180000
DTEND;TZID=America/Vancouver:20260609T190000
DTSTAMP:20260425T161300
CREATED:20260424T153322Z
LAST-MODIFIED:20260424T153322Z
UID:10006666-1781028000-1781031600@vancouvervikings.ca
SUMMARY:INT 2-JCC
DESCRIPTION:
URL:https://vancouvervikings.ca/event/int-2-jcc-4/
LOCATION:Jewish Community Centre\, 950 West 41st Avenue\, Vancouver\, BC\, Canada
CATEGORIES:INT 2
END:VEVENT
BEGIN:VEVENT
DTSTART;TZID=America/Vancouver:20260609T170000
DTEND;TZID=America/Vancouver:20260609T180000
DTSTAMP:20260425T161300
CREATED:20260424T153322Z
LAST-MODIFIED:20260424T153322Z
UID:10006663-1781024400-1781028000@vancouvervikings.ca
SUMMARY:NOV-LB
DESCRIPTION:
URL:https://vancouvervikings.ca/event/nov-lb-41/
LOCATION:Lord Byng Pool\, 3990 W 14th Ave\, Vancouver\, BC\, Canada
CATEGORIES:NOV
END:VEVENT
BEGIN:VEVENT
DTSTART;TZID=America/Vancouver:20260609T170000
DTEND;TZID=America/Vancouver:20260609T180000
DTSTAMP:20260425T161300
CREATED:20260424T153322Z
LAST-MODIFIED:20260424T153322Z
UID:10006664-1781024400-1781028000@vancouvervikings.ca
SUMMARY:JR 3-LB
DESCRIPTION:
URL:https://vancouvervikings.ca/event/jr-3-lb-12/
LOCATION:Lord Byng Pool\, 3990 W 14th Ave\, Vancouver\, BC\, Canada
CATEGORIES:JR 3
END:VEVENT
BEGIN:VEVENT
DTSTART;TZID=America/Vancouver:20260609T063000
DTEND;TZID=America/Vancouver:20260609T073000
DTSTAMP:20260425T161300
CREATED:20260424T153322Z
LAST-MODIFIED:20260424T153322Z
UID:10006662-1780986600-1780990200@vancouvervikings.ca
SUMMARY:SR 1-HC
DESCRIPTION:
URL:https://vancouvervikings.ca/event/sr-1-hc-11/
LOCATION:Hillcrest Aquatic Centre
CATEGORIES:SR 1
END:VEVENT
BEGIN:VEVENT
DTSTART;TZID=America/Vancouver:20260608T190000
DTEND;TZID=America/Vancouver:20260608T200000
DTSTAMP:20260425T161300
CREATED:20260424T153322Z
LAST-MODIFIED:20260424T153322Z
UID:10006661-1780945200-1780948800@vancouvervikings.ca
SUMMARY:SR 1-UBC
DESCRIPTION:
URL:https://vancouvervikings.ca/event/sr-1-ubc-10/
LOCATION:UBC Aquatic Centre\, 6121 University Blvd\, Vancouver\, BC\, V6T 1Z1\, Canada
CATEGORIES:SR 1
END:VEVENT
BEGIN:VEVENT
DTSTART;TZID=America/Vancouver:20260608T180000
DTEND;TZID=America/Vancouver:20260608T190000
DTSTAMP:20260425T161300
CREATED:20260424T153322Z
LAST-MODIFIED:20260424T153322Z
UID:10006660-1780941600-1780945200@vancouvervikings.ca
SUMMARY:JR 1-JCC
DESCRIPTION:
URL:https://vancouvervikings.ca/event/jr-1-jcc-3/
LOCATION:Jewish Community Centre\, 950 West 41st Avenue\, Vancouver\, BC\, Canada
CATEGORIES:JR 1
END:VEVENT
BEGIN:VEVENT
DTSTART;TZID=America/Vancouver:20260608T170000
DTEND;TZID=America/Vancouver:20260608T180000
DTSTAMP:20260425T161300
CREATED:20260424T153626Z
LAST-MODIFIED:20260424T153626Z
UID:10006658-1780938000-1780941600@vancouvervikings.ca
SUMMARY:INT 1-SGS
DESCRIPTION:
URL:https://vancouvervikings.ca/event/int-1-sgs-39/
LOCATION:BC
CATEGORIES:INT 1
END:VEVENT
BEGIN:VEVENT
DTSTART;TZID=America/Vancouver:20260608T170000
DTEND;TZID=America/Vancouver:20260608T180000
DTSTAMP:20260425T161300
CREATED:20260424T153626Z
LAST-MODIFIED:20260424T153626Z
UID:10006659-1780938000-1780941600@vancouvervikings.ca
SUMMARY:JR 2-SGS
DESCRIPTION:
URL:https://vancouvervikings.ca/event/jr-2-sgs-11/
LOCATION:BC
CATEGORIES:JR 2
END:VEVENT
BEGIN:VEVENT
DTSTART;TZID=America/Vancouver:20260608T160000
DTEND;TZID=America/Vancouver:20260608T170000
DTSTAMP:20260425T161300
CREATED:20260424T153626Z
LAST-MODIFIED:20260424T153626Z
UID:10006656-1780934400-1780938000@vancouvervikings.ca
SUMMARY:NOV-SGS
DESCRIPTION:
URL:https://vancouvervikings.ca/event/nov-sgs-3/
LOCATION:BC
CATEGORIES:NOV
END:VEVENT
BEGIN:VEVENT
DTSTART;TZID=America/Vancouver:20260608T160000
DTEND;TZID=America/Vancouver:20260608T170000
DTSTAMP:20260425T161300
CREATED:20260424T153626Z
LAST-MODIFIED:20260424T153626Z
UID:10006657-1780934400-1780938000@vancouvervikings.ca
SUMMARY:JR 3-SGS
DESCRIPTION:
URL:https://vancouvervikings.ca/event/jr-3-sgs-4/
LOCATION:BC
CATEGORIES:JR 3
END:VEVENT
BEGIN:VEVENT
DTSTART;TZID=America/Vancouver:20260608T065000
DTEND;TZID=America/Vancouver:20260608T075000
DTSTAMP:20260425T161300
CREATED:20260424T153626Z
LAST-MODIFIED:20260424T153626Z
UID:10006654-1780901400-1780905000@vancouvervikings.ca
SUMMARY:SR 2-SGS
DESCRIPTION:
URL:https://vancouvervikings.ca/event/sr-2-sgs-12/
LOCATION:BC
CATEGORIES:SR 2
END:VEVENT
BEGIN:VEVENT
DTSTART;TZID=America/Vancouver:20260608T065000
DTEND;TZID=America/Vancouver:20260608T075000
DTSTAMP:20260425T161300
CREATED:20260424T153626Z
LAST-MODIFIED:20260424T153626Z
UID:10006655-1780901400-1780905000@vancouvervikings.ca
SUMMARY:INT 2-SGS
DESCRIPTION:
URL:https://vancouvervikings.ca/event/int-2-sgs-38/
LOCATION:BC
CATEGORIES:INT 2
END:VEVENT
END:VCALENDAR