BEGIN:VCALENDAR
VERSION:2.0
PRODID:-//Vancouver Vikings - ECPv6.15.20//NONSGML v1.0//EN
CALSCALE:GREGORIAN
METHOD:PUBLISH
X-WR-CALNAME:Vancouver Vikings
X-ORIGINAL-URL:https://vancouvervikings.ca
X-WR-CALDESC:Events for Vancouver Vikings
REFRESH-INTERVAL;VALUE=DURATION:PT1H
X-Robots-Tag:noindex
X-PUBLISHED-TTL:PT1H
BEGIN:VTIMEZONE
TZID:America/Vancouver
BEGIN:DAYLIGHT
TZOFFSETFROM:-0800
TZOFFSETTO:-0700
TZNAME:PDT
DTSTART:20250309T100000
END:DAYLIGHT
BEGIN:STANDARD
TZOFFSETFROM:-0700
TZOFFSETTO:-0800
TZNAME:PST
DTSTART:20251102T090000
END:STANDARD
BEGIN:DAYLIGHT
TZOFFSETFROM:-0800
TZOFFSETTO:-0700
TZNAME:PDT
DTSTART:20260308T100000
END:DAYLIGHT
BEGIN:STANDARD
TZOFFSETFROM:-0700
TZOFFSETTO:-0800
TZNAME:PST
DTSTART:20261101T090000
END:STANDARD
BEGIN:DAYLIGHT
TZOFFSETFROM:-0800
TZOFFSETTO:-0700
TZNAME:PDT
DTSTART:20270314T100000
END:DAYLIGHT
BEGIN:STANDARD
TZOFFSETFROM:-0700
TZOFFSETTO:-0800
TZNAME:PST
DTSTART:20271107T090000
END:STANDARD
END:VTIMEZONE
BEGIN:VEVENT
DTSTART;TZID=America/Vancouver:20260521T190000
DTEND;TZID=America/Vancouver:20260521T200000
DTSTAMP:20260424T183734
CREATED:20260424T153211Z
LAST-MODIFIED:20260424T153211Z
UID:10006570-1779390000-1779393600@vancouvervikings.ca
SUMMARY:SR 2-UBC
DESCRIPTION:
URL:https://vancouvervikings.ca/event/sr-2-ubc-6/
LOCATION:UBC Aquatic Centre\, 6121 University Blvd\, Vancouver\, BC\, V6T 1Z1\, Canada
CATEGORIES:SR 2
END:VEVENT
END:VCALENDAR