BEGIN:VCALENDAR
VERSION:2.0
PRODID:-//Vancouver Vikings - ECPv6.15.20//NONSGML v1.0//EN
CALSCALE:GREGORIAN
METHOD:PUBLISH
X-WR-CALNAME:Vancouver Vikings
X-ORIGINAL-URL:https://vancouvervikings.ca
X-WR-CALDESC:Events for Vancouver Vikings
REFRESH-INTERVAL;VALUE=DURATION:PT1H
X-Robots-Tag:noindex
X-PUBLISHED-TTL:PT1H
BEGIN:VTIMEZONE
TZID:America/Vancouver
BEGIN:DAYLIGHT
TZOFFSETFROM:-0800
TZOFFSETTO:-0700
TZNAME:PDT
DTSTART:20250309T100000
END:DAYLIGHT
BEGIN:STANDARD
TZOFFSETFROM:-0700
TZOFFSETTO:-0800
TZNAME:PST
DTSTART:20251102T090000
END:STANDARD
BEGIN:DAYLIGHT
TZOFFSETFROM:-0800
TZOFFSETTO:-0700
TZNAME:PDT
DTSTART:20260308T100000
END:DAYLIGHT
BEGIN:STANDARD
TZOFFSETFROM:-0700
TZOFFSETTO:-0800
TZNAME:PST
DTSTART:20261101T090000
END:STANDARD
BEGIN:DAYLIGHT
TZOFFSETFROM:-0800
TZOFFSETTO:-0700
TZNAME:PDT
DTSTART:20270314T100000
END:DAYLIGHT
BEGIN:STANDARD
TZOFFSETFROM:-0700
TZOFFSETTO:-0800
TZNAME:PST
DTSTART:20271107T090000
END:STANDARD
END:VTIMEZONE
BEGIN:VEVENT
DTSTART;TZID=America/Vancouver:20260612T193000
DTEND;TZID=America/Vancouver:20260612T203000
DTSTAMP:20260425T041812
CREATED:20260424T153645Z
LAST-MODIFIED:20260424T153645Z
UID:10006689-1781292600-1781296200@vancouvervikings.ca
SUMMARY:SR 1-SGS
DESCRIPTION:
URL:https://vancouvervikings.ca/event/sr-1-sgs-5/
LOCATION:BC
CATEGORIES:SR 1
END:VEVENT
BEGIN:VEVENT
DTSTART;TZID=America/Vancouver:20260615T190000
DTEND;TZID=America/Vancouver:20260615T200000
DTSTAMP:20260425T041812
CREATED:20260424T153357Z
LAST-MODIFIED:20260424T153357Z
UID:10006699-1781550000-1781553600@vancouvervikings.ca
SUMMARY:SR 1-UBC
DESCRIPTION:
URL:https://vancouvervikings.ca/event/sr-1-ubc-13/
LOCATION:UBC Aquatic Centre\, 6121 University Blvd\, Vancouver\, BC\, V6T 1Z1\, Canada
CATEGORIES:SR 1
END:VEVENT
BEGIN:VEVENT
DTSTART;TZID=America/Vancouver:20260616T063000
DTEND;TZID=America/Vancouver:20260616T073000
DTSTAMP:20260425T041812
CREATED:20260424T153357Z
LAST-MODIFIED:20260424T153357Z
UID:10006700-1781591400-1781595000@vancouvervikings.ca
SUMMARY:SR 1-HC
DESCRIPTION:
URL:https://vancouvervikings.ca/event/sr-1-hc-13/
LOCATION:Hillcrest Aquatic Centre
CATEGORIES:SR 1
END:VEVENT
BEGIN:VEVENT
DTSTART;TZID=America/Vancouver:20260616T160000
DTEND;TZID=America/Vancouver:20260616T170000
DTSTAMP:20260425T041812
CREATED:20260424T153646Z
LAST-MODIFIED:20260424T153646Z
UID:10006701-1781625600-1781629200@vancouvervikings.ca
SUMMARY:SR 1-SGS
DESCRIPTION:
URL:https://vancouvervikings.ca/event/sr-1-sgs-6/
LOCATION:BC
CATEGORIES:SR 1
END:VEVENT
BEGIN:VEVENT
DTSTART;TZID=America/Vancouver:20260617T190000
DTEND;TZID=America/Vancouver:20260617T200000
DTSTAMP:20260425T041812
CREATED:20260424T153357Z
LAST-MODIFIED:20260424T153357Z
UID:10006715-1781722800-1781726400@vancouvervikings.ca
SUMMARY:SR 1-UBC
DESCRIPTION:
URL:https://vancouvervikings.ca/event/sr-1-ubc-14/
LOCATION:UBC Aquatic Centre\, 6121 University Blvd\, Vancouver\, BC\, V6T 1Z1\, Canada
CATEGORIES:SR 1
END:VEVENT
BEGIN:VEVENT
DTSTART;TZID=America/Vancouver:20260618T063000
DTEND;TZID=America/Vancouver:20260618T073000
DTSTAMP:20260425T041812
CREATED:20260424T153357Z
LAST-MODIFIED:20260424T153357Z
UID:10006717-1781764200-1781767800@vancouvervikings.ca
SUMMARY:SR 1-HC
DESCRIPTION:
URL:https://vancouvervikings.ca/event/sr-1-hc-14/
LOCATION:Hillcrest Aquatic Centre
CATEGORIES:SR 1
END:VEVENT
BEGIN:VEVENT
DTSTART;TZID=America/Vancouver:20260618T190000
DTEND;TZID=America/Vancouver:20260618T200000
DTSTAMP:20260425T041812
CREATED:20260424T153415Z
LAST-MODIFIED:20260424T153415Z
UID:10006724-1781809200-1781812800@vancouvervikings.ca
SUMMARY:SR 1-UBC
DESCRIPTION:
URL:https://vancouvervikings.ca/event/sr-1-ubc-15/
LOCATION:UBC Aquatic Centre\, 6121 University Blvd\, Vancouver\, BC\, V6T 1Z1\, Canada
CATEGORIES:SR 1
END:VEVENT
BEGIN:VEVENT
DTSTART;TZID=America/Vancouver:20260622T190000
DTEND;TZID=America/Vancouver:20260622T200000
DTSTAMP:20260425T041812
CREATED:20260424T153415Z
LAST-MODIFIED:20260424T153415Z
UID:10006737-1782154800-1782158400@vancouvervikings.ca
SUMMARY:SR 1-UBC
DESCRIPTION:
URL:https://vancouvervikings.ca/event/sr-1-ubc-16/
LOCATION:UBC Aquatic Centre\, 6121 University Blvd\, Vancouver\, BC\, V6T 1Z1\, Canada
CATEGORIES:SR 1
END:VEVENT
BEGIN:VEVENT
DTSTART;TZID=America/Vancouver:20260623T063000
DTEND;TZID=America/Vancouver:20260623T073000
DTSTAMP:20260425T041812
CREATED:20260424T153415Z
LAST-MODIFIED:20260424T153415Z
UID:10006738-1782196200-1782199800@vancouvervikings.ca
SUMMARY:SR 1-HC
DESCRIPTION:
URL:https://vancouvervikings.ca/event/sr-1-hc-15/
LOCATION:Hillcrest Aquatic Centre
CATEGORIES:SR 1
END:VEVENT
END:VCALENDAR