BEGIN:VCALENDAR
VERSION:2.0
PRODID:-//Vancouver Vikings - ECPv6.15.20//NONSGML v1.0//EN
CALSCALE:GREGORIAN
METHOD:PUBLISH
X-ORIGINAL-URL:https://vancouvervikings.ca
X-WR-CALDESC:Events for Vancouver Vikings
REFRESH-INTERVAL;VALUE=DURATION:PT1H
X-Robots-Tag:noindex
X-PUBLISHED-TTL:PT1H
BEGIN:VTIMEZONE
TZID:America/Vancouver
BEGIN:DAYLIGHT
TZOFFSETFROM:-0800
TZOFFSETTO:-0700
TZNAME:PDT
DTSTART:20240310T100000
END:DAYLIGHT
BEGIN:STANDARD
TZOFFSETFROM:-0700
TZOFFSETTO:-0800
TZNAME:PST
DTSTART:20241103T090000
END:STANDARD
BEGIN:DAYLIGHT
TZOFFSETFROM:-0800
TZOFFSETTO:-0700
TZNAME:PDT
DTSTART:20250309T100000
END:DAYLIGHT
BEGIN:STANDARD
TZOFFSETFROM:-0700
TZOFFSETTO:-0800
TZNAME:PST
DTSTART:20251102T090000
END:STANDARD
BEGIN:DAYLIGHT
TZOFFSETFROM:-0800
TZOFFSETTO:-0700
TZNAME:PDT
DTSTART:20260308T100000
END:DAYLIGHT
BEGIN:STANDARD
TZOFFSETFROM:-0700
TZOFFSETTO:-0800
TZNAME:PST
DTSTART:20261101T090000
END:STANDARD
END:VTIMEZONE
BEGIN:VEVENT
DTSTART;TZID=America/Vancouver:20250514T170000
DTEND;TZID=America/Vancouver:20250514T180000
DTSTAMP:20260421T075546
CREATED:20250503T180137Z
LAST-MODIFIED:20250509T035600Z
UID:10005860-1747242000-1747245600@vancouvervikings.ca
SUMMARY:INT2 - SGS
DESCRIPTION:
URL:https://vancouvervikings.ca/event/int2-sgs-2/
LOCATION:St. George’s Senior School\, 4175 W 29th Ave\, Vancouver\, BC\, V6S 1V1\, Canada
CATEGORIES:INT 2
END:VEVENT
BEGIN:VEVENT
DTSTART;TZID=America/Vancouver:20250513T063000
DTEND;TZID=America/Vancouver:20250513T073000
DTSTAMP:20260421T075546
CREATED:20250503T180106Z
LAST-MODIFIED:20250509T035600Z
UID:10005850-1747117800-1747121400@vancouvervikings.ca
SUMMARY:INT2 - LB
DESCRIPTION:
URL:https://vancouvervikings.ca/event/int2-lb/
LOCATION:Lord Byng Pool\, 3990 W 14th Ave\, Vancouver\, BC\, Canada
CATEGORIES:INT 2
END:VEVENT
BEGIN:VEVENT
DTSTART;TZID=America/Vancouver:20250512T170000
DTEND;TZID=America/Vancouver:20250512T180000
DTSTAMP:20260421T075546
CREATED:20250503T180105Z
LAST-MODIFIED:20250509T035600Z
UID:10005846-1747069200-1747072800@vancouvervikings.ca
SUMMARY:INT2 - SGS
DESCRIPTION:
URL:https://vancouvervikings.ca/event/int2-sgs/
LOCATION:St. George’s Senior School\, 4175 W 29th Ave\, Vancouver\, BC\, V6S 1V1\, Canada
CATEGORIES:INT 2
END:VEVENT
BEGIN:VEVENT
DTSTART;TZID=America/Vancouver:20250511T170000
DTEND;TZID=America/Vancouver:20250511T180000
DTSTAMP:20260421T075546
CREATED:20250503T180846Z
LAST-MODIFIED:20250509T035607Z
UID:10005919-1746982800-1746986400@vancouvervikings.ca
SUMMARY:INT2 - LB
DESCRIPTION:
URL:https://vancouvervikings.ca/event/int2-lb-3/
LOCATION:Lord Byng Pool\, 3990 W 14th Ave\, Vancouver\, BC\, Canada
CATEGORIES:INT 2
END:VEVENT
BEGIN:VEVENT
DTSTART;TZID=America/Vancouver:20250509T065000
DTEND;TZID=America/Vancouver:20250509T075000
DTSTAMP:20260421T075546
CREATED:20250503T180746Z
LAST-MODIFIED:20250509T035607Z
UID:10005908-1746773400-1746777000@vancouvervikings.ca
SUMMARY:INT2 - SGS
DESCRIPTION:
URL:https://vancouvervikings.ca/event/int2-sgs-7/
LOCATION:St. George’s Senior School\, 4175 W 29th Ave\, Vancouver\, BC\, V6S 1V1\, Canada
CATEGORIES:INT 2
END:VEVENT
BEGIN:VEVENT
DTSTART;TZID=America/Vancouver:20250506T063000
DTEND;TZID=America/Vancouver:20250506T073000
DTSTAMP:20260421T075546
CREATED:20250503T180445Z
LAST-MODIFIED:20250509T035600Z
UID:10005887-1746513000-1746516600@vancouvervikings.ca
SUMMARY:INT2 - LB
DESCRIPTION:
URL:https://vancouvervikings.ca/event/int2-lb-2/
LOCATION:Lord Byng Pool\, 3990 W 14th Ave\, Vancouver\, BC\, Canada
CATEGORIES:INT 2
END:VEVENT
BEGIN:VEVENT
DTSTART;TZID=America/Vancouver:20250505T170000
DTEND;TZID=America/Vancouver:20250505T180000
DTSTAMP:20260421T075546
CREATED:20250503T180445Z
LAST-MODIFIED:20250509T035600Z
UID:10005884-1746464400-1746468000@vancouvervikings.ca
SUMMARY:INT2 - SGS
DESCRIPTION:
URL:https://vancouvervikings.ca/event/int2-sgs-6/
LOCATION:St. George’s Senior School\, 4175 W 29th Ave\, Vancouver\, BC\, V6S 1V1\, Canada
CATEGORIES:INT 2
END:VEVENT
BEGIN:VEVENT
DTSTART;TZID=America/Vancouver:20250504T170000
DTEND;TZID=America/Vancouver:20250504T180000
DTSTAMP:20260421T075546
CREATED:20250503T181159Z
LAST-MODIFIED:20250509T035614Z
UID:10005977-1746378000-1746381600@vancouvervikings.ca
SUMMARY:INT2 - LB
DESCRIPTION:
URL:https://vancouvervikings.ca/event/int2-lb-9/
LOCATION:Lord Byng Pool\, 3990 W 14th Ave\, Vancouver\, BC\, Canada
CATEGORIES:INT 2
END:VEVENT
BEGIN:VEVENT
DTSTART;TZID=America/Vancouver:20250502T063000
DTEND;TZID=America/Vancouver:20250502T073000
DTSTAMP:20260421T075546
CREATED:20250503T181128Z
LAST-MODIFIED:20250509T035614Z
UID:10005967-1746167400-1746171000@vancouvervikings.ca
SUMMARY:INT2 - LB
DESCRIPTION:
URL:https://vancouvervikings.ca/event/int2-lb-8/
LOCATION:Lord Byng Pool\, 3990 W 14th Ave\, Vancouver\, BC\, Canada
CATEGORIES:INT 2
END:VEVENT
BEGIN:VEVENT
DTSTART;TZID=America/Vancouver:20250501T170000
DTEND;TZID=America/Vancouver:20250501T180000
DTSTAMP:20260421T075546
CREATED:20250503T181113Z
LAST-MODIFIED:20250509T035607Z
UID:10005961-1746118800-1746122400@vancouvervikings.ca
SUMMARY:INT2 - LB
DESCRIPTION:
URL:https://vancouvervikings.ca/event/int2-lb-7/
LOCATION:Lord Byng Pool\, 3990 W 14th Ave\, Vancouver\, BC\, Canada
CATEGORIES:INT 2
END:VEVENT
END:VCALENDAR