BEGIN:VCALENDAR
VERSION:2.0
PRODID:-//Vancouver Vikings - ECPv6.15.20//NONSGML v1.0//EN
CALSCALE:GREGORIAN
METHOD:PUBLISH
X-ORIGINAL-URL:https://vancouvervikings.ca
X-WR-CALDESC:Events for Vancouver Vikings
REFRESH-INTERVAL;VALUE=DURATION:PT1H
X-Robots-Tag:noindex
X-PUBLISHED-TTL:PT1H
BEGIN:VTIMEZONE
TZID:America/Vancouver
BEGIN:DAYLIGHT
TZOFFSETFROM:-0800
TZOFFSETTO:-0700
TZNAME:PDT
DTSTART:20240310T100000
END:DAYLIGHT
BEGIN:STANDARD
TZOFFSETFROM:-0700
TZOFFSETTO:-0800
TZNAME:PST
DTSTART:20241103T090000
END:STANDARD
BEGIN:DAYLIGHT
TZOFFSETFROM:-0800
TZOFFSETTO:-0700
TZNAME:PDT
DTSTART:20250309T100000
END:DAYLIGHT
BEGIN:STANDARD
TZOFFSETFROM:-0700
TZOFFSETTO:-0800
TZNAME:PST
DTSTART:20251102T090000
END:STANDARD
BEGIN:DAYLIGHT
TZOFFSETFROM:-0800
TZOFFSETTO:-0700
TZNAME:PDT
DTSTART:20260308T100000
END:DAYLIGHT
BEGIN:STANDARD
TZOFFSETFROM:-0700
TZOFFSETTO:-0800
TZNAME:PST
DTSTART:20261101T090000
END:STANDARD
END:VTIMEZONE
BEGIN:VEVENT
DTSTART;TZID=America/Vancouver:20250625T170000
DTEND;TZID=America/Vancouver:20250625T180000
DTSTAMP:20260421T030212
CREATED:20250623T025027Z
LAST-MODIFIED:20250623T050457Z
UID:10006149-1750870800-1750874400@vancouvervikings.ca
SUMMARY:INT2 - SGS
DESCRIPTION:
URL:https://vancouvervikings.ca/event/int-2-sgs-3/
LOCATION:St. George’s Senior School\, 4175 W 29th Ave\, Vancouver\, BC\, V6S 1V1\, Canada
CATEGORIES:INT 2
END:VEVENT
BEGIN:VEVENT
DTSTART;TZID=America/Vancouver:20250625T065000
DTEND;TZID=America/Vancouver:20250625T075000
DTSTAMP:20260421T030212
CREATED:20250623T025012Z
LAST-MODIFIED:20250623T050457Z
UID:10006145-1750834200-1750837800@vancouvervikings.ca
SUMMARY:INT2 - SGS
DESCRIPTION:
URL:https://vancouvervikings.ca/event/int-2-sgs-2/
LOCATION:St. George’s Senior School\, 4175 W 29th Ave\, Vancouver\, BC\, V6S 1V1\, Canada
CATEGORIES:INT 2
END:VEVENT
BEGIN:VEVENT
DTSTART;TZID=America/Vancouver:20250623T170000
DTEND;TZID=America/Vancouver:20250623T180000
DTSTAMP:20260421T030212
CREATED:20250623T024940Z
LAST-MODIFIED:20250623T050457Z
UID:10006132-1750698000-1750701600@vancouvervikings.ca
SUMMARY:INT2 - SGS
DESCRIPTION:
URL:https://vancouvervikings.ca/event/int-2-sgs/
LOCATION:St. George’s Senior School\, 4175 W 29th Ave\, Vancouver\, BC\, V6S 1V1\, Canada
CATEGORIES:INT 2
END:VEVENT
BEGIN:VEVENT
DTSTART;TZID=America/Vancouver:20250620T065000
DTEND;TZID=America/Vancouver:20250620T075000
DTSTAMP:20260421T030212
CREATED:20250503T184021Z
LAST-MODIFIED:20250509T042549Z
UID:10006112-1750402200-1750405800@vancouvervikings.ca
SUMMARY:INT2 - SGS
DESCRIPTION:
URL:https://vancouvervikings.ca/event/int2-sgs-21/
LOCATION:St. George’s Senior School\, 4175 W 29th Ave\, Vancouver\, BC\, V6S 1V1\, Canada
CATEGORIES:INT 2
END:VEVENT
BEGIN:VEVENT
DTSTART;TZID=America/Vancouver:20250619T180000
DTEND;TZID=America/Vancouver:20250619T190000
DTSTAMP:20260421T030212
CREATED:20250503T183820Z
LAST-MODIFIED:20250509T042549Z
UID:10006106-1750356000-1750359600@vancouvervikings.ca
SUMMARY:INT2 - LB
DESCRIPTION:
URL:https://vancouvervikings.ca/event/int2-lb-17/
LOCATION:Lord Byng Pool\, 3990 W 14th Ave\, Vancouver\, BC\, V6R 4H2\, Canada
CATEGORIES:INT 2
END:VEVENT
BEGIN:VEVENT
DTSTART;TZID=America/Vancouver:20250618T170000
DTEND;TZID=America/Vancouver:20250618T180000
DTSTAMP:20260421T030212
CREATED:20250503T183805Z
LAST-MODIFIED:20250509T042549Z
UID:10006100-1750266000-1750269600@vancouvervikings.ca
SUMMARY:INT2 - SGS
DESCRIPTION:
URL:https://vancouvervikings.ca/event/int2-sgs-20/
LOCATION:St. George’s Senior School\, 4175 W 29th Ave\, Vancouver\, BC\, V6S 1V1\, Canada
CATEGORIES:INT 2
END:VEVENT
BEGIN:VEVENT
DTSTART;TZID=America/Vancouver:20250617T063000
DTEND;TZID=America/Vancouver:20250617T073000
DTSTAMP:20260421T030212
CREATED:20250503T183706Z
LAST-MODIFIED:20250509T042610Z
UID:10006089-1750141800-1750145400@vancouvervikings.ca
SUMMARY:INT2 - LB
DESCRIPTION:
URL:https://vancouvervikings.ca/event/int2-lb-16/
LOCATION:Lord Byng Pool\, 3990 W 14th Ave\, Vancouver\, BC\, V6R 4H2\, Canada
CATEGORIES:INT 2
END:VEVENT
BEGIN:VEVENT
DTSTART;TZID=America/Vancouver:20250616T170000
DTEND;TZID=America/Vancouver:20250616T180000
DTSTAMP:20260421T030212
CREATED:20250503T183652Z
LAST-MODIFIED:20250509T042610Z
UID:10006085-1750093200-1750096800@vancouvervikings.ca
SUMMARY:INT2 - SGS
DESCRIPTION:
URL:https://vancouvervikings.ca/event/int2-sgs-19/
LOCATION:St. George’s Senior School\, 4175 W 29th Ave\, Vancouver\, BC\, V6S 1V1\, Canada
CATEGORIES:INT 2
END:VEVENT
BEGIN:VEVENT
DTSTART;TZID=America/Vancouver:20250613T065000
DTEND;TZID=America/Vancouver:20250613T075000
DTSTAMP:20260421T030212
CREATED:20250503T183621Z
LAST-MODIFIED:20250509T042611Z
UID:10006076-1749797400-1749801000@vancouvervikings.ca
SUMMARY:INT2 - SGS
DESCRIPTION:
URL:https://vancouvervikings.ca/event/int2-sgs-18/
LOCATION:St. George’s Senior School\, 4175 W 29th Ave\, Vancouver\, BC\, V6S 1V1\, Canada
CATEGORIES:INT 2
END:VEVENT
BEGIN:VEVENT
DTSTART;TZID=America/Vancouver:20250612T180000
DTEND;TZID=America/Vancouver:20250612T190000
DTSTAMP:20260421T030212
CREATED:20250503T183606Z
LAST-MODIFIED:20250509T042625Z
UID:10006070-1749751200-1749754800@vancouvervikings.ca
SUMMARY:INT2 - LB
DESCRIPTION:
URL:https://vancouvervikings.ca/event/int2-lb-15/
LOCATION:Lord Byng Pool\, 3990 W 14th Ave\, Vancouver\, BC\, V6R 4H2\, Canada
CATEGORIES:INT 2
END:VEVENT
BEGIN:VEVENT
DTSTART;TZID=America/Vancouver:20250611T170000
DTEND;TZID=America/Vancouver:20250611T180000
DTSTAMP:20260421T030212
CREATED:20250503T183551Z
LAST-MODIFIED:20250509T042625Z
UID:10006064-1749661200-1749664800@vancouvervikings.ca
SUMMARY:INT2 - SGS
DESCRIPTION:
URL:https://vancouvervikings.ca/event/int2-sgs-17/
LOCATION:St. George’s Senior School\, 4175 W 29th Ave\, Vancouver\, BC\, V6S 1V1\, Canada
CATEGORIES:INT 2
END:VEVENT
BEGIN:VEVENT
DTSTART;TZID=America/Vancouver:20250610T063000
DTEND;TZID=America/Vancouver:20250610T073000
DTSTAMP:20260421T030212
CREATED:20250503T183507Z
LAST-MODIFIED:20250509T042647Z
UID:10006053-1749537000-1749540600@vancouvervikings.ca
SUMMARY:INT2 - LB
DESCRIPTION:
URL:https://vancouvervikings.ca/event/int2-lb-14/
LOCATION:Lord Byng Pool\, 3990 W 14th Ave\, Vancouver\, BC\, V6R 4H2\, Canada
CATEGORIES:INT 2
END:VEVENT
BEGIN:VEVENT
DTSTART;TZID=America/Vancouver:20250609T170000
DTEND;TZID=America/Vancouver:20250609T180000
DTSTAMP:20260421T030212
CREATED:20250503T183506Z
LAST-MODIFIED:20250509T042647Z
UID:10006049-1749488400-1749492000@vancouvervikings.ca
SUMMARY:INT2 - SGS
DESCRIPTION:
URL:https://vancouvervikings.ca/event/int2-sgs-16/
LOCATION:St. George’s Senior School\, 4175 W 29th Ave\, Vancouver\, BC\, V6S 1V1\, Canada
CATEGORIES:INT 2
END:VEVENT
BEGIN:VEVENT
DTSTART;TZID=America/Vancouver:20250606T065000
DTEND;TZID=America/Vancouver:20250606T075000
DTSTAMP:20260421T030212
CREATED:20250503T183321Z
LAST-MODIFIED:20250509T042647Z
UID:10006040-1749192600-1749196200@vancouvervikings.ca
SUMMARY:INT2 - SGS
DESCRIPTION:
URL:https://vancouvervikings.ca/event/int2-sgs-15/
LOCATION:St. George’s Senior School\, 4175 W 29th Ave\, Vancouver\, BC\, V6S 1V1\, Canada
CATEGORIES:INT 2
END:VEVENT
BEGIN:VEVENT
DTSTART;TZID=America/Vancouver:20250605T170000
DTEND;TZID=America/Vancouver:20250605T180000
DTSTAMP:20260421T030212
CREATED:20250503T183307Z
LAST-MODIFIED:20250509T042255Z
UID:10006034-1749142800-1749146400@vancouvervikings.ca
SUMMARY:INT2 - LB
DESCRIPTION:
URL:https://vancouvervikings.ca/event/int2-lb-13/
LOCATION:Lord Byng Pool\, 3990 W 14th Ave\, Vancouver\, BC\, V6R 4H2\, Canada
CATEGORIES:INT 2
END:VEVENT
BEGIN:VEVENT
DTSTART;TZID=America/Vancouver:20250604T170000
DTEND;TZID=America/Vancouver:20250604T180000
DTSTAMP:20260421T030212
CREATED:20250503T183112Z
LAST-MODIFIED:20250509T042254Z
UID:10006027-1749056400-1749060000@vancouvervikings.ca
SUMMARY:INT2 - SGS
DESCRIPTION:
URL:https://vancouvervikings.ca/event/int2-sgs-14/
LOCATION:St. George’s Senior School\, 4175 W 29th Ave\, Vancouver\, BC\, V6S 1V1\, Canada
CATEGORIES:INT 2
END:VEVENT
BEGIN:VEVENT
DTSTART;TZID=America/Vancouver:20250603T063000
DTEND;TZID=America/Vancouver:20250603T073000
DTSTAMP:20260421T030212
CREATED:20250503T182832Z
LAST-MODIFIED:20250509T041441Z
UID:10006016-1748932200-1748935800@vancouvervikings.ca
SUMMARY:INT2 - LB
DESCRIPTION:
URL:https://vancouvervikings.ca/event/int2-lb-12/
LOCATION:Lord Byng Pool\, 3990 W 14th Ave\, Vancouver\, BC\, V6R 4H2\, Canada
CATEGORIES:INT 2
END:VEVENT
BEGIN:VEVENT
DTSTART;TZID=America/Vancouver:20250602T170000
DTEND;TZID=America/Vancouver:20250602T180000
DTSTAMP:20260421T030212
CREATED:20250503T182819Z
LAST-MODIFIED:20250509T041440Z
UID:10006013-1748883600-1748887200@vancouvervikings.ca
SUMMARY:INT2 - SGS
DESCRIPTION:
URL:https://vancouvervikings.ca/event/int2-sgs-12/
LOCATION:St. George’s Senior School\, 4175 W 29th Ave\, Vancouver\, BC\, V6S 1V1\, Canada
CATEGORIES:INT 2
END:VEVENT
BEGIN:VEVENT
DTSTART;TZID=America/Vancouver:20250530T065000
DTEND;TZID=America/Vancouver:20250530T075000
DTSTAMP:20260421T030212
CREATED:20250503T181714Z
LAST-MODIFIED:20250509T041440Z
UID:10006002-1748587800-1748591400@vancouvervikings.ca
SUMMARY:INT2 - SGS
DESCRIPTION:
URL:https://vancouvervikings.ca/event/int2-sgs-11/
LOCATION:St. George’s Senior School\, 4175 W 29th Ave\, Vancouver\, BC\, V6S 1V1\, Canada
CATEGORIES:INT 2
END:VEVENT
BEGIN:VEVENT
DTSTART;TZID=America/Vancouver:20250529T180000
DTEND;TZID=America/Vancouver:20250529T190000
DTSTAMP:20260421T030212
CREATED:20250503T181457Z
LAST-MODIFIED:20250509T041025Z
UID:10005996-1748541600-1748545200@vancouvervikings.ca
SUMMARY:INT2 - LB
DESCRIPTION:
URL:https://vancouvervikings.ca/event/int2-lb-11/
LOCATION:Lord Byng Pool\, 3990 W 14th Ave\, Vancouver\, BC\, V6R 4H2\, Canada
CATEGORIES:INT 2
END:VEVENT
BEGIN:VEVENT
DTSTART;TZID=America/Vancouver:20250528T170000
DTEND;TZID=America/Vancouver:20250528T180000
DTSTAMP:20260421T030212
CREATED:20250503T181442Z
LAST-MODIFIED:20250509T041025Z
UID:10005990-1748451600-1748455200@vancouvervikings.ca
SUMMARY:INT2 - SGS
DESCRIPTION:
URL:https://vancouvervikings.ca/event/int2-sgs-10/
LOCATION:St. George’s Senior School\, 4175 W 29th Ave\, Vancouver\, BC\, V6S 1V1\, Canada
CATEGORIES:INT 2
END:VEVENT
BEGIN:VEVENT
DTSTART;TZID=America/Vancouver:20250527T063000
DTEND;TZID=America/Vancouver:20250527T073000
DTSTAMP:20260421T030212
CREATED:20250503T181412Z
LAST-MODIFIED:20250509T041024Z
UID:10005980-1748327400-1748331000@vancouvervikings.ca
SUMMARY:INT2 - LB
DESCRIPTION:
URL:https://vancouvervikings.ca/event/int2-lb-10/
LOCATION:Lord Byng Pool\, 3990 W 14th Ave\, Vancouver\, BC\, V6R 4H2\, Canada
CATEGORIES:INT 2
END:VEVENT
BEGIN:VEVENT
DTSTART;TZID=America/Vancouver:20250526T170000
DTEND;TZID=America/Vancouver:20250526T180000
DTSTAMP:20260421T030212
CREATED:20250503T051051Z
LAST-MODIFIED:20250509T041006Z
UID:10005839-1748278800-1748282400@vancouvervikings.ca
SUMMARY:INT2 - SGS
DESCRIPTION:
URL:https://vancouvervikings.ca/event/int2-sgs-3/
LOCATION:St. George’s Senior School\, 4175 W 29th Ave\, Vancouver\, BC\, V6S 1V1\, Canada
CATEGORIES:INT 2
END:VEVENT
BEGIN:VEVENT
DTSTART;TZID=America/Vancouver:20250525T180000
DTEND;TZID=America/Vancouver:20250525T190000
DTSTAMP:20260421T030212
CREATED:20250503T181058Z
LAST-MODIFIED:20250509T041006Z
UID:10005957-1748196000-1748199600@vancouvervikings.ca
SUMMARY:INT2 - LB
DESCRIPTION:
URL:https://vancouvervikings.ca/event/int2-lb-6/
LOCATION:Lord Byng Pool\, 3990 W 14th Ave\, Vancouver\, BC\, V6R 4H2\, Canada
CATEGORIES:INT 2
END:VEVENT
BEGIN:VEVENT
DTSTART;TZID=America/Vancouver:20250523T065000
DTEND;TZID=America/Vancouver:20250523T075000
DTSTAMP:20260421T030212
CREATED:20250503T181013Z
LAST-MODIFIED:20250509T040937Z
UID:10005943-1747983000-1747986600@vancouvervikings.ca
SUMMARY:INT2 - SGS
DESCRIPTION:
URL:https://vancouvervikings.ca/event/int2-sgs-9/
LOCATION:St. George’s Senior School\, 4175 W 29th Ave\, Vancouver\, BC\, V6S 1V1\, Canada
CATEGORIES:INT 2
END:VEVENT
BEGIN:VEVENT
DTSTART;TZID=America/Vancouver:20250522T180000
DTEND;TZID=America/Vancouver:20250522T190000
DTSTAMP:20260421T030212
CREATED:20250503T181013Z
LAST-MODIFIED:20250509T040937Z
UID:10005940-1747936800-1747940400@vancouvervikings.ca
SUMMARY:INT2 - JCC
DESCRIPTION:
URL:https://vancouvervikings.ca/event/int2-jcc/
LOCATION:Jewish Community Centre\, 950 West 41st Avenue\, Vancouver\, BC\, Canada
CATEGORIES:INT 2
END:VEVENT
BEGIN:VEVENT
DTSTART;TZID=America/Vancouver:20250521T170000
DTEND;TZID=America/Vancouver:20250521T180000
DTSTAMP:20260421T030212
CREATED:20250503T180925Z
LAST-MODIFIED:20250509T040937Z
UID:10005932-1747846800-1747850400@vancouvervikings.ca
SUMMARY:INT2 - SGS
DESCRIPTION:
URL:https://vancouvervikings.ca/event/int2-sgs-8/
LOCATION:St. George’s Senior School\, 4175 W 29th Ave\, Vancouver\, BC\, V6S 1V1\, Canada
CATEGORIES:INT 2
END:VEVENT
BEGIN:VEVENT
DTSTART;TZID=America/Vancouver:20250520T063000
DTEND;TZID=America/Vancouver:20250520T073000
DTSTAMP:20260421T030212
CREATED:20250503T180846Z
LAST-MODIFIED:20250509T040414Z
UID:10005922-1747722600-1747726200@vancouvervikings.ca
SUMMARY:INT2 - LB
DESCRIPTION:
URL:https://vancouvervikings.ca/event/int2-lb-5/
LOCATION:Lord Byng Pool\, 3990 W 14th Ave\, Vancouver\, BC\, V6R 4H2\, Canada
CATEGORIES:INT 2
END:VEVENT
BEGIN:VEVENT
DTSTART;TZID=America/Vancouver:20250516T183000
DTEND;TZID=America/Vancouver:20250516T193000
DTSTAMP:20260421T030212
CREATED:20250503T180400Z
LAST-MODIFIED:20250509T040414Z
UID:10005873-1747420200-1747423800@vancouvervikings.ca
SUMMARY:INT2 - SGS
DESCRIPTION:
URL:https://vancouvervikings.ca/event/int2-sgs-5/
LOCATION:St. George’s Senior School\, 4175 W 29th Ave\, Vancouver\, BC\, V6S 1V1\, Canada
CATEGORIES:INT 2
END:VEVENT
BEGIN:VEVENT
DTSTART;TZID=America/Vancouver:20250516T065000
DTEND;TZID=America/Vancouver:20250516T075000
DTSTAMP:20260421T030212
CREATED:20250503T180400Z
LAST-MODIFIED:20250509T040414Z
UID:10005870-1747378200-1747381800@vancouvervikings.ca
SUMMARY:INT2 - SGS
DESCRIPTION:
URL:https://vancouvervikings.ca/event/int2-sgs-4/
LOCATION:St. George’s Senior School\, 4175 W 29th Ave\, Vancouver\, BC\, V6S 1V1\, Canada
CATEGORIES:INT 2
END:VEVENT
END:VCALENDAR