BEGIN:VCALENDAR
VERSION:2.0
PRODID:-//Vancouver Vikings - ECPv6.15.20//NONSGML v1.0//EN
CALSCALE:GREGORIAN
METHOD:PUBLISH
X-WR-CALNAME:Vancouver Vikings
X-ORIGINAL-URL:https://vancouvervikings.ca
X-WR-CALDESC:Events for Vancouver Vikings
REFRESH-INTERVAL;VALUE=DURATION:PT1H
X-Robots-Tag:noindex
X-PUBLISHED-TTL:PT1H
BEGIN:VTIMEZONE
TZID:America/Vancouver
BEGIN:DAYLIGHT
TZOFFSETFROM:-0800
TZOFFSETTO:-0700
TZNAME:PDT
DTSTART:20240310T100000
END:DAYLIGHT
BEGIN:STANDARD
TZOFFSETFROM:-0700
TZOFFSETTO:-0800
TZNAME:PST
DTSTART:20241103T090000
END:STANDARD
BEGIN:DAYLIGHT
TZOFFSETFROM:-0800
TZOFFSETTO:-0700
TZNAME:PDT
DTSTART:20250309T100000
END:DAYLIGHT
BEGIN:STANDARD
TZOFFSETFROM:-0700
TZOFFSETTO:-0800
TZNAME:PST
DTSTART:20251102T090000
END:STANDARD
BEGIN:DAYLIGHT
TZOFFSETFROM:-0800
TZOFFSETTO:-0700
TZNAME:PDT
DTSTART:20260308T100000
END:DAYLIGHT
BEGIN:STANDARD
TZOFFSETFROM:-0700
TZOFFSETTO:-0800
TZNAME:PST
DTSTART:20261101T090000
END:STANDARD
END:VTIMEZONE
BEGIN:VEVENT
DTSTART;TZID=America/Vancouver:20250730T073000
DTEND;TZID=America/Vancouver:20250730T090000
DTSTAMP:20260420T215659
CREATED:20250722T185025Z
LAST-MODIFIED:20250722T193328Z
UID:10006382-1753860600-1753866000@vancouvervikings.ca
SUMMARY:INT2-SGS
DESCRIPTION:
URL:https://vancouvervikings.ca/event/int2-sgs-23/
LOCATION:St. George’s Senior School\, 4175 W 29th Ave\, Vancouver\, BC\, V6S 1V1\, Canada
CATEGORIES:INT 2
END:VEVENT
BEGIN:VEVENT
DTSTART;TZID=America/Vancouver:20250729T183000
DTEND;TZID=America/Vancouver:20250729T193000
DTSTAMP:20260420T215659
CREATED:20250722T185025Z
LAST-MODIFIED:20250722T193328Z
UID:10006381-1753813800-1753817400@vancouvervikings.ca
SUMMARY:INT2-SGS
DESCRIPTION:
URL:https://vancouvervikings.ca/event/int2-sgs-22/
LOCATION:St. George’s Senior School\, 4175 W 29th Ave\, Vancouver\, BC\, V6S 1V1\, Canada
CATEGORIES:INT 2
END:VEVENT
BEGIN:VEVENT
DTSTART;TZID=America/Vancouver:20250728T183000
DTEND;TZID=America/Vancouver:20250728T193000
DTSTAMP:20260420T215659
CREATED:20250722T185025Z
LAST-MODIFIED:20250722T193328Z
UID:10006380-1753727400-1753731000@vancouvervikings.ca
SUMMARY:INT2-SGS
DESCRIPTION:
URL:https://vancouvervikings.ca/event/int2-sgs-13/
LOCATION:St. George’s Senior School\, 4175 W 29th Ave\, Vancouver\, BC\, V6S 1V1\, Canada
CATEGORIES:INT 2
END:VEVENT
BEGIN:VEVENT
DTSTART;TZID=America/Vancouver:20250725T073000
DTEND;TZID=America/Vancouver:20250725T090000
DTSTAMP:20260420T215659
CREATED:20250623T031053Z
LAST-MODIFIED:20250623T054214Z
UID:10006341-1753428600-1753434000@vancouvervikings.ca
SUMMARY:INT2 - LB
DESCRIPTION:
URL:https://vancouvervikings.ca/event/int-2-lb-5/
LOCATION:Lord Byng Pool\, 3990 W 14th Ave\, Vancouver\, BC\, V6R 4H2\, Canada
CATEGORIES:INT 2
END:VEVENT
BEGIN:VEVENT
DTSTART;TZID=America/Vancouver:20250724T183000
DTEND;TZID=America/Vancouver:20250724T193000
DTSTAMP:20260420T215659
CREATED:20250623T031038Z
LAST-MODIFIED:20250623T050517Z
UID:10006337-1753381800-1753385400@vancouvervikings.ca
SUMMARY:INT2 - SGS
DESCRIPTION:
URL:https://vancouvervikings.ca/event/int-2-sgs-27/
LOCATION:St. George’s Senior School\, 4175 W 29th Ave\, Vancouver\, BC\, V6S 1V1\, Canada
CATEGORIES:INT 2
END:VEVENT
BEGIN:VEVENT
DTSTART;TZID=America/Vancouver:20250723T183000
DTEND;TZID=America/Vancouver:20250723T193000
DTSTAMP:20260420T215659
CREATED:20250623T030953Z
LAST-MODIFIED:20250623T050517Z
UID:10006327-1753295400-1753299000@vancouvervikings.ca
SUMMARY:INT2 - SGS
DESCRIPTION:
URL:https://vancouvervikings.ca/event/int-2-sgs-26/
LOCATION:St. George’s Senior School\, 4175 W 29th Ave\, Vancouver\, BC\, V6S 1V1\, Canada
CATEGORIES:INT 2
END:VEVENT
BEGIN:VEVENT
DTSTART;TZID=America/Vancouver:20250723T073000
DTEND;TZID=America/Vancouver:20250723T090000
DTSTAMP:20260420T215659
CREATED:20250623T030153Z
LAST-MODIFIED:20250629T060255Z
UID:10006312-1753255800-1753261200@vancouvervikings.ca
SUMMARY:INT2 - SGS
DESCRIPTION:
URL:https://vancouvervikings.ca/event/int-2-sgs-24/
LOCATION:St. George’s Senior School\, 4175 W 29th Ave\, Vancouver\, BC\, V6S 1V1\, Canada
CATEGORIES:INT 2
END:VEVENT
BEGIN:VEVENT
DTSTART;TZID=America/Vancouver:20250722T183000
DTEND;TZID=America/Vancouver:20250722T193000
DTSTAMP:20260420T215659
CREATED:20250623T030923Z
LAST-MODIFIED:20250623T050517Z
UID:10006317-1753209000-1753212600@vancouvervikings.ca
SUMMARY:INT2 - SGS
DESCRIPTION:
URL:https://vancouvervikings.ca/event/int-2-sgs-25/
LOCATION:St. George’s Senior School\, 4175 W 29th Ave\, Vancouver\, BC\, V6S 1V1\, Canada
CATEGORIES:INT 2
END:VEVENT
BEGIN:VEVENT
DTSTART;TZID=America/Vancouver:20250721T183000
DTEND;TZID=America/Vancouver:20250721T193000
DTSTAMP:20260420T215659
CREATED:20250623T030137Z
LAST-MODIFIED:20250623T050517Z
UID:10006307-1753122600-1753126200@vancouvervikings.ca
SUMMARY:INT2 - SGS
DESCRIPTION:
URL:https://vancouvervikings.ca/event/int-2-sgs-23/
LOCATION:St. George’s Senior School\, 4175 W 29th Ave\, Vancouver\, BC\, V6S 1V1\, Canada
CATEGORIES:INT 2
END:VEVENT
BEGIN:VEVENT
DTSTART;VALUE=DATE:20250719
DTEND;VALUE=DATE:20250721
DTSTAMP:20260420T215659
CREATED:20250530T050115Z
LAST-MODIFIED:20250623T044525Z
UID:10006124-1752883200-1753055999@vancouvervikings.ca
SUMMARY:COQUITLAM SHARKS MEET
DESCRIPTION:
URL:https://vancouvervikings.ca/event/coquitlam-sharks-meet/
LOCATION:Mundy Park Pool\, 655 Hillcrest St\, Coquitlam\, British Columbia\, V3J 3Z6
CATEGORIES:INT 1,INT 2,JNR 1,JNR 2,JNR3,Meets,NOV,SNR 1,SNR 2
END:VEVENT
BEGIN:VEVENT
DTSTART;TZID=America/Vancouver:20250718T073000
DTEND;TZID=America/Vancouver:20250718T090000
DTSTAMP:20260420T215659
CREATED:20250623T030052Z
LAST-MODIFIED:20250623T053329Z
UID:10006294-1752823800-1752829200@vancouvervikings.ca
SUMMARY:INT2 - LB
DESCRIPTION:
URL:https://vancouvervikings.ca/event/int-2-lb-4/
LOCATION:Lord Byng Pool\, 3990 W 14th Ave\, Vancouver\, BC\, V6R 4H2\, Canada
CATEGORIES:INT 2
END:VEVENT
BEGIN:VEVENT
DTSTART;TZID=America/Vancouver:20250717T183000
DTEND;TZID=America/Vancouver:20250717T193000
DTSTAMP:20260420T215659
CREATED:20250623T030037Z
LAST-MODIFIED:20250623T050511Z
UID:10006290-1752777000-1752780600@vancouvervikings.ca
SUMMARY:INT2 - SGS
DESCRIPTION:
URL:https://vancouvervikings.ca/event/int-2-sgs-21/
LOCATION:St. George’s Senior School\, 4175 W 29th Ave\, Vancouver\, BC\, V6S 1V1\, Canada
CATEGORIES:INT 2
END:VEVENT
BEGIN:VEVENT
DTSTART;TZID=America/Vancouver:20250716T173000
DTEND;TZID=America/Vancouver:20250716T183000
DTSTAMP:20260420T215659
CREATED:20250623T044002Z
LAST-MODIFIED:20250714T180544Z
UID:10006348-1752687000-1752690600@vancouvervikings.ca
SUMMARY:VIKINGS SOCIAL
DESCRIPTION:
URL:https://vancouvervikings.ca/event/vikings-social-3/
LOCATION:Chaldecott Park\, 4175 Wallace St\, Vancouver\, BC\, V6S 2J3\, Canada
CATEGORIES:INT 1,INT 2,JNR 1,JNR 2,JNR3,NOV,SNR 1,SNR 2,Social
END:VEVENT
BEGIN:VEVENT
DTSTART;TZID=America/Vancouver:20250715T183000
DTEND;TZID=America/Vancouver:20250715T193000
DTSTAMP:20260420T215659
CREATED:20250623T025937Z
LAST-MODIFIED:20250623T050511Z
UID:10006273-1752604200-1752607800@vancouvervikings.ca
SUMMARY:INT2 - SGS
DESCRIPTION:
URL:https://vancouvervikings.ca/event/int-2-sgs-19/
LOCATION:St. George’s Senior School\, 4175 W 29th Ave\, Vancouver\, BC\, V6S 1V1\, Canada
CATEGORIES:INT 2
END:VEVENT
BEGIN:VEVENT
DTSTART;TZID=America/Vancouver:20250714T183000
DTEND;TZID=America/Vancouver:20250714T193000
DTSTAMP:20260420T215659
CREATED:20250623T025922Z
LAST-MODIFIED:20250623T050511Z
UID:10006264-1752517800-1752521400@vancouvervikings.ca
SUMMARY:INT2 - SGS
DESCRIPTION:
URL:https://vancouvervikings.ca/event/int-2-sgs-18/
LOCATION:St. George’s Senior School\, 4175 W 29th Ave\, Vancouver\, BC\, V6S 1V1\, Canada
CATEGORIES:INT 2
END:VEVENT
BEGIN:VEVENT
DTSTART;TZID=America/Vancouver:20250714T073000
DTEND;TZID=America/Vancouver:20250714T090000
DTSTAMP:20260420T215659
CREATED:20250623T025907Z
LAST-MODIFIED:20250623T053329Z
UID:10006259-1752478200-1752483600@vancouvervikings.ca
SUMMARY:INT2 - SGS
DESCRIPTION:
URL:https://vancouvervikings.ca/event/int-2-sgs-17/
LOCATION:St. George’s Senior School\, 4175 W 29th Ave\, Vancouver\, BC\, V6S 1V1\, Canada
CATEGORIES:INT 2
END:VEVENT
BEGIN:VEVENT
DTSTART;VALUE=DATE:20250712
DTEND;VALUE=DATE:20250714
DTSTAMP:20260420T215659
CREATED:20250530T045902Z
LAST-MODIFIED:20250623T044558Z
UID:10006123-1752278400-1752451199@vancouvervikings.ca
SUMMARY:VIKINGS MEET
DESCRIPTION:
URL:https://vancouvervikings.ca/event/vikings-meet/
LOCATION:Watermania\, 14300 Entertainment Blvd.\, Richmond\, BC\, Canada
CATEGORIES:INT 1,INT 2,JNR 1,JNR 2,JNR3,Meets,NOV,SNR 1,SNR 2
END:VEVENT
BEGIN:VEVENT
DTSTART;TZID=America/Vancouver:20250711T183000
DTEND;TZID=America/Vancouver:20250711T193000
DTSTAMP:20260420T215659
CREATED:20250623T025837Z
LAST-MODIFIED:20250623T050511Z
UID:10006255-1752258600-1752262200@vancouvervikings.ca
SUMMARY:INT2 - SGS
DESCRIPTION:
URL:https://vancouvervikings.ca/event/int-2-sgs-16/
LOCATION:St. George’s Senior School\, 4175 W 29th Ave\, Vancouver\, BC\, V6S 1V1\, Canada
CATEGORIES:INT 2
END:VEVENT
BEGIN:VEVENT
DTSTART;TZID=America/Vancouver:20250711T073000
DTEND;TZID=America/Vancouver:20250711T090000
DTSTAMP:20260420T215659
CREATED:20250623T025822Z
LAST-MODIFIED:20250623T053329Z
UID:10006250-1752219000-1752224400@vancouvervikings.ca
SUMMARY:INT2 - LB
DESCRIPTION:
URL:https://vancouvervikings.ca/event/int-2-lb-3/
LOCATION:Lord Byng Pool\, 3990 W 14th Ave\, Vancouver\, BC\, V6R 4H2\, Canada
CATEGORIES:INT 2
END:VEVENT
BEGIN:VEVENT
DTSTART;TZID=America/Vancouver:20250710T183000
DTEND;TZID=America/Vancouver:20250710T193000
DTSTAMP:20260420T215659
CREATED:20250623T025807Z
LAST-MODIFIED:20250623T050511Z
UID:10006246-1752172200-1752175800@vancouvervikings.ca
SUMMARY:INT2 - SGS
DESCRIPTION:
URL:https://vancouvervikings.ca/event/int-2-sgs-15/
LOCATION:St. George’s Senior School\, 4175 W 29th Ave\, Vancouver\, BC\, V6S 1V1\, Canada
CATEGORIES:INT 2
END:VEVENT
BEGIN:VEVENT
DTSTART;TZID=America/Vancouver:20250709T183000
DTEND;TZID=America/Vancouver:20250709T193000
DTSTAMP:20260420T215659
CREATED:20250623T025752Z
LAST-MODIFIED:20250623T050504Z
UID:10006237-1752085800-1752089400@vancouvervikings.ca
SUMMARY:INT2 - SGS
DESCRIPTION:
URL:https://vancouvervikings.ca/event/int-2-sgs-14/
LOCATION:St. George’s Senior School\, 4175 W 29th Ave\, Vancouver\, BC\, V6S 1V1\, Canada
CATEGORIES:INT 2
END:VEVENT
BEGIN:VEVENT
DTSTART;TZID=America/Vancouver:20250709T073000
DTEND;TZID=America/Vancouver:20250709T090000
DTSTAMP:20260420T215659
CREATED:20250623T025737Z
LAST-MODIFIED:20250629T052331Z
UID:10006233-1752046200-1752051600@vancouvervikings.ca
SUMMARY:INT2 - SGS
DESCRIPTION:
URL:https://vancouvervikings.ca/event/int-1-sgs-14/
LOCATION:St. George’s Senior School\, 4175 W 29th Ave\, Vancouver\, BC\, V6S 1V1\, Canada
CATEGORIES:INT 2
END:VEVENT
BEGIN:VEVENT
DTSTART;TZID=America/Vancouver:20250708T183000
DTEND;TZID=America/Vancouver:20250708T193000
DTSTAMP:20260420T215659
CREATED:20250623T025722Z
LAST-MODIFIED:20250623T050504Z
UID:10006227-1751999400-1752003000@vancouvervikings.ca
SUMMARY:INT2 - SGS
DESCRIPTION:
URL:https://vancouvervikings.ca/event/int-2-sgs-13/
LOCATION:St. George’s Senior School\, 4175 W 29th Ave\, Vancouver\, BC\, V6S 1V1\, Canada
CATEGORIES:INT 2
END:VEVENT
BEGIN:VEVENT
DTSTART;TZID=America/Vancouver:20250707T183000
DTEND;TZID=America/Vancouver:20250707T193000
DTSTAMP:20260420T215659
CREATED:20250623T025652Z
LAST-MODIFIED:20250623T050504Z
UID:10006217-1751913000-1751916600@vancouvervikings.ca
SUMMARY:INT2 - SGS
DESCRIPTION:
URL:https://vancouvervikings.ca/event/int-2-sgs-11/
LOCATION:St. George’s Senior School\, 4175 W 29th Ave\, Vancouver\, BC\, V6S 1V1\, Canada
CATEGORIES:INT 2
END:VEVENT
BEGIN:VEVENT
DTSTART;VALUE=DATE:20250705
DTEND;VALUE=DATE:20250707
DTSTAMP:20260420T215659
CREATED:20250530T045826Z
LAST-MODIFIED:20250623T044355Z
UID:10006122-1751673600-1751846399@vancouvervikings.ca
SUMMARY:HOOTENANNY MEET
DESCRIPTION:
URL:https://vancouvervikings.ca/event/hootenanny-meet/
LOCATION:Watermania\, 14300 Entertainment Blvd.\, Richmond\, BC\, Canada
CATEGORIES:INT 1,INT 2,JNR 1,JNR 2,JNR3,Meets,NOV,SNR 1,SNR 2
END:VEVENT
BEGIN:VEVENT
DTSTART;TZID=America/Vancouver:20250704T073000
DTEND;TZID=America/Vancouver:20250704T090000
DTSTAMP:20260420T215659
CREATED:20250623T025552Z
LAST-MODIFIED:20250623T053329Z
UID:10006202-1751614200-1751619600@vancouvervikings.ca
SUMMARY:INT2 - LB
DESCRIPTION:
URL:https://vancouvervikings.ca/event/int-2-lb-2/
LOCATION:Lord Byng Pool\, 3990 W 14th Ave\, Vancouver\, BC\, V6R 4H2\, Canada
CATEGORIES:INT 2
END:VEVENT
BEGIN:VEVENT
DTSTART;TZID=America/Vancouver:20250703T183000
DTEND;TZID=America/Vancouver:20250703T193000
DTSTAMP:20260420T215659
CREATED:20250623T025537Z
LAST-MODIFIED:20250623T050504Z
UID:10006198-1751567400-1751571000@vancouvervikings.ca
SUMMARY:INT2 - SGS
DESCRIPTION:
URL:https://vancouvervikings.ca/event/int-2-sgs-9/
LOCATION:St. George’s Senior School\, 4175 W 29th Ave\, Vancouver\, BC\, V6S 1V1\, Canada
CATEGORIES:INT 2
END:VEVENT
BEGIN:VEVENT
DTSTART;TZID=America/Vancouver:20250702T183000
DTEND;TZID=America/Vancouver:20250702T193000
DTSTAMP:20260420T215659
CREATED:20250623T025316Z
LAST-MODIFIED:20250623T050504Z
UID:10006188-1751481000-1751484600@vancouvervikings.ca
SUMMARY:INT2 - SGS
DESCRIPTION:
URL:https://vancouvervikings.ca/event/int-2-sgs-8/
LOCATION:St. George’s Senior School\, 4175 W 29th Ave\, Vancouver\, BC\, V6S 1V1\, Canada
CATEGORIES:INT 2
END:VEVENT
BEGIN:VEVENT
DTSTART;TZID=America/Vancouver:20250702T073000
DTEND;TZID=America/Vancouver:20250702T090000
DTSTAMP:20260420T215659
CREATED:20250623T025302Z
LAST-MODIFIED:20250623T053329Z
UID:10006183-1751441400-1751446800@vancouvervikings.ca
SUMMARY:INT2 - SGS
DESCRIPTION:
URL:https://vancouvervikings.ca/event/int-2-sgs-7/
LOCATION:St. George’s Senior School\, 4175 W 29th Ave\, Vancouver\, BC\, V6S 1V1\, Canada
CATEGORIES:INT 2
END:VEVENT
BEGIN:VEVENT
DTSTART;TZID=America/Vancouver:20250626T170000
DTEND;TZID=America/Vancouver:20250626T180000
DTSTAMP:20260420T215659
CREATED:20250623T025042Z
LAST-MODIFIED:20250623T050457Z
UID:10006155-1750957200-1750960800@vancouvervikings.ca
SUMMARY:INT2 - SGS
DESCRIPTION:
URL:https://vancouvervikings.ca/event/int-2-sgs-4/
LOCATION:St. George’s Senior School\, 4175 W 29th Ave\, Vancouver\, BC\, V6S 1V1\, Canada
CATEGORIES:INT 2
END:VEVENT
END:VCALENDAR