BEGIN:VCALENDAR
VERSION:2.0
PRODID:-//Vancouver Vikings - ECPv6.15.20//NONSGML v1.0//EN
CALSCALE:GREGORIAN
METHOD:PUBLISH
X-ORIGINAL-URL:https://vancouvervikings.ca
X-WR-CALDESC:Events for Vancouver Vikings
REFRESH-INTERVAL;VALUE=DURATION:PT1H
X-Robots-Tag:noindex
X-PUBLISHED-TTL:PT1H
BEGIN:VTIMEZONE
TZID:America/Vancouver
BEGIN:DAYLIGHT
TZOFFSETFROM:-0800
TZOFFSETTO:-0700
TZNAME:PDT
DTSTART:20250309T100000
END:DAYLIGHT
BEGIN:STANDARD
TZOFFSETFROM:-0700
TZOFFSETTO:-0800
TZNAME:PST
DTSTART:20251102T090000
END:STANDARD
BEGIN:DAYLIGHT
TZOFFSETFROM:-0800
TZOFFSETTO:-0700
TZNAME:PDT
DTSTART:20260308T100000
END:DAYLIGHT
BEGIN:STANDARD
TZOFFSETFROM:-0700
TZOFFSETTO:-0800
TZNAME:PST
DTSTART:20261101T090000
END:STANDARD
BEGIN:DAYLIGHT
TZOFFSETFROM:-0800
TZOFFSETTO:-0700
TZNAME:PDT
DTSTART:20270314T100000
END:DAYLIGHT
BEGIN:STANDARD
TZOFFSETFROM:-0700
TZOFFSETTO:-0800
TZNAME:PST
DTSTART:20271107T090000
END:STANDARD
END:VTIMEZONE
BEGIN:VEVENT
DTSTART;TZID=America/Vancouver:20260606T080000
DTEND;TZID=America/Vancouver:20260606T170000
DTSTAMP:20260425T053619
CREATED:20260424T153321Z
LAST-MODIFIED:20260424T153321Z
UID:10006652-1780732800-1780765200@vancouvervikings.ca
SUMMARY:Meet-Burnaby Mountain Mantas
DESCRIPTION:
URL:https://vancouvervikings.ca/event/meet-burnaby-mountain-mantas/
CATEGORIES:Meet
END:VEVENT
BEGIN:VEVENT
DTSTART;TZID=America/Vancouver:20260607T080000
DTEND;TZID=America/Vancouver:20260607T170000
DTSTAMP:20260425T053619
CREATED:20260424T153321Z
LAST-MODIFIED:20260424T153321Z
UID:10006653-1780819200-1780851600@vancouvervikings.ca
SUMMARY:Meet-Burnaby Mountain Mantas
DESCRIPTION:
URL:https://vancouvervikings.ca/event/meet-burnaby-mountain-mantas-2/
CATEGORIES:Meet
END:VEVENT
BEGIN:VEVENT
DTSTART;TZID=America/Vancouver:20260613T080000
DTEND;TZID=America/Vancouver:20260613T170000
DTSTAMP:20260425T053619
CREATED:20260424T153356Z
LAST-MODIFIED:20260424T153356Z
UID:10006690-1781337600-1781370000@vancouvervikings.ca
SUMMARY:Meet-NSWC
DESCRIPTION:
URL:https://vancouvervikings.ca/event/meet-nswc/
CATEGORIES:Meet
END:VEVENT
BEGIN:VEVENT
DTSTART;TZID=America/Vancouver:20260614T080000
DTEND;TZID=America/Vancouver:20260614T170000
DTSTAMP:20260425T053619
CREATED:20260424T153356Z
LAST-MODIFIED:20260424T153356Z
UID:10006691-1781424000-1781456400@vancouvervikings.ca
SUMMARY:Meet-NSWC
DESCRIPTION:
URL:https://vancouvervikings.ca/event/meet-nswc-2/
CATEGORIES:Meet
END:VEVENT
BEGIN:VEVENT
DTSTART;TZID=America/Vancouver:20260620T080000
DTEND;TZID=America/Vancouver:20260620T170000
DTSTAMP:20260425T053619
CREATED:20260424T153415Z
LAST-MODIFIED:20260424T153415Z
UID:10006728-1781942400-1781974800@vancouvervikings.ca
SUMMARY:Meet-Oak Bay Orcas
DESCRIPTION:
URL:https://vancouvervikings.ca/event/meet-oak-bay-orcas/
CATEGORIES:Meet
END:VEVENT
BEGIN:VEVENT
DTSTART;TZID=America/Vancouver:20260621T080000
DTEND;TZID=America/Vancouver:20260621T170000
DTSTAMP:20260425T053619
CREATED:20260424T153415Z
LAST-MODIFIED:20260424T153415Z
UID:10006729-1782028800-1782061200@vancouvervikings.ca
SUMMARY:Meet-Oak Bay Orcas
DESCRIPTION:
URL:https://vancouvervikings.ca/event/meet-oak-bay-orcas-2/
CATEGORIES:Meet
END:VEVENT
END:VCALENDAR