BEGIN:VCALENDAR
VERSION:2.0
PRODID:-//Vancouver Vikings - ECPv6.15.20//NONSGML v1.0//EN
CALSCALE:GREGORIAN
METHOD:PUBLISH
X-WR-CALNAME:Vancouver Vikings
X-ORIGINAL-URL:https://vancouvervikings.ca
X-WR-CALDESC:Events for Vancouver Vikings
REFRESH-INTERVAL;VALUE=DURATION:PT1H
X-Robots-Tag:noindex
X-PUBLISHED-TTL:PT1H
BEGIN:VTIMEZONE
TZID:America/Vancouver
BEGIN:DAYLIGHT
TZOFFSETFROM:-0800
TZOFFSETTO:-0700
TZNAME:PDT
DTSTART:20250309T100000
END:DAYLIGHT
BEGIN:STANDARD
TZOFFSETFROM:-0700
TZOFFSETTO:-0800
TZNAME:PST
DTSTART:20251102T090000
END:STANDARD
BEGIN:DAYLIGHT
TZOFFSETFROM:-0800
TZOFFSETTO:-0700
TZNAME:PDT
DTSTART:20260308T100000
END:DAYLIGHT
BEGIN:STANDARD
TZOFFSETFROM:-0700
TZOFFSETTO:-0800
TZNAME:PST
DTSTART:20261101T090000
END:STANDARD
BEGIN:DAYLIGHT
TZOFFSETFROM:-0800
TZOFFSETTO:-0700
TZNAME:PDT
DTSTART:20270314T100000
END:DAYLIGHT
BEGIN:STANDARD
TZOFFSETFROM:-0700
TZOFFSETTO:-0800
TZNAME:PST
DTSTART:20271107T090000
END:STANDARD
END:VTIMEZONE
BEGIN:VEVENT
DTSTART;TZID=America/Vancouver:20260605T160000
DTEND;TZID=America/Vancouver:20260605T170000
DTSTAMP:20260425T073118
CREATED:20260424T153626Z
LAST-MODIFIED:20260424T153626Z
UID:10006647-1780675200-1780678800@vancouvervikings.ca
SUMMARY:JR 2-SGS
DESCRIPTION:
URL:https://vancouvervikings.ca/event/jr-2-sgs-10/
LOCATION:BC
CATEGORIES:JR 2
END:VEVENT
BEGIN:VEVENT
DTSTART;TZID=America/Vancouver:20260608T170000
DTEND;TZID=America/Vancouver:20260608T180000
DTSTAMP:20260425T073118
CREATED:20260424T153626Z
LAST-MODIFIED:20260424T153626Z
UID:10006659-1780938000-1780941600@vancouvervikings.ca
SUMMARY:JR 2-SGS
DESCRIPTION:
URL:https://vancouvervikings.ca/event/jr-2-sgs-11/
LOCATION:BC
CATEGORIES:JR 2
END:VEVENT
BEGIN:VEVENT
DTSTART;TZID=America/Vancouver:20260610T170000
DTEND;TZID=America/Vancouver:20260610T180000
DTSTAMP:20260425T073118
CREATED:20260424T153627Z
LAST-MODIFIED:20260424T153627Z
UID:10006673-1781110800-1781114400@vancouvervikings.ca
SUMMARY:JR 2-SGS
DESCRIPTION:
URL:https://vancouvervikings.ca/event/jr-2-sgs-12/
LOCATION:BC
CATEGORIES:JR 2
END:VEVENT
BEGIN:VEVENT
DTSTART;TZID=America/Vancouver:20260611T180000
DTEND;TZID=America/Vancouver:20260611T190000
DTSTAMP:20260425T073118
CREATED:20260424T153356Z
LAST-MODIFIED:20260424T153356Z
UID:10006681-1781200800-1781204400@vancouvervikings.ca
SUMMARY:JR 2-JCC
DESCRIPTION:
URL:https://vancouvervikings.ca/event/jr-2-jcc-2/
LOCATION:Jewish Community Centre\, 950 West 41st Avenue\, Vancouver\, BC\, Canada
CATEGORIES:JR 2
END:VEVENT
BEGIN:VEVENT
DTSTART;TZID=America/Vancouver:20260612T183000
DTEND;TZID=America/Vancouver:20260612T193000
DTSTAMP:20260425T073118
CREATED:20260424T153627Z
LAST-MODIFIED:20260424T153627Z
UID:10006686-1781289000-1781292600@vancouvervikings.ca
SUMMARY:JR 2-SGS
DESCRIPTION:
URL:https://vancouvervikings.ca/event/jr-2-sgs-13/
LOCATION:BC
CATEGORIES:JR 2
END:VEVENT
BEGIN:VEVENT
DTSTART;TZID=America/Vancouver:20260615T170000
DTEND;TZID=America/Vancouver:20260615T180000
DTSTAMP:20260425T073118
CREATED:20260424T153646Z
LAST-MODIFIED:20260424T153646Z
UID:10006697-1781542800-1781546400@vancouvervikings.ca
SUMMARY:JR 2-SGS
DESCRIPTION:
URL:https://vancouvervikings.ca/event/jr-2-sgs-14/
LOCATION:BC
CATEGORIES:JR 2
END:VEVENT
BEGIN:VEVENT
DTSTART;TZID=America/Vancouver:20260616T160000
DTEND;TZID=America/Vancouver:20260616T170000
DTSTAMP:20260425T073118
CREATED:20260424T153646Z
LAST-MODIFIED:20260424T153646Z
UID:10006702-1781625600-1781629200@vancouvervikings.ca
SUMMARY:JR 2-SGS
DESCRIPTION:
URL:https://vancouvervikings.ca/event/jr-2-sgs-15/
LOCATION:BC
CATEGORIES:JR 2
END:VEVENT
BEGIN:VEVENT
DTSTART;TZID=America/Vancouver:20260617T170000
DTEND;TZID=America/Vancouver:20260617T180000
DTSTAMP:20260425T073118
CREATED:20260424T153646Z
LAST-MODIFIED:20260424T153646Z
UID:10006713-1781715600-1781719200@vancouvervikings.ca
SUMMARY:JR 2-SGS
DESCRIPTION:
URL:https://vancouvervikings.ca/event/jr-2-sgs-16/
LOCATION:BC
CATEGORIES:JR 2
END:VEVENT
BEGIN:VEVENT
DTSTART;TZID=America/Vancouver:20260618T180000
DTEND;TZID=America/Vancouver:20260618T190000
DTSTAMP:20260425T073118
CREATED:20260424T153415Z
LAST-MODIFIED:20260424T153415Z
UID:10006723-1781805600-1781809200@vancouvervikings.ca
SUMMARY:JR 2-JCC
DESCRIPTION:
URL:https://vancouvervikings.ca/event/jr-2-jcc-3/
LOCATION:Jewish Community Centre\, 950 West 41st Avenue\, Vancouver\, BC\, Canada
CATEGORIES:JR 2
END:VEVENT
BEGIN:VEVENT
DTSTART;TZID=America/Vancouver:20260622T170000
DTEND;TZID=America/Vancouver:20260622T180000
DTSTAMP:20260425T073118
CREATED:20260424T153713Z
LAST-MODIFIED:20260424T153713Z
UID:10006735-1782147600-1782151200@vancouvervikings.ca
SUMMARY:JR 2-SGS
DESCRIPTION:
URL:https://vancouvervikings.ca/event/jr-2-sgs-17/
LOCATION:BC
CATEGORIES:JR 2
END:VEVENT
END:VCALENDAR