BEGIN:VCALENDAR
VERSION:2.0
PRODID:-//Vancouver Vikings - ECPv6.15.20//NONSGML v1.0//EN
CALSCALE:GREGORIAN
METHOD:PUBLISH
X-WR-CALNAME:Vancouver Vikings
X-ORIGINAL-URL:https://vancouvervikings.ca
X-WR-CALDESC:Events for Vancouver Vikings
REFRESH-INTERVAL;VALUE=DURATION:PT1H
X-Robots-Tag:noindex
X-PUBLISHED-TTL:PT1H
BEGIN:VTIMEZONE
TZID:America/Vancouver
BEGIN:DAYLIGHT
TZOFFSETFROM:-0800
TZOFFSETTO:-0700
TZNAME:PDT
DTSTART:20250309T100000
END:DAYLIGHT
BEGIN:STANDARD
TZOFFSETFROM:-0700
TZOFFSETTO:-0800
TZNAME:PST
DTSTART:20251102T090000
END:STANDARD
BEGIN:DAYLIGHT
TZOFFSETFROM:-0800
TZOFFSETTO:-0700
TZNAME:PDT
DTSTART:20260308T100000
END:DAYLIGHT
BEGIN:STANDARD
TZOFFSETFROM:-0700
TZOFFSETTO:-0800
TZNAME:PST
DTSTART:20261101T090000
END:STANDARD
BEGIN:DAYLIGHT
TZOFFSETFROM:-0800
TZOFFSETTO:-0700
TZNAME:PDT
DTSTART:20270314T100000
END:DAYLIGHT
BEGIN:STANDARD
TZOFFSETFROM:-0700
TZOFFSETTO:-0800
TZNAME:PST
DTSTART:20271107T090000
END:STANDARD
END:VTIMEZONE
BEGIN:VEVENT
DTSTART;TZID=America/Vancouver:20260608T065000
DTEND;TZID=America/Vancouver:20260608T075000
DTSTAMP:20260425T122723
CREATED:20260424T153626Z
LAST-MODIFIED:20260424T153626Z
UID:10006654-1780901400-1780905000@vancouvervikings.ca
SUMMARY:SR 2-SGS
DESCRIPTION:
URL:https://vancouvervikings.ca/event/sr-2-sgs-12/
LOCATION:BC
CATEGORIES:SR 2
END:VEVENT
BEGIN:VEVENT
DTSTART;TZID=America/Vancouver:20260608T065000
DTEND;TZID=America/Vancouver:20260608T075000
DTSTAMP:20260425T122723
CREATED:20260424T153626Z
LAST-MODIFIED:20260424T153626Z
UID:10006655-1780901400-1780905000@vancouvervikings.ca
SUMMARY:INT 2-SGS
DESCRIPTION:
URL:https://vancouvervikings.ca/event/int-2-sgs-38/
LOCATION:BC
CATEGORIES:INT 2
END:VEVENT
BEGIN:VEVENT
DTSTART;TZID=America/Vancouver:20260608T160000
DTEND;TZID=America/Vancouver:20260608T170000
DTSTAMP:20260425T122723
CREATED:20260424T153626Z
LAST-MODIFIED:20260424T153626Z
UID:10006656-1780934400-1780938000@vancouvervikings.ca
SUMMARY:NOV-SGS
DESCRIPTION:
URL:https://vancouvervikings.ca/event/nov-sgs-3/
LOCATION:BC
CATEGORIES:NOV
END:VEVENT
BEGIN:VEVENT
DTSTART;TZID=America/Vancouver:20260608T160000
DTEND;TZID=America/Vancouver:20260608T170000
DTSTAMP:20260425T122723
CREATED:20260424T153626Z
LAST-MODIFIED:20260424T153626Z
UID:10006657-1780934400-1780938000@vancouvervikings.ca
SUMMARY:JR 3-SGS
DESCRIPTION:
URL:https://vancouvervikings.ca/event/jr-3-sgs-4/
LOCATION:BC
CATEGORIES:JR 3
END:VEVENT
BEGIN:VEVENT
DTSTART;TZID=America/Vancouver:20260608T170000
DTEND;TZID=America/Vancouver:20260608T180000
DTSTAMP:20260425T122723
CREATED:20260424T153626Z
LAST-MODIFIED:20260424T153626Z
UID:10006658-1780938000-1780941600@vancouvervikings.ca
SUMMARY:INT 1-SGS
DESCRIPTION:
URL:https://vancouvervikings.ca/event/int-1-sgs-39/
LOCATION:BC
CATEGORIES:INT 1
END:VEVENT
BEGIN:VEVENT
DTSTART;TZID=America/Vancouver:20260608T170000
DTEND;TZID=America/Vancouver:20260608T180000
DTSTAMP:20260425T122723
CREATED:20260424T153626Z
LAST-MODIFIED:20260424T153626Z
UID:10006659-1780938000-1780941600@vancouvervikings.ca
SUMMARY:JR 2-SGS
DESCRIPTION:
URL:https://vancouvervikings.ca/event/jr-2-sgs-11/
LOCATION:BC
CATEGORIES:JR 2
END:VEVENT
BEGIN:VEVENT
DTSTART;TZID=America/Vancouver:20260608T180000
DTEND;TZID=America/Vancouver:20260608T190000
DTSTAMP:20260425T122723
CREATED:20260424T153322Z
LAST-MODIFIED:20260424T153322Z
UID:10006660-1780941600-1780945200@vancouvervikings.ca
SUMMARY:JR 1-JCC
DESCRIPTION:
URL:https://vancouvervikings.ca/event/jr-1-jcc-3/
LOCATION:Jewish Community Centre\, 950 West 41st Avenue\, Vancouver\, BC\, Canada
CATEGORIES:JR 1
END:VEVENT
BEGIN:VEVENT
DTSTART;TZID=America/Vancouver:20260608T190000
DTEND;TZID=America/Vancouver:20260608T200000
DTSTAMP:20260425T122723
CREATED:20260424T153322Z
LAST-MODIFIED:20260424T153322Z
UID:10006661-1780945200-1780948800@vancouvervikings.ca
SUMMARY:SR 1-UBC
DESCRIPTION:
URL:https://vancouvervikings.ca/event/sr-1-ubc-10/
LOCATION:UBC Aquatic Centre\, 6121 University Blvd\, Vancouver\, BC\, V6T 1Z1\, Canada
CATEGORIES:SR 1
END:VEVENT
END:VCALENDAR