BEGIN:VCALENDAR
VERSION:2.0
PRODID:-//Vancouver Vikings - ECPv6.15.20//NONSGML v1.0//EN
CALSCALE:GREGORIAN
METHOD:PUBLISH
X-WR-CALNAME:Vancouver Vikings
X-ORIGINAL-URL:https://vancouvervikings.ca
X-WR-CALDESC:Events for Vancouver Vikings
REFRESH-INTERVAL;VALUE=DURATION:PT1H
X-Robots-Tag:noindex
X-PUBLISHED-TTL:PT1H
BEGIN:VTIMEZONE
TZID:America/Vancouver
BEGIN:DAYLIGHT
TZOFFSETFROM:-0800
TZOFFSETTO:-0700
TZNAME:PDT
DTSTART:20250309T100000
END:DAYLIGHT
BEGIN:STANDARD
TZOFFSETFROM:-0700
TZOFFSETTO:-0800
TZNAME:PST
DTSTART:20251102T090000
END:STANDARD
BEGIN:DAYLIGHT
TZOFFSETFROM:-0800
TZOFFSETTO:-0700
TZNAME:PDT
DTSTART:20260308T100000
END:DAYLIGHT
BEGIN:STANDARD
TZOFFSETFROM:-0700
TZOFFSETTO:-0800
TZNAME:PST
DTSTART:20261101T090000
END:STANDARD
BEGIN:DAYLIGHT
TZOFFSETFROM:-0800
TZOFFSETTO:-0700
TZNAME:PDT
DTSTART:20270314T100000
END:DAYLIGHT
BEGIN:STANDARD
TZOFFSETFROM:-0700
TZOFFSETTO:-0800
TZNAME:PST
DTSTART:20271107T090000
END:STANDARD
END:VTIMEZONE
BEGIN:VEVENT
DTSTART;TZID=America/Vancouver:20260605T065000
DTEND;TZID=America/Vancouver:20260605T075000
DTSTAMP:20260425T122718
CREATED:20260424T153625Z
LAST-MODIFIED:20260424T153625Z
UID:10006645-1780642200-1780645800@vancouvervikings.ca
SUMMARY:JR 1-SGS
DESCRIPTION:
URL:https://vancouvervikings.ca/event/jr-1-sgs-5/
LOCATION:BC
CATEGORIES:JR 1
END:VEVENT
BEGIN:VEVENT
DTSTART;TZID=America/Vancouver:20260605T065000
DTEND;TZID=America/Vancouver:20260605T075000
DTSTAMP:20260425T122718
CREATED:20260424T153625Z
LAST-MODIFIED:20260424T153625Z
UID:10006646-1780642200-1780645800@vancouvervikings.ca
SUMMARY:INT 1-SGS
DESCRIPTION:
URL:https://vancouvervikings.ca/event/int-1-sgs-38/
LOCATION:BC
CATEGORIES:INT 1
END:VEVENT
BEGIN:VEVENT
DTSTART;TZID=America/Vancouver:20260605T160000
DTEND;TZID=America/Vancouver:20260605T170000
DTSTAMP:20260425T122718
CREATED:20260424T153626Z
LAST-MODIFIED:20260424T153626Z
UID:10006648-1780675200-1780678800@vancouvervikings.ca
SUMMARY:JR 3-SGS
DESCRIPTION:
URL:https://vancouvervikings.ca/event/jr-3-sgs-3/
LOCATION:BC
CATEGORIES:JR 3
END:VEVENT
BEGIN:VEVENT
DTSTART;TZID=America/Vancouver:20260605T160000
DTEND;TZID=America/Vancouver:20260605T170000
DTSTAMP:20260425T122718
CREATED:20260424T153626Z
LAST-MODIFIED:20260424T153626Z
UID:10006647-1780675200-1780678800@vancouvervikings.ca
SUMMARY:JR 2-SGS
DESCRIPTION:
URL:https://vancouvervikings.ca/event/jr-2-sgs-10/
LOCATION:BC
CATEGORIES:JR 2
END:VEVENT
BEGIN:VEVENT
DTSTART;TZID=America/Vancouver:20260605T183000
DTEND;TZID=America/Vancouver:20260605T193000
DTSTAMP:20260425T122718
CREATED:20260424T153626Z
LAST-MODIFIED:20260424T153626Z
UID:10006649-1780684200-1780687800@vancouvervikings.ca
SUMMARY:SR 2-SGS
DESCRIPTION:
URL:https://vancouvervikings.ca/event/sr-2-sgs-11/
LOCATION:BC
CATEGORIES:SR 2
END:VEVENT
BEGIN:VEVENT
DTSTART;TZID=America/Vancouver:20260605T183000
DTEND;TZID=America/Vancouver:20260605T193000
DTSTAMP:20260425T122718
CREATED:20260424T153626Z
LAST-MODIFIED:20260424T153626Z
UID:10006650-1780684200-1780687800@vancouvervikings.ca
SUMMARY:INT 2-SGS
DESCRIPTION:
URL:https://vancouvervikings.ca/event/int-2-sgs-37/
LOCATION:BC
CATEGORIES:INT 2
END:VEVENT
BEGIN:VEVENT
DTSTART;TZID=America/Vancouver:20260605T193000
DTEND;TZID=America/Vancouver:20260605T203000
DTSTAMP:20260425T122718
CREATED:20260424T153626Z
LAST-MODIFIED:20260424T153626Z
UID:10006651-1780687800-1780691400@vancouvervikings.ca
SUMMARY:SR 1-SGS
DESCRIPTION:
URL:https://vancouvervikings.ca/event/sr-1-sgs-4/
LOCATION:BC
CATEGORIES:SR 1
END:VEVENT
END:VCALENDAR