BEGIN:VCALENDAR
VERSION:2.0
PRODID:-//Vancouver Vikings - ECPv6.15.20//NONSGML v1.0//EN
CALSCALE:GREGORIAN
METHOD:PUBLISH
X-WR-CALNAME:Vancouver Vikings
X-ORIGINAL-URL:https://vancouvervikings.ca
X-WR-CALDESC:Events for Vancouver Vikings
REFRESH-INTERVAL;VALUE=DURATION:PT1H
X-Robots-Tag:noindex
X-PUBLISHED-TTL:PT1H
BEGIN:VTIMEZONE
TZID:America/Vancouver
BEGIN:DAYLIGHT
TZOFFSETFROM:-0800
TZOFFSETTO:-0700
TZNAME:PDT
DTSTART:20250309T100000
END:DAYLIGHT
BEGIN:STANDARD
TZOFFSETFROM:-0700
TZOFFSETTO:-0800
TZNAME:PST
DTSTART:20251102T090000
END:STANDARD
BEGIN:DAYLIGHT
TZOFFSETFROM:-0800
TZOFFSETTO:-0700
TZNAME:PDT
DTSTART:20260308T100000
END:DAYLIGHT
BEGIN:STANDARD
TZOFFSETFROM:-0700
TZOFFSETTO:-0800
TZNAME:PST
DTSTART:20261101T090000
END:STANDARD
BEGIN:DAYLIGHT
TZOFFSETFROM:-0800
TZOFFSETTO:-0700
TZNAME:PDT
DTSTART:20270314T100000
END:DAYLIGHT
BEGIN:STANDARD
TZOFFSETFROM:-0700
TZOFFSETTO:-0800
TZNAME:PST
DTSTART:20271107T090000
END:STANDARD
END:VTIMEZONE
BEGIN:VEVENT
DTSTART;TZID=America/Vancouver:20260524T170000
DTEND;TZID=America/Vancouver:20260524T180000
DTSTAMP:20260425T105244
CREATED:20260424T153211Z
LAST-MODIFIED:20260424T153211Z
UID:10006580-1779642000-1779645600@vancouvervikings.ca
SUMMARY:JR 2-LB
DESCRIPTION:
URL:https://vancouvervikings.ca/event/jr-2-lb-6/
LOCATION:Lord Byng Pool\, 3990 W 14th Ave\, Vancouver\, BC\, Canada
CATEGORIES:JR 2
END:VEVENT
BEGIN:VEVENT
DTSTART;TZID=America/Vancouver:20260524T170000
DTEND;TZID=America/Vancouver:20260524T180000
DTSTAMP:20260425T105244
CREATED:20260424T153211Z
LAST-MODIFIED:20260424T153211Z
UID:10006581-1779642000-1779645600@vancouvervikings.ca
SUMMARY:JR 1-LB
DESCRIPTION:
URL:https://vancouvervikings.ca/event/jr-1-lb-10/
LOCATION:Lord Byng Pool\, 3990 W 14th Ave\, Vancouver\, BC\, Canada
CATEGORIES:JR 1
END:VEVENT
BEGIN:VEVENT
DTSTART;TZID=America/Vancouver:20260524T180000
DTEND;TZID=America/Vancouver:20260524T190000
DTSTAMP:20260425T105244
CREATED:20260424T153225Z
LAST-MODIFIED:20260424T153225Z
UID:10006582-1779645600-1779649200@vancouvervikings.ca
SUMMARY:INT 2-LB
DESCRIPTION:
URL:https://vancouvervikings.ca/event/int-2-lb-13/
LOCATION:Lord Byng Pool\, 3990 W 14th Ave\, Vancouver\, BC\, Canada
CATEGORIES:INT 2
END:VEVENT
BEGIN:VEVENT
DTSTART;TZID=America/Vancouver:20260524T180000
DTEND;TZID=America/Vancouver:20260524T190000
DTSTAMP:20260425T105244
CREATED:20260424T153225Z
LAST-MODIFIED:20260424T153225Z
UID:10006583-1779645600-1779649200@vancouvervikings.ca
SUMMARY:INT 1-LB
DESCRIPTION:
URL:https://vancouvervikings.ca/event/int-1-lb-10/
LOCATION:Lord Byng Pool\, 3990 W 14th Ave\, Vancouver\, BC\, Canada
CATEGORIES:INT 1
END:VEVENT
BEGIN:VEVENT
DTSTART;TZID=America/Vancouver:20260524T190000
DTEND;TZID=America/Vancouver:20260524T200000
DTSTAMP:20260425T105244
CREATED:20260424T153225Z
LAST-MODIFIED:20260424T153225Z
UID:10006584-1779649200-1779652800@vancouvervikings.ca
SUMMARY:SR 2-LB
DESCRIPTION:
URL:https://vancouvervikings.ca/event/sr-2-lb-3/
LOCATION:Lord Byng Pool\, 3990 W 14th Ave\, Vancouver\, BC\, Canada
CATEGORIES:SR 2
END:VEVENT
BEGIN:VEVENT
DTSTART;TZID=America/Vancouver:20260524T190000
DTEND;TZID=America/Vancouver:20260524T200000
DTSTAMP:20260425T105244
CREATED:20260424T153225Z
LAST-MODIFIED:20260424T153225Z
UID:10006585-1779649200-1779652800@vancouvervikings.ca
SUMMARY:SR 1-LB
DESCRIPTION:
URL:https://vancouvervikings.ca/event/sr-1-lb-5/
LOCATION:Lord Byng Pool\, 3990 W 14th Ave\, Vancouver\, BC\, Canada
CATEGORIES:SR 1
END:VEVENT
END:VCALENDAR