BEGIN:VCALENDAR
VERSION:2.0
PRODID:-//Vancouver Vikings - ECPv6.15.20//NONSGML v1.0//EN
CALSCALE:GREGORIAN
METHOD:PUBLISH
X-WR-CALNAME:Vancouver Vikings
X-ORIGINAL-URL:https://vancouvervikings.ca
X-WR-CALDESC:Events for Vancouver Vikings
REFRESH-INTERVAL;VALUE=DURATION:PT1H
X-Robots-Tag:noindex
X-PUBLISHED-TTL:PT1H
BEGIN:VTIMEZONE
TZID:America/Vancouver
BEGIN:DAYLIGHT
TZOFFSETFROM:-0800
TZOFFSETTO:-0700
TZNAME:PDT
DTSTART:20250309T100000
END:DAYLIGHT
BEGIN:STANDARD
TZOFFSETFROM:-0700
TZOFFSETTO:-0800
TZNAME:PST
DTSTART:20251102T090000
END:STANDARD
BEGIN:DAYLIGHT
TZOFFSETFROM:-0800
TZOFFSETTO:-0700
TZNAME:PDT
DTSTART:20260308T100000
END:DAYLIGHT
BEGIN:STANDARD
TZOFFSETFROM:-0700
TZOFFSETTO:-0800
TZNAME:PST
DTSTART:20261101T090000
END:STANDARD
BEGIN:DAYLIGHT
TZOFFSETFROM:-0800
TZOFFSETTO:-0700
TZNAME:PDT
DTSTART:20270314T100000
END:DAYLIGHT
BEGIN:STANDARD
TZOFFSETFROM:-0700
TZOFFSETTO:-0800
TZNAME:PST
DTSTART:20271107T090000
END:STANDARD
END:VTIMEZONE
BEGIN:VEVENT
DTSTART;TZID=America/Vancouver:20260505T063000
DTEND;TZID=America/Vancouver:20260505T073000
DTSTAMP:20260425T105247
CREATED:20260424T153053Z
LAST-MODIFIED:20260424T153053Z
UID:10006481-1777962600-1777966200@vancouvervikings.ca
SUMMARY:SR 1-HC
DESCRIPTION:
URL:https://vancouvervikings.ca/event/sr-1-hc/
LOCATION:Hillcrest Aquatic Centre
CATEGORIES:SR 1
END:VEVENT
BEGIN:VEVENT
DTSTART;TZID=America/Vancouver:20260505T170000
DTEND;TZID=America/Vancouver:20260505T180000
DTSTAMP:20260425T105247
CREATED:20260424T153054Z
LAST-MODIFIED:20260424T153054Z
UID:10006482-1778000400-1778004000@vancouvervikings.ca
SUMMARY:NOV-LB
DESCRIPTION:
URL:https://vancouvervikings.ca/event/nov-lb-30/
LOCATION:Lord Byng Pool\, 3990 W 14th Ave\, Vancouver\, BC\, Canada
CATEGORIES:NOV
END:VEVENT
BEGIN:VEVENT
DTSTART;TZID=America/Vancouver:20260505T170000
DTEND;TZID=America/Vancouver:20260505T180000
DTSTAMP:20260425T105247
CREATED:20260424T153054Z
LAST-MODIFIED:20260424T153054Z
UID:10006483-1778000400-1778004000@vancouvervikings.ca
SUMMARY:JR 3-LB
DESCRIPTION:
URL:https://vancouvervikings.ca/event/jr-3-lb-2/
LOCATION:Lord Byng Pool\, 3990 W 14th Ave\, Vancouver\, BC\, Canada
CATEGORIES:JR 3
END:VEVENT
BEGIN:VEVENT
DTSTART;TZID=America/Vancouver:20260505T180000
DTEND;TZID=America/Vancouver:20260505T190000
DTSTAMP:20260425T105247
CREATED:20260424T153054Z
LAST-MODIFIED:20260424T153054Z
UID:10006484-1778004000-1778007600@vancouvervikings.ca
SUMMARY:JR 1-LB
DESCRIPTION:
URL:https://vancouvervikings.ca/event/jr-1-lb-2/
LOCATION:Lord Byng Pool\, 3990 W 14th Ave\, Vancouver\, BC\, Canada
CATEGORIES:JR 1
END:VEVENT
BEGIN:VEVENT
DTSTART;TZID=America/Vancouver:20260505T190000
DTEND;TZID=America/Vancouver:20260505T200000
DTSTAMP:20260425T105247
CREATED:20260424T153054Z
LAST-MODIFIED:20260424T153054Z
UID:10006485-1778007600-1778011200@vancouvervikings.ca
SUMMARY:INT 1-UBC
DESCRIPTION:
URL:https://vancouvervikings.ca/event/int-1-ubc/
LOCATION:UBC Aquatic Centre\, 6121 University Blvd\, Vancouver\, BC\, V6T 1Z1\, Canada
CATEGORIES:INT 1
END:VEVENT
BEGIN:VEVENT
DTSTART;TZID=America/Vancouver:20260505T190000
DTEND;TZID=America/Vancouver:20260505T200000
DTSTAMP:20260425T105247
CREATED:20260424T153129Z
LAST-MODIFIED:20260424T153129Z
UID:10006486-1778007600-1778011200@vancouvervikings.ca
SUMMARY:SR 2-UBC
DESCRIPTION:
URL:https://vancouvervikings.ca/event/sr-2-ubc/
LOCATION:UBC Aquatic Centre\, 6121 University Blvd\, Vancouver\, BC\, V6T 1Z1\, Canada
CATEGORIES:SR 2
END:VEVENT
END:VCALENDAR