BEGIN:VCALENDAR
VERSION:2.0
PRODID:-//Vancouver Vikings - ECPv6.15.20//NONSGML v1.0//EN
CALSCALE:GREGORIAN
METHOD:PUBLISH
X-WR-CALNAME:Vancouver Vikings
X-ORIGINAL-URL:https://vancouvervikings.ca
X-WR-CALDESC:Events for Vancouver Vikings
REFRESH-INTERVAL;VALUE=DURATION:PT1H
X-Robots-Tag:noindex
X-PUBLISHED-TTL:PT1H
BEGIN:VTIMEZONE
TZID:America/Vancouver
BEGIN:DAYLIGHT
TZOFFSETFROM:-0800
TZOFFSETTO:-0700
TZNAME:PDT
DTSTART:20250309T100000
END:DAYLIGHT
BEGIN:STANDARD
TZOFFSETFROM:-0700
TZOFFSETTO:-0800
TZNAME:PST
DTSTART:20251102T090000
END:STANDARD
BEGIN:DAYLIGHT
TZOFFSETFROM:-0800
TZOFFSETTO:-0700
TZNAME:PDT
DTSTART:20260308T100000
END:DAYLIGHT
BEGIN:STANDARD
TZOFFSETFROM:-0700
TZOFFSETTO:-0800
TZNAME:PST
DTSTART:20261101T090000
END:STANDARD
BEGIN:DAYLIGHT
TZOFFSETFROM:-0800
TZOFFSETTO:-0700
TZNAME:PDT
DTSTART:20270314T100000
END:DAYLIGHT
BEGIN:STANDARD
TZOFFSETFROM:-0700
TZOFFSETTO:-0800
TZNAME:PST
DTSTART:20271107T090000
END:STANDARD
END:VTIMEZONE
BEGIN:VEVENT
DTSTART;TZID=America/Vancouver:20260502T170000
DTEND;TZID=America/Vancouver:20260502T180000
DTSTAMP:20260425T072948
CREATED:20260424T153053Z
LAST-MODIFIED:20260424T153053Z
UID:10006467-1777741200-1777744800@vancouvervikings.ca
SUMMARY:NOV-LB
DESCRIPTION:
URL:https://vancouvervikings.ca/event/nov-lb-29/
LOCATION:Lord Byng Pool\, 3990 W 14th Ave\, Vancouver\, BC\, Canada
CATEGORIES:NOV
END:VEVENT
BEGIN:VEVENT
DTSTART;TZID=America/Vancouver:20260502T170000
DTEND;TZID=America/Vancouver:20260502T180000
DTSTAMP:20260425T072948
CREATED:20260424T153053Z
LAST-MODIFIED:20260424T153053Z
UID:10006468-1777741200-1777744800@vancouvervikings.ca
SUMMARY:INT 1-LB
DESCRIPTION:
URL:https://vancouvervikings.ca/event/int-1-lb-5/
LOCATION:Lord Byng Pool\, 3990 W 14th Ave\, Vancouver\, BC\, Canada
CATEGORIES:INT 1
END:VEVENT
BEGIN:VEVENT
DTSTART;TZID=America/Vancouver:20260502T180000
DTEND;TZID=America/Vancouver:20260502T190000
DTSTAMP:20260425T072948
CREATED:20260424T153053Z
LAST-MODIFIED:20260424T153053Z
UID:10006469-1777744800-1777748400@vancouvervikings.ca
SUMMARY:JR 3-LB
DESCRIPTION:
URL:https://vancouvervikings.ca/event/jr-3-lb/
LOCATION:Lord Byng Pool\, 3990 W 14th Ave\, Vancouver\, BC\, Canada
CATEGORIES:JR 3
END:VEVENT
BEGIN:VEVENT
DTSTART;TZID=America/Vancouver:20260502T180000
DTEND;TZID=America/Vancouver:20260502T190000
DTSTAMP:20260425T072948
CREATED:20260424T153053Z
LAST-MODIFIED:20260424T153053Z
UID:10006470-1777744800-1777748400@vancouvervikings.ca
SUMMARY:SR 2-LB
DESCRIPTION:
URL:https://vancouvervikings.ca/event/sr-2-lb/
LOCATION:Lord Byng Pool\, 3990 W 14th Ave\, Vancouver\, BC\, Canada
CATEGORIES:SR 2
END:VEVENT
BEGIN:VEVENT
DTSTART;TZID=America/Vancouver:20260502T190000
DTEND;TZID=America/Vancouver:20260502T200000
DTSTAMP:20260425T072948
CREATED:20260424T153053Z
LAST-MODIFIED:20260424T153053Z
UID:10006471-1777748400-1777752000@vancouvervikings.ca
SUMMARY:SR 1-LB
DESCRIPTION:
URL:https://vancouvervikings.ca/event/sr-1-lb/
LOCATION:Lord Byng Pool\, 3990 W 14th Ave\, Vancouver\, BC\, Canada
CATEGORIES:SR 1
END:VEVENT
END:VCALENDAR