BEGIN:VCALENDAR
VERSION:2.0
PRODID:-//Vancouver Vikings - ECPv6.15.20//NONSGML v1.0//EN
CALSCALE:GREGORIAN
METHOD:PUBLISH
X-WR-CALNAME:Vancouver Vikings
X-ORIGINAL-URL:https://vancouvervikings.ca
X-WR-CALDESC:Events for Vancouver Vikings
REFRESH-INTERVAL;VALUE=DURATION:PT1H
X-Robots-Tag:noindex
X-PUBLISHED-TTL:PT1H
BEGIN:VTIMEZONE
TZID:America/Vancouver
BEGIN:DAYLIGHT
TZOFFSETFROM:-0800
TZOFFSETTO:-0700
TZNAME:PDT
DTSTART:20250309T100000
END:DAYLIGHT
BEGIN:STANDARD
TZOFFSETFROM:-0700
TZOFFSETTO:-0800
TZNAME:PST
DTSTART:20251102T090000
END:STANDARD
BEGIN:DAYLIGHT
TZOFFSETFROM:-0800
TZOFFSETTO:-0700
TZNAME:PDT
DTSTART:20260308T100000
END:DAYLIGHT
BEGIN:STANDARD
TZOFFSETFROM:-0700
TZOFFSETTO:-0800
TZNAME:PST
DTSTART:20261101T090000
END:STANDARD
BEGIN:DAYLIGHT
TZOFFSETFROM:-0800
TZOFFSETTO:-0700
TZNAME:PDT
DTSTART:20270314T100000
END:DAYLIGHT
BEGIN:STANDARD
TZOFFSETFROM:-0700
TZOFFSETTO:-0800
TZNAME:PST
DTSTART:20271107T090000
END:STANDARD
END:VTIMEZONE
BEGIN:VEVENT
DTSTART;TZID=America/Vancouver:20260501T065000
DTEND;TZID=America/Vancouver:20260501T075000
DTSTAMP:20260425T072100
CREATED:20260422T044150Z
LAST-MODIFIED:20260424T153053Z
UID:10006462-1777618200-1777621800@vancouvervikings.ca
SUMMARY:JR 1-SGS
DESCRIPTION:
URL:https://vancouvervikings.ca/event/__trashed-5/
LOCATION:St. George’s Senior School\, 4175 W 29th Ave\, Vancouver\, BC\, V6S 1V1\, Canada
CATEGORIES:JR 1
END:VEVENT
BEGIN:VEVENT
DTSTART;TZID=America/Vancouver:20260501T065000
DTEND;TZID=America/Vancouver:20260501T075000
DTSTAMP:20260425T072100
CREATED:20260422T044150Z
LAST-MODIFIED:20260424T153053Z
UID:10006461-1777618200-1777621800@vancouvervikings.ca
SUMMARY:INT 1-SGS
DESCRIPTION:
URL:https://vancouvervikings.ca/event/__trashed-4/
LOCATION:St. George’s Senior School\, 4175 W 29th Ave\, Vancouver\, BC\, V6S 1V1\, Canada
CATEGORIES:INT 1
END:VEVENT
BEGIN:VEVENT
DTSTART;TZID=America/Vancouver:20260501T183000
DTEND;TZID=America/Vancouver:20260501T193000
DTSTAMP:20260425T072100
CREATED:20260422T044150Z
LAST-MODIFIED:20260424T153053Z
UID:10006463-1777660200-1777663800@vancouvervikings.ca
SUMMARY:JR 2-SGS
DESCRIPTION:
URL:https://vancouvervikings.ca/event/__trashed-2/
LOCATION:St. George’s Senior School\, 4175 W 29th Ave\, Vancouver\, BC\, V6S 1V1\, Canada
CATEGORIES:JR 2
END:VEVENT
BEGIN:VEVENT
DTSTART;TZID=America/Vancouver:20260501T183000
DTEND;TZID=America/Vancouver:20260501T193000
DTSTAMP:20260425T072100
CREATED:20260422T044150Z
LAST-MODIFIED:20260424T153053Z
UID:10006464-1777660200-1777663800@vancouvervikings.ca
SUMMARY:INT 2-SGS
DESCRIPTION:
URL:https://vancouvervikings.ca/event/__trashed-3/
LOCATION:St. George’s Senior School\, 4175 W 29th Ave\, Vancouver\, BC\, V6S 1V1\, Canada
CATEGORIES:INT 2
END:VEVENT
BEGIN:VEVENT
DTSTART;TZID=America/Vancouver:20260501T193000
DTEND;TZID=America/Vancouver:20260501T203000
DTSTAMP:20260425T072100
CREATED:20260422T044150Z
LAST-MODIFIED:20260424T153053Z
UID:10006465-1777663800-1777667400@vancouvervikings.ca
SUMMARY:SR 2-SGS
DESCRIPTION:
URL:https://vancouvervikings.ca/event/__trashed/
LOCATION:St. George’s Senior School\, 4175 W 29th Ave\, Vancouver\, BC\, V6S 1V1\, Canada
CATEGORIES:SR 2
END:VEVENT
BEGIN:VEVENT
DTSTART;TZID=America/Vancouver:20260501T193000
DTEND;TZID=America/Vancouver:20260501T203000
DTSTAMP:20260425T072100
CREATED:20260424T153416Z
LAST-MODIFIED:20260424T153416Z
UID:10006466-1777663800-1777667400@vancouvervikings.ca
SUMMARY:SR 1-SGS
DESCRIPTION:
URL:https://vancouvervikings.ca/event/sr-1-sgs/
LOCATION:BC
CATEGORIES:SR 1
END:VEVENT
END:VCALENDAR